BEGIN:VCALENDAR
VERSION:2.0
PRODID:-//Carroll County Tourism | Carroll County, Maryland - ECPv6.15.17//NONSGML v1.0//EN
CALSCALE:GREGORIAN
METHOD:PUBLISH
X-WR-CALNAME:Carroll County Tourism | Carroll County, Maryland
X-ORIGINAL-URL:https://carrollcountytourism.org
X-WR-CALDESC:Events for Carroll County Tourism | Carroll County, Maryland
REFRESH-INTERVAL;VALUE=DURATION:PT1H
X-Robots-Tag:noindex
X-PUBLISHED-TTL:PT1H
BEGIN:VTIMEZONE
TZID:America/New_York
BEGIN:DAYLIGHT
TZOFFSETFROM:-0500
TZOFFSETTO:-0400
TZNAME:EDT
DTSTART:20250309T070000
END:DAYLIGHT
BEGIN:STANDARD
TZOFFSETFROM:-0400
TZOFFSETTO:-0500
TZNAME:EST
DTSTART:20251102T060000
END:STANDARD
BEGIN:DAYLIGHT
TZOFFSETFROM:-0500
TZOFFSETTO:-0400
TZNAME:EDT
DTSTART:20260308T070000
END:DAYLIGHT
BEGIN:STANDARD
TZOFFSETFROM:-0400
TZOFFSETTO:-0500
TZNAME:EST
DTSTART:20261101T060000
END:STANDARD
BEGIN:DAYLIGHT
TZOFFSETFROM:-0500
TZOFFSETTO:-0400
TZNAME:EDT
DTSTART:20270314T070000
END:DAYLIGHT
BEGIN:STANDARD
TZOFFSETFROM:-0400
TZOFFSETTO:-0500
TZNAME:EST
DTSTART:20271107T060000
END:STANDARD
END:VTIMEZONE
BEGIN:VEVENT
DTSTART;TZID=America/New_York:20260421T120000
DTEND;TZID=America/New_York:20260421T130000
DTSTAMP:20260421T024858
CREATED:20260123T153834Z
LAST-MODIFIED:20260324T131016Z
UID:10012846-1776772800-1776776400@carrollcountytourism.org
SUMMARY:Box Lunch Talk: Memories of Oakland Mills Before the Building of Liberty Reservoir
DESCRIPTION:Presented by The Liberty Reservoir History Group \nThe town of Oakland Mills existed in the Southeast corner of Carroll County prior to its demolition by Baltimore City to facilitate the damming of the North Branch of the Patapsco River. This talk features two speakers\, one who lived in the town prior to the reservoir and the other whose mother was born and raised in Oakland Mills while her father grew up on a farm on Ridge Road. They are cousins and will share personal and family memories of the town\, events surrounding the closing of the mill\, destruction of the town and with it….a way of life. \nThe Liberty Reservoir History Group is an informal gathering of individuals who meet monthly to capture the history of the land and life stories of the people impacted by the building of Liberty Reservoir which was completed in 1953. \nElaine McLaughlin and Wallie Meeks are members who shared their childhood memories at previous group meetings and now have a chance to share them with you! \nAs always\, there is no registration for Box Lunch Talks. You bring your lunch\, and we provide the drinks and desserts (thanks to our volunteers and staff). The cost is $3 for HSCC members and $5 for nonmembers.
URL:https://carrollcountytourism.org/event/box-lunch-talk-memories-of-oakland-mills-before-the-building-of-liberty-reservoir/
LOCATION:Historical Society of Carroll County\, 210 East Main Street\, Westminster\, MD\, 21157\, United States
CATEGORIES:Tourism Events
ATTACH;FMTTYPE=image/jpeg:https://carrollcountytourism.org/wp-content/uploads/2024/10/event_hscc_boxlunch.jpg
END:VEVENT
BEGIN:VEVENT
DTSTART;TZID=America/New_York:20260421T170000
DTEND;TZID=America/New_York:20260421T220000
DTSTAMP:20260421T024858
CREATED:20260320T184940Z
LAST-MODIFIED:20260320T185004Z
UID:10013408-1776790800-1776808800@carrollcountytourism.org
SUMMARY:Gamber & Community Fire Co. - Weekly Bingo
DESCRIPTION:Join us each week for BINGO! Doors open at 5\, regular games start at 7pm. Specials\, pull tabs and food avaliable for purchase
URL:https://carrollcountytourism.org/event/weekly-bingo/2026-04-21/
LOCATION:Gamber & Community Fire Company\, 3838 Niner Road\, Finksburg\, United States
CATEGORIES:Tourism Events
ATTACH;FMTTYPE=image/jpeg:https://carrollcountytourism.org/wp-content/uploads/2026/03/event_gambervfd_bingo.jpg
END:VEVENT
BEGIN:VEVENT
DTSTART;TZID=America/New_York:20260421T183000
DTEND;TZID=America/New_York:20260421T193000
DTSTAMP:20260421T024858
CREATED:20260416T193140Z
LAST-MODIFIED:20260416T193140Z
UID:10013871-1776796200-1776799800@carrollcountytourism.org
SUMMARY:Book Release Party: Navigating Her Next Chapter by Jean Burgess
DESCRIPTION:For Adults. Join us for a special book release party including an author talk\, book sales\, and book signing. Refreshments will be provided. \nJean Burgess is a writer\, editor\, playwright\, and workshop presenter. As a former professional stage actor and director\, many of her written works relate to the arts\, including her debut novel\, That Summer She Found Her Voice: A Retro Novel. In Navigating Her Next Chapter: A Retro Novel\, Margie Stevens\, a 26-year-old aspiring writer\, moves from Maryland’s Eastern Shore to New York City. Initially overwhelmed by the contrasts between small-town life and NYC\, Margie takes a job at Radio City Music Hall to pay the bills while she slowly learns how to navigate city life. \nRegistration is required. Visit site for details.
URL:https://carrollcountytourism.org/event/book-release-party-navigating-her-next-chapter-by-jean-burgess/
LOCATION:Exploration Commons At 50 East\, 50 East Main Street\, Westminster\, MD\, 21157\, United States
CATEGORIES:Tourism Events
ATTACH;FMTTYPE=image/jpeg:https://carrollcountytourism.org/wp-content/uploads/2023/01/event_CCPLgeneral.jpg
ORGANIZER;CN="Carroll County Public Library":MAILTO:ask@carr.org
END:VEVENT
END:VCALENDAR