BEGIN:VCALENDAR
VERSION:2.0
PRODID:-//Carroll County Tourism | Carroll County, Maryland - ECPv6.15.17//NONSGML v1.0//EN
CALSCALE:GREGORIAN
METHOD:PUBLISH
X-WR-CALNAME:Carroll County Tourism | Carroll County, Maryland
X-ORIGINAL-URL:https://carrollcountytourism.org
X-WR-CALDESC:Events for Carroll County Tourism | Carroll County, Maryland
REFRESH-INTERVAL;VALUE=DURATION:PT1H
X-Robots-Tag:noindex
X-PUBLISHED-TTL:PT1H
BEGIN:VTIMEZONE
TZID:America/New_York
BEGIN:DAYLIGHT
TZOFFSETFROM:-0500
TZOFFSETTO:-0400
TZNAME:EDT
DTSTART:20250309T070000
END:DAYLIGHT
BEGIN:STANDARD
TZOFFSETFROM:-0400
TZOFFSETTO:-0500
TZNAME:EST
DTSTART:20251102T060000
END:STANDARD
BEGIN:DAYLIGHT
TZOFFSETFROM:-0500
TZOFFSETTO:-0400
TZNAME:EDT
DTSTART:20260308T070000
END:DAYLIGHT
BEGIN:STANDARD
TZOFFSETFROM:-0400
TZOFFSETTO:-0500
TZNAME:EST
DTSTART:20261101T060000
END:STANDARD
BEGIN:DAYLIGHT
TZOFFSETFROM:-0500
TZOFFSETTO:-0400
TZNAME:EDT
DTSTART:20270314T070000
END:DAYLIGHT
BEGIN:STANDARD
TZOFFSETFROM:-0400
TZOFFSETTO:-0500
TZNAME:EST
DTSTART:20271107T060000
END:STANDARD
END:VTIMEZONE
BEGIN:VEVENT
DTSTART;TZID=America/New_York:20260430T193000
DTEND;TZID=America/New_York:20260430T223000
DTSTAMP:20260420T173836
CREATED:20260225T185507Z
LAST-MODIFIED:20260225T185507Z
UID:10012933-1777577400-1777588200@carrollcountytourism.org
SUMMARY:McDaniel College - One-Act Play Festival
DESCRIPTION:Dorothy Elderdice Studio Theatre\, WMC Alumni Hall  \n McDaniel College students direct and perform a selection of 10-minute\, one-act plays.
URL:https://carrollcountytourism.org/event/mcdaniel-college-one-act-play-festival/2026-04-30/
LOCATION:Dorothy Elderdice Studio Theatre\, WMC Alumni Hall\, 2 College Hill\, Westminster\, MD 21157\, Westminster\, MD\, 21157\, United States
CATEGORIES:Tourism Events
ATTACH;FMTTYPE=image/jpeg:https://carrollcountytourism.org/wp-content/uploads/2026/02/event_oneactplayfestival.jpg
ORGANIZER;CN="McDaniel College":MAILTO:ocm@mcdaniel.edu
END:VEVENT
BEGIN:VEVENT
DTSTART;TZID=America/New_York:20260501T193000
DTEND;TZID=America/New_York:20260501T223000
DTSTAMP:20260420T173836
CREATED:20260225T185507Z
LAST-MODIFIED:20260225T185507Z
UID:10012934-1777663800-1777674600@carrollcountytourism.org
SUMMARY:McDaniel College - One-Act Play Festival
DESCRIPTION:Dorothy Elderdice Studio Theatre\, WMC Alumni Hall  \n McDaniel College students direct and perform a selection of 10-minute\, one-act plays.
URL:https://carrollcountytourism.org/event/mcdaniel-college-one-act-play-festival/2026-05-01/
LOCATION:Dorothy Elderdice Studio Theatre\, WMC Alumni Hall\, 2 College Hill\, Westminster\, MD 21157\, Westminster\, MD\, 21157\, United States
CATEGORIES:Tourism Events
ATTACH;FMTTYPE=image/jpeg:https://carrollcountytourism.org/wp-content/uploads/2026/02/event_oneactplayfestival.jpg
ORGANIZER;CN="McDaniel College":MAILTO:ocm@mcdaniel.edu
END:VEVENT
BEGIN:VEVENT
DTSTART;TZID=America/New_York:20260502T193000
DTEND;TZID=America/New_York:20260502T223000
DTSTAMP:20260420T173836
CREATED:20260225T185507Z
LAST-MODIFIED:20260225T185507Z
UID:10012935-1777750200-1777761000@carrollcountytourism.org
SUMMARY:McDaniel College - One-Act Play Festival
DESCRIPTION:Dorothy Elderdice Studio Theatre\, WMC Alumni Hall  \n McDaniel College students direct and perform a selection of 10-minute\, one-act plays.
URL:https://carrollcountytourism.org/event/mcdaniel-college-one-act-play-festival/2026-05-02/
LOCATION:Dorothy Elderdice Studio Theatre\, WMC Alumni Hall\, 2 College Hill\, Westminster\, MD 21157\, Westminster\, MD\, 21157\, United States
CATEGORIES:Tourism Events
ATTACH;FMTTYPE=image/jpeg:https://carrollcountytourism.org/wp-content/uploads/2026/02/event_oneactplayfestival.jpg
ORGANIZER;CN="McDaniel College":MAILTO:ocm@mcdaniel.edu
END:VEVENT
END:VCALENDAR