BEGIN:VCALENDAR
VERSION:2.0
PRODID:-//Carroll County Tourism | Carroll County, Maryland - ECPv6.15.17//NONSGML v1.0//EN
CALSCALE:GREGORIAN
METHOD:PUBLISH
X-WR-CALNAME:Carroll County Tourism | Carroll County, Maryland
X-ORIGINAL-URL:https://carrollcountytourism.org
X-WR-CALDESC:Events for Carroll County Tourism | Carroll County, Maryland
REFRESH-INTERVAL;VALUE=DURATION:PT1H
X-Robots-Tag:noindex
X-PUBLISHED-TTL:PT1H
BEGIN:VTIMEZONE
TZID:America/New_York
BEGIN:DAYLIGHT
TZOFFSETFROM:-0500
TZOFFSETTO:-0400
TZNAME:EDT
DTSTART:20250309T070000
END:DAYLIGHT
BEGIN:STANDARD
TZOFFSETFROM:-0400
TZOFFSETTO:-0500
TZNAME:EST
DTSTART:20251102T060000
END:STANDARD
BEGIN:DAYLIGHT
TZOFFSETFROM:-0500
TZOFFSETTO:-0400
TZNAME:EDT
DTSTART:20260308T070000
END:DAYLIGHT
BEGIN:STANDARD
TZOFFSETFROM:-0400
TZOFFSETTO:-0500
TZNAME:EST
DTSTART:20261101T060000
END:STANDARD
BEGIN:DAYLIGHT
TZOFFSETFROM:-0500
TZOFFSETTO:-0400
TZNAME:EDT
DTSTART:20270314T070000
END:DAYLIGHT
BEGIN:STANDARD
TZOFFSETFROM:-0400
TZOFFSETTO:-0500
TZNAME:EST
DTSTART:20271107T060000
END:STANDARD
END:VTIMEZONE
BEGIN:VEVENT
DTSTART;TZID=America/New_York:20260502T080000
DTEND;TZID=America/New_York:20260502T140000
DTSTAMP:20260422T214432
CREATED:20260421T132806Z
LAST-MODIFIED:20260421T132806Z
UID:10014033-1777708800-1777730400@carrollcountytourism.org
SUMMARY:Humane Society Yard Sale
DESCRIPTION:Come shop for a cause and score some amazing finds while supporting the animals in our care. From household items to hidden treasures\, there’s something for everyone!\n\n\n All items are by donation (unless marked at our price-as-listed table)\n Cash\, credit\, and Venmo accepted\n All proceeds go directly to providing lifesaving care for the animals\n\n\n Have items to donate? We’re still accepting donations through April 29th! Your gently used items help make this event a success and directly support the animals.\n\n\nEvery purchase helps give shelter pets the second chances they deserve—so grab your friends\, bring your donation dollars\, and come treasure hunting with purpose!\n\n\nWe can’t wait to see you there!
URL:https://carrollcountytourism.org/event/humane-society-yard-sale/2026-05-02/
LOCATION:Humane Society of Carroll County\, 2517 Littlestown Pike\, Westminster\, MD\, 21158\, United States
CATEGORIES:Tourism Events
ATTACH;FMTTYPE=image/jpeg:https://carrollcountytourism.org/wp-content/uploads/2026/04/event_humanesocietyyardsale.jpg
END:VEVENT
BEGIN:VEVENT
DTSTART;TZID=America/New_York:20260503T100000
DTEND;TZID=America/New_York:20260503T140000
DTSTAMP:20260422T214432
CREATED:20260421T132806Z
LAST-MODIFIED:20260421T132806Z
UID:10014034-1777802400-1777816800@carrollcountytourism.org
SUMMARY:Humane Society Yard Sale
DESCRIPTION:Come shop for a cause and score some amazing finds while supporting the animals in our care. From household items to hidden treasures\, there’s something for everyone!\n\n\n All items are by donation (unless marked at our price-as-listed table)\n Cash\, credit\, and Venmo accepted\n All proceeds go directly to providing lifesaving care for the animals\n\n\n Have items to donate? We’re still accepting donations through April 29th! Your gently used items help make this event a success and directly support the animals.\n\n\nEvery purchase helps give shelter pets the second chances they deserve—so grab your friends\, bring your donation dollars\, and come treasure hunting with purpose!\n\n\nWe can’t wait to see you there!
URL:https://carrollcountytourism.org/event/humane-society-yard-sale/2026-05-03/
LOCATION:Humane Society of Carroll County\, 2517 Littlestown Pike\, Westminster\, MD\, 21158\, United States
CATEGORIES:Tourism Events
ATTACH;FMTTYPE=image/jpeg:https://carrollcountytourism.org/wp-content/uploads/2026/04/event_humanesocietyyardsale.jpg
END:VEVENT
END:VCALENDAR