BEGIN:VCALENDAR
VERSION:2.0
PRODID:-//Carroll County Tourism | Carroll County, Maryland - ECPv6.15.17//NONSGML v1.0//EN
CALSCALE:GREGORIAN
METHOD:PUBLISH
X-ORIGINAL-URL:https://carrollcountytourism.org
X-WR-CALDESC:Events for Carroll County Tourism | Carroll County, Maryland
REFRESH-INTERVAL;VALUE=DURATION:PT1H
X-Robots-Tag:noindex
X-PUBLISHED-TTL:PT1H
BEGIN:VTIMEZONE
TZID:America/New_York
BEGIN:DAYLIGHT
TZOFFSETFROM:-0500
TZOFFSETTO:-0400
TZNAME:EDT
DTSTART:20240310T070000
END:DAYLIGHT
BEGIN:STANDARD
TZOFFSETFROM:-0400
TZOFFSETTO:-0500
TZNAME:EST
DTSTART:20241103T060000
END:STANDARD
BEGIN:DAYLIGHT
TZOFFSETFROM:-0500
TZOFFSETTO:-0400
TZNAME:EDT
DTSTART:20250309T070000
END:DAYLIGHT
BEGIN:STANDARD
TZOFFSETFROM:-0400
TZOFFSETTO:-0500
TZNAME:EST
DTSTART:20251102T060000
END:STANDARD
BEGIN:DAYLIGHT
TZOFFSETFROM:-0500
TZOFFSETTO:-0400
TZNAME:EDT
DTSTART:20260308T070000
END:DAYLIGHT
BEGIN:STANDARD
TZOFFSETFROM:-0400
TZOFFSETTO:-0500
TZNAME:EST
DTSTART:20261101T060000
END:STANDARD
END:VTIMEZONE
BEGIN:VEVENT
DTSTART;TZID=America/New_York:20251018T120000
DTEND;TZID=America/New_York:20251018T160000
DTSTAMP:20260421T043238
CREATED:20250109T193841Z
LAST-MODIFIED:20250912T182557Z
UID:10008115-1760788800-1760803200@carrollcountytourism.org
SUMMARY:Sykesville Fall Festival
DESCRIPTION:The Main Street Fall Fun Festival is a community event that draws families to downtown Sykesville. The Festival features crafts\, games\, demonstrations\, food vendors\, and live entertainment. The festival represents an opportunity for local businesses to highlight their presence within the community and support our nonprofit Main Street program. \nWhen: October 18\, 2025 @ 12:00 pm – 4:00 pm \nWhere: Sykesville Main Street\, 7547 Main Street \nCost: FREE \n2025 Activities and Performances \n*All day activities \n*Facepainting \n*Stilt Walker \n*Juggler \n*Mime \n*Various Crafts \n*Moonbounce \n*Free cotton candy \n12:00 – 2:00pm – Glitter Fairy Godmother \n12:00pm – David French Magic Show \n1:30pm – Carroll County Dance Center Dancers \n2:00pm – Freedom Fire Stars \n2:30pm – David French Magic Show \nMORE TO COME!
URL:https://carrollcountytourism.org/event/sykesville-fall-festival/
LOCATION:Sykesville Main Street\, 7547 Main St\, Sykesville\, MD\, 21784\, United States
CATEGORIES:Tourism Events
ATTACH;FMTTYPE=image/jpeg:https://carrollcountytourism.org/wp-content/uploads/2025/01/event_sykesville_fallfunfest2.jpg
END:VEVENT
BEGIN:VEVENT
DTSTART;TZID=America/New_York:20251019T100000
DTEND;TZID=America/New_York:20251019T150000
DTSTAMP:20260421T043238
CREATED:20241126T193441Z
LAST-MODIFIED:20250922T190159Z
UID:10008014-1760868000-1760886000@carrollcountytourism.org
SUMMARY:Mason-Dixon Jeep Gathering
DESCRIPTION:Come out and see a large collection of Willys and Jeeps at the historic Union Mills Homestead. This is one of the largest vintage Jeep shows on the East Coast. This year is the 19th Anniversary of this annual event. See World War II and Korean War era military Jeeps and the civilian Jeeps and utility vehicles that are the grandfathers of today’s Jeeps & SUVs. \nJeeps can be entered into one of three categories at the show: Best Military Jeep\, Best CJ (Civilian Jeep) and Best Non-Jeep. The non-jeep category features Willys trucks and station wagons. Everyone in attendance will vote on each of the three categories to name the winners. \nNew this year: After the Jeep Gathering\, join us for our final “Music on the Millrace” concert! The concert runs from 3 to 6 pm\, and features the Gayle Harrod Band. Admission to the concert is only $10. Under 12 are free! Food\, beer and wine will be available to purchase. Please bring a chair or blanket to sit on. No outside alcohol may be brought into the event. All the details are at: https://unionmills.org/music-on-the-millrace/ \nTours of the Historic house and Mill available for a small fee from noon – 4:00 pm\,.
URL:https://carrollcountytourism.org/event/mason-dixon-jeep-gathering-3/
LOCATION:Union Mills Homestead\, 3311 Littlestown Pike\, Westminster\, MD\, 21158\, United States
CATEGORIES:Tourism Events
ATTACH;FMTTYPE=image/jpeg:https://carrollcountytourism.org/wp-content/uploads/2024/11/event_jeepgathering.jpg
ORGANIZER;CN="Union Mills Homestead":MAILTO:umhomestead@gmail.com
END:VEVENT
BEGIN:VEVENT
DTSTART;TZID=America/New_York:20251025T110000
DTEND;TZID=America/New_York:20251025T170000
DTSTAMP:20260421T043238
CREATED:20250625T192902Z
LAST-MODIFIED:20250630T140213Z
UID:10011565-1761390000-1761411600@carrollcountytourism.org
SUMMARY:Maryland Crabcake Festival 2025
DESCRIPTION:Celebrate everything Crabcakes and Maryland!  Double The Food. Double The Drinks. Double The Fun! \nJoin 100.7 The Bay and WJZ-TV for the Maryland Crabcake Festival on Saturday\, October 25th from 11 am until 5 pm at the Carroll County Farm Museum in Westminster\, Maryland. \nWe are hosting some of Maryland’s finest Crabcake restaurants along with Food Trucks and Artisan Vendors! Beer and Wine. \nLive music from: \n\nThe Reagan Years\nChesapeake Sons\nExperience\n\nAll Ages welcome; we’re Kid-Friendly! \nFree Parking! \n*This event is being held by an outside vendor; therefore\, admission and hours of operations will be subject to that vendors directive* \n  \nTickets on sale June 30th: Crabcake Festival
URL:https://carrollcountytourism.org/event/maryland-crabcake-festival-2025/
LOCATION:Carroll County Farm Museum\, 500 South Center St\, Westminster\, MD\, 21157\, United States
CATEGORIES:Tourism Events
ATTACH;FMTTYPE=image/jpeg:https://carrollcountytourism.org/wp-content/uploads/2025/06/event_crabcakefestival.jpg
END:VEVENT
END:VCALENDAR