BEGIN:VCALENDAR
VERSION:2.0
PRODID:-//Carroll County Tourism | Carroll County, Maryland - ECPv6.15.17//NONSGML v1.0//EN
CALSCALE:GREGORIAN
METHOD:PUBLISH
X-WR-CALNAME:Carroll County Tourism | Carroll County, Maryland
X-ORIGINAL-URL:https://carrollcountytourism.org
X-WR-CALDESC:Events for Carroll County Tourism | Carroll County, Maryland
REFRESH-INTERVAL;VALUE=DURATION:PT1H
X-Robots-Tag:noindex
X-PUBLISHED-TTL:PT1H
BEGIN:VTIMEZONE
TZID:America/New_York
BEGIN:DAYLIGHT
TZOFFSETFROM:-0500
TZOFFSETTO:-0400
TZNAME:EDT
DTSTART:20240310T070000
END:DAYLIGHT
BEGIN:STANDARD
TZOFFSETFROM:-0400
TZOFFSETTO:-0500
TZNAME:EST
DTSTART:20241103T060000
END:STANDARD
BEGIN:DAYLIGHT
TZOFFSETFROM:-0500
TZOFFSETTO:-0400
TZNAME:EDT
DTSTART:20250309T070000
END:DAYLIGHT
BEGIN:STANDARD
TZOFFSETFROM:-0400
TZOFFSETTO:-0500
TZNAME:EST
DTSTART:20251102T060000
END:STANDARD
BEGIN:DAYLIGHT
TZOFFSETFROM:-0500
TZOFFSETTO:-0400
TZNAME:EDT
DTSTART:20260308T070000
END:DAYLIGHT
BEGIN:STANDARD
TZOFFSETFROM:-0400
TZOFFSETTO:-0500
TZNAME:EST
DTSTART:20261101T060000
END:STANDARD
END:VTIMEZONE
BEGIN:VEVENT
DTSTART;TZID=America/New_York:20251206T100000
DTEND;TZID=America/New_York:20251221T160000
DTSTAMP:20260421T012010
CREATED:20251125T203823Z
LAST-MODIFIED:20251125T204015Z
UID:10012507-1765015200-1766332800@carrollcountytourism.org
SUMMARY:Black Barn Alpacas’ Fleece Navidad: A Camelid Christmas
DESCRIPTION:Event Title: Black Barn Alpacas’ Fleece Navidad: A Camelid Christmas \nDates & Times:\nDates: Dec. 6-7\, 13-14\, 20-21\nHours: 10 AM – 4 PM (last admission 3 PM)\nLocation:\nBlack Barn Alpacas\n2401 Bollinger Mill Rd\, Finksburg\, MD 21048\nEvent Description:\nThis holiday season\, the fluffiest VIPs in Maryland are waiting to meet you. At Black Barn Alpacas’ Fleece Navidad: A Camelid Christmas\, nearly 150 alpacas\, including the season’s cutest baby alpacas\, steal the show in a seasonal celebration just 90 minutes from D.C and 40 minutes from Baltimore.\nThis isn’t your average holiday outing. Guests can:\nHand-feed alpacas (yes\, they really do nibble right from your hand)\nComplimentary Fleece Crafting Christmas Ornaments (featuring fleece from their herd)\nLet the kids can play in the Mrs. Clause’s Bakery\, send their Christmas wish lists at the North Pole Express Post Office\, and explore Santa’s Workshop\nSnap perfect holiday photos down Candy Cane Lane and in front of the towering Christmas tree\nCost:\nAdults (Ages 3+): $25\nYoung Children (Ages 2 and under): Free\nNo hidden fees\, everything is included with your admission!\nTickets:\nDon’t miss out on the holiday fun! Click here to purchase tickets and secure your spot at this limited time event.\nMore Information:\nFor more details and to learn about other exciting events\, visit our website: https://www.blackbarnalpacas.com/book-a-tour
URL:https://carrollcountytourism.org/event/black-barn-alpacas-fleece-navidad-a-camelid-christmas/
LOCATION:Black Barn Alpacas  2401 Bollinger Mill Rd\, Finksburg\, MD 21048\, 2401 Bollinger Mill Rd\, Finksburg\, MD 21048\, Finksburg\, 21048\, United States
CATEGORIES:Tourism Events
ATTACH;FMTTYPE=image/jpeg:https://carrollcountytourism.org/wp-content/uploads/2024/11/event_alpacachristmas.jpg
ORGANIZER;CN="Black Barn Alpacas":MAILTO:events@blackbarnalpacas.com
END:VEVENT
BEGIN:VEVENT
DTSTART;TZID=America/New_York:20251207T150000
DTEND;TZID=America/New_York:20251207T170000
DTSTAMP:20260421T012010
CREATED:20251028T200432Z
LAST-MODIFIED:20251028T200432Z
UID:10011786-1765119600-1765126800@carrollcountytourism.org
SUMMARY:A Charlie Brown Jazz Christmas
DESCRIPTION:What do you get when you pair the beloved animated holiday film with a live performance of the film’s Vince Guaraldi jazz score? You get a fabulously festive show featuring the renowned Eric Byrd Trio! This annual presentation is always very popular with families as well as discriminating jazz aficionados and is a great way to celebrate the season. \nA Charlie Brown Christmas | 1965 | 25m | TV-G\nSaddened at the commercialism he sees around him\, Charlie Brown tries to find a deeper meaning to Christmas. \nA 45-min concert performed by Eric Byrd Trio will follow the screening! \nTwo performances:\nSunday\, December 7 at 3pm and 6pm
URL:https://carrollcountytourism.org/event/a-charlie-brown-jazz-christmas-2-2-2-2/
LOCATION:Carroll Arts Center\, 91 West Main St\, Westminster\, MD\, 21157\, United States
CATEGORIES:Tourism Events
ATTACH;FMTTYPE=image/jpeg:https://carrollcountytourism.org/wp-content/uploads/2024/11/event_ericbyrdtrio2.jpg
ORGANIZER;CN="Carroll County Arts Council":MAILTO:info@CarrollCountyArtsCouncil.org
END:VEVENT
BEGIN:VEVENT
DTSTART;TZID=America/New_York:20251213T190000
DTEND;TZID=America/New_York:20251213T203000
DTSTAMP:20260421T012010
CREATED:20251028T200651Z
LAST-MODIFIED:20251124T193637Z
UID:10012469-1765652400-1765657800@carrollcountytourism.org
SUMMARY:The Maryland Nutcracker
DESCRIPTION:Ballet Embody\, Carroll County’s professional ballet company\, returns to the stage with their original holiday classic\, The Maryland Nutcracker! \nEnjoy this holiday tradition\, Maryland-style. That’s right\, a sprinkle of Wintry Mix and a dash of Old Bay will be featured among many other Maryland landmarks and past times.
URL:https://carrollcountytourism.org/event/the-maryland-nutcracker-3/2025-12-13/
LOCATION:Carroll Community College Scott Theatre\, 1601 Washington Rd\, Westminster\, MD\, 21157\, United States
CATEGORIES:Tourism Events
ATTACH;FMTTYPE=image/jpeg:https://carrollcountytourism.org/wp-content/uploads/2023/10/event_marylandnutcracker.jpg
ORGANIZER;CN="Ballet Embody":MAILTO:balletembody@gmail.com
END:VEVENT
BEGIN:VEVENT
DTSTART;TZID=America/New_York:20251214T140000
DTEND;TZID=America/New_York:20251214T153000
DTSTAMP:20260421T012010
CREATED:20251028T200651Z
LAST-MODIFIED:20251124T193637Z
UID:10012470-1765720800-1765726200@carrollcountytourism.org
SUMMARY:The Maryland Nutcracker
DESCRIPTION:Ballet Embody\, Carroll County’s professional ballet company\, returns to the stage with their original holiday classic\, The Maryland Nutcracker! \nEnjoy this holiday tradition\, Maryland-style. That’s right\, a sprinkle of Wintry Mix and a dash of Old Bay will be featured among many other Maryland landmarks and past times.
URL:https://carrollcountytourism.org/event/the-maryland-nutcracker-3/2025-12-14/
LOCATION:Carroll Community College Scott Theatre\, 1601 Washington Rd\, Westminster\, MD\, 21157\, United States
CATEGORIES:Tourism Events
ATTACH;FMTTYPE=image/jpeg:https://carrollcountytourism.org/wp-content/uploads/2023/10/event_marylandnutcracker.jpg
ORGANIZER;CN="Ballet Embody":MAILTO:balletembody@gmail.com
END:VEVENT
END:VCALENDAR