BEGIN:VCALENDAR
VERSION:2.0
PRODID:-//Carroll County Tourism | Carroll County, Maryland - ECPv6.15.17//NONSGML v1.0//EN
CALSCALE:GREGORIAN
METHOD:PUBLISH
X-ORIGINAL-URL:https://carrollcountytourism.org
X-WR-CALDESC:Events for Carroll County Tourism | Carroll County, Maryland
REFRESH-INTERVAL;VALUE=DURATION:PT1H
X-Robots-Tag:noindex
X-PUBLISHED-TTL:PT1H
BEGIN:VTIMEZONE
TZID:America/New_York
BEGIN:DAYLIGHT
TZOFFSETFROM:-0500
TZOFFSETTO:-0400
TZNAME:EDT
DTSTART:20250309T070000
END:DAYLIGHT
BEGIN:STANDARD
TZOFFSETFROM:-0400
TZOFFSETTO:-0500
TZNAME:EST
DTSTART:20251102T060000
END:STANDARD
BEGIN:DAYLIGHT
TZOFFSETFROM:-0500
TZOFFSETTO:-0400
TZNAME:EDT
DTSTART:20260308T070000
END:DAYLIGHT
BEGIN:STANDARD
TZOFFSETFROM:-0400
TZOFFSETTO:-0500
TZNAME:EST
DTSTART:20261101T060000
END:STANDARD
BEGIN:DAYLIGHT
TZOFFSETFROM:-0500
TZOFFSETTO:-0400
TZNAME:EDT
DTSTART:20270314T070000
END:DAYLIGHT
BEGIN:STANDARD
TZOFFSETFROM:-0400
TZOFFSETTO:-0500
TZNAME:EST
DTSTART:20271107T060000
END:STANDARD
END:VTIMEZONE
BEGIN:VEVENT
DTSTART;TZID=America/New_York:20260110T090000
DTEND;TZID=America/New_York:20260110T150000
DTSTAMP:20260420T234520
CREATED:20251223T141133Z
LAST-MODIFIED:20251223T141159Z
UID:10012694-1768035600-1768057200@carrollcountytourism.org
SUMMARY:4 – H Farm Toy Show and Auction
DESCRIPTION:Carroll County 4-H & FFA Fair Board will be hosting their annual 38th Farm Toy Show on Jan. 10\, 2026. \nToy Tractor Show is 9 A.M. – 3 P.M. located in the upper buildings at the Carroll County Ag Center. \nToy Auction will begin at 5:30 P.M. \nFood will be available for purchase. Admission $3.00. Ages 7 and under are FREE. All proceeds go to the Carroll County 4-H & FFA Fair. \nIf anyone is interested in a vendor space or has questions please call 410-984-0552. \nEvent will go on regardless of bad weather.
URL:https://carrollcountytourism.org/event/annual-central-md-farm-toy-show-auction-2026/
LOCATION:Carroll County Agriculture Center\, 706 Agricultural Center Dr\, Westminster\, MD\, 21157\, United States
CATEGORIES:Tourism Events
ATTACH;FMTTYPE=image/jpeg:https://carrollcountytourism.org/wp-content/uploads/2017/12/event_toytractor.jpg
ORGANIZER;CN="Carroll County 4-H & FFA Fair":MAILTO:cc4hffafairmanager@gmail.com
GEO:39.5579291;-77.00176
X-APPLE-STRUCTURED-LOCATION;VALUE=URI;X-ADDRESS=Carroll County Agriculture Center 706 Agricultural Center Dr Westminster MD 21157 United States;X-APPLE-RADIUS=500;X-TITLE=706 Agricultural Center Dr:geo:-77.00176,39.5579291
END:VEVENT
END:VCALENDAR