BEGIN:VCALENDAR
VERSION:2.0
PRODID:-//Carroll County Tourism | Carroll County, Maryland - ECPv6.15.17//NONSGML v1.0//EN
CALSCALE:GREGORIAN
METHOD:PUBLISH
X-WR-CALNAME:Carroll County Tourism | Carroll County, Maryland
X-ORIGINAL-URL:https://carrollcountytourism.org
X-WR-CALDESC:Events for Carroll County Tourism | Carroll County, Maryland
REFRESH-INTERVAL;VALUE=DURATION:PT1H
X-Robots-Tag:noindex
X-PUBLISHED-TTL:PT1H
BEGIN:VTIMEZONE
TZID:America/New_York
BEGIN:DAYLIGHT
TZOFFSETFROM:-0500
TZOFFSETTO:-0400
TZNAME:EDT
DTSTART:20250309T070000
END:DAYLIGHT
BEGIN:STANDARD
TZOFFSETFROM:-0400
TZOFFSETTO:-0500
TZNAME:EST
DTSTART:20251102T060000
END:STANDARD
BEGIN:DAYLIGHT
TZOFFSETFROM:-0500
TZOFFSETTO:-0400
TZNAME:EDT
DTSTART:20260308T070000
END:DAYLIGHT
BEGIN:STANDARD
TZOFFSETFROM:-0400
TZOFFSETTO:-0500
TZNAME:EST
DTSTART:20261101T060000
END:STANDARD
BEGIN:DAYLIGHT
TZOFFSETFROM:-0500
TZOFFSETTO:-0400
TZNAME:EDT
DTSTART:20270314T070000
END:DAYLIGHT
BEGIN:STANDARD
TZOFFSETFROM:-0400
TZOFFSETTO:-0500
TZNAME:EST
DTSTART:20271107T060000
END:STANDARD
END:VTIMEZONE
BEGIN:VEVENT
DTSTART;TZID=America/New_York:20260314T080000
DTEND;TZID=America/New_York:20260314T170000
DTSTAMP:20260420T202646
CREATED:20251230T182028Z
LAST-MODIFIED:20260223T200128Z
UID:10012697-1773475200-1773507600@carrollcountytourism.org
SUMMARY:Westminster Irish Celebration & Celtic Run Fest
DESCRIPTION:Join the City of Westminster Recreation & Parks Department for shamrock-filled fun at our Irish Celebration & Celtic Run Fest on Saturday\, March 14\, 2026\, from 8 AM – 12 PM on Main Street!\n\nGet ready for a morning packed with Irish spirit featuring live entertainment\, festive food & drink\, artisan vendors\, family fun\, races\, and a pub crawl to keep the party going!  \n\nCANTERS (RUNS):9 AM – Celtic Canter 5K10:15 AM – 1-Mile Leprechaun Chase11 AM – 0.5K “Don’t Miss the Point!”\nProceeds benefit Access Carroll\, Target Community & Educational Services\, Inc. and Crossroads Church\n\nMAIN STREET FUN (8:00 AM – 12:00 PM):Vendor Village with Irish-inspired arts\, crafts & foodKids AreaBeer Garden \n\n\nLIVE ENTERTAINMENT:DJ Thumper | 7:30 AM – 12:00 PMBand Risky Shenanigans | 9:30 AM – 12:00 PM \n\n\nPUB CRAWL:12:00 – 4:00 PMFREE Trolley Rides from 12:00 – 5:00 PM \n\nWhether you’re running\, dancing\, sipping\, shopping\, or cheering on the kids—there’s something for everyone! Grab your green gear and celebrate Irish pride with us on Main Street! 
URL:https://carrollcountytourism.org/event/downtown-westminster-irish-festival-celtic-run-2026/
LOCATION:Historic Downtown Westminster\, 15 East Main St\, Westminster\, MD\, 21157\, United States
CATEGORIES:Tourism Events
ATTACH;FMTTYPE=image/jpeg:https://carrollcountytourism.org/wp-content/uploads/2023/12/event_celticcanter2.jpg
ORGANIZER;CN="City of Westminster Recreation & Parks":MAILTO:westminsterrec@westgov.com
END:VEVENT
BEGIN:VEVENT
DTSTART;VALUE=DATE:20260327
DTEND;VALUE=DATE:20260407
DTSTAMP:20260420T202646
CREATED:20250128T205408Z
LAST-MODIFIED:20260319T192108Z
UID:10008160-1774569600-1775519999@carrollcountytourism.org
SUMMARY:19th Annual PEEPshow
DESCRIPTION:This sweet fundraising event features marshmallow masterpieces\, including sculptures\, dioramas\, mosaics and even videos\, all crafted from or inspired by PEEPS®\, those colorful marshmallow treats made by the Just Born company in Bethlehem\, PA. You can view the entries for free and buy votes for your favorites\, with all proceeds benefiting the Arts Council!\nLocation Address: TownMall of Westminster at 400 N Center Street\, Westminster\, MD 21157 \nMon. – Sat.: 10am – 6pm\nSunday: 12pm – 6pm \nPEEPS® and the PEEPS® chick and bunny shapes are trademarks of Just Born\, Inc.\, Bethlehem\, PA 18017. ©
URL:https://carrollcountytourism.org/event/19th-annual-peepshow/
LOCATION:TownMall of Westminster\, 400 N Center Street\, Westminster\, 21157
CATEGORIES:Tourism Events
ATTACH;FMTTYPE=image/jpeg:https://carrollcountytourism.org/wp-content/uploads/2018/01/event_peepshow.jpg
ORGANIZER;CN="Carroll County Arts Council":MAILTO:info@CarrollCountyArtsCouncil.org
END:VEVENT
END:VCALENDAR