BEGIN:VCALENDAR
VERSION:2.0
PRODID:-//Carroll County Tourism | Carroll County, Maryland - ECPv6.15.17//NONSGML v1.0//EN
CALSCALE:GREGORIAN
METHOD:PUBLISH
X-ORIGINAL-URL:https://carrollcountytourism.org
X-WR-CALDESC:Events for Carroll County Tourism | Carroll County, Maryland
REFRESH-INTERVAL;VALUE=DURATION:PT1H
X-Robots-Tag:noindex
X-PUBLISHED-TTL:PT1H
BEGIN:VTIMEZONE
TZID:America/New_York
BEGIN:DAYLIGHT
TZOFFSETFROM:-0500
TZOFFSETTO:-0400
TZNAME:EDT
DTSTART:20250309T070000
END:DAYLIGHT
BEGIN:STANDARD
TZOFFSETFROM:-0400
TZOFFSETTO:-0500
TZNAME:EST
DTSTART:20251102T060000
END:STANDARD
BEGIN:DAYLIGHT
TZOFFSETFROM:-0500
TZOFFSETTO:-0400
TZNAME:EDT
DTSTART:20260308T070000
END:DAYLIGHT
BEGIN:STANDARD
TZOFFSETFROM:-0400
TZOFFSETTO:-0500
TZNAME:EST
DTSTART:20261101T060000
END:STANDARD
BEGIN:DAYLIGHT
TZOFFSETFROM:-0500
TZOFFSETTO:-0400
TZNAME:EDT
DTSTART:20270314T070000
END:DAYLIGHT
BEGIN:STANDARD
TZOFFSETFROM:-0400
TZOFFSETTO:-0500
TZNAME:EST
DTSTART:20271107T060000
END:STANDARD
END:VTIMEZONE
BEGIN:VEVENT
DTSTART;TZID=America/New_York:20260606T100000
DTEND;TZID=America/New_York:20260606T160000
DTSTAMP:20260420T220810
CREATED:20260311T142605Z
LAST-MODIFIED:20260311T142605Z
UID:10013000-1780740000-1780761600@carrollcountytourism.org
SUMMARY:Art in the Park
DESCRIPTION:The Carroll County Arts Council has partnered with the City of Westminster for four decades to present this annual outdoor festival that is held the first Saturday in June on the beautiful grounds of Westminster City Hall. This event features fine art and craft displays by regional artists. Bring the kids for a free craft activity to inspire artists of the future! A food court and live music round out this family-friendly outdoor festival!\n\nParking: Plenty of FREE parking surrounds the event locationIncluding street parking on Locust St.\, East Middle School lot at Key St.\, and the parking lot and garage at Distillery Drive\n\nDirections: Event address is 1838 Emerald Hill Lane\, Westminster\, MD 21157For GPS use 121 Longwell Avenue\, Westminster\, MD 21157
URL:https://carrollcountytourism.org/event/art-in-the-park-2026/
LOCATION:Westminster City Hall – Emerald Hill\, 1838 Emerald Hill Lane\, Westminster\, MD\, 21157\, United States
CATEGORIES:Tourism Events
ATTACH;FMTTYPE=image/jpeg:https://carrollcountytourism.org/wp-content/uploads/2026/03/event_artinthepark2.jpg
ORGANIZER;CN="Carroll County Arts Council":MAILTO:info@CarrollCountyArtsCouncil.org
END:VEVENT
BEGIN:VEVENT
DTSTART;TZID=America/New_York:20260606T110000
DTEND;TZID=America/New_York:20260606T170000
DTSTAMP:20260420T220810
CREATED:20260207T134755Z
LAST-MODIFIED:20260302T155903Z
UID:10010335-1780743600-1780765200@carrollcountytourism.org
SUMMARY:The 42nd Maryland Wine Festival®
DESCRIPTION:NEW DATE!!! TICKETS NOW ON SALE!!! DISCOUNTED DURING MARCH. \nThe Maryland Wine Festival® returns to the Carroll County Farm Museum for a single-day event! Join us for our 42nd annual celebration of Maryland wine. Enthusiasts of local wine and fans of great local festivals are invited to enjoy the beautiful grounds of the Farm Museum while exploring delicious\, local wine\, shopping from juried artisans\, and dancing to live music! \nThe event will feature wonderful local wines from Maryland wineries\, great food from a variety of food trucks\, fantastic vendors for shopping\, new experiences and a day of unforgettable entertainment. The event also offers beer and non-alcoholic drink vendors. New this year\, the festival is planning to incorporate flower vendors with a subtitle of “Bottles & Blooms!” \nVisit website for entertainment schedule and a list of food and craft vendors!!! \nhttps://marylandwine.org/mwf/ \n 
URL:https://carrollcountytourism.org/event/the-42nd-maryland-wine-festival/
LOCATION:Carroll County Farm Museum\, 500 South Center St\, Westminster\, MD\, 21157\, United States
CATEGORIES:Tourism Events
ATTACH;FMTTYPE=image/jpeg:https://carrollcountytourism.org/wp-content/uploads/2026/02/event_winefest2026.jpg
END:VEVENT
BEGIN:VEVENT
DTSTART;TZID=America/New_York:20260613T100000
DTEND;TZID=America/New_York:20260613T180000
DTSTAMP:20260420T220810
CREATED:20260107T201818Z
LAST-MODIFIED:20260107T201818Z
UID:10012739-1781344800-1781373600@carrollcountytourism.org
SUMMARY:Carroll County Celtic Festival
DESCRIPTION:Please join us for the 4th Annual Carroll County Celtic Festival. A celebration of Celtic life and culture. \nThe Carroll County Celtic Festival is a rain or shine event. \nArtisans\, dance performances\, traditional music\, food\, and beer\, will all be indoors.  Athletics\, Sheep Herding\, Living History\, The Gaelic Language Village\, and Clans will be outside.  Please plan accordingly. \nAdmission: \nAdults  16-64 – TBD \nChildren 7-15 – TBD \nSeniors 65 and over – TBD \nChildren 7 and under are FREE. \nA Celebration of Celtic Life and Culture held in the heart of Carroll County\, Maryland. \nJoin us in experiencing the music\, food\, athletics\, dancers\, demonstrations and fun of all things Celtic. \nhttps://carrollcountycelticfestival.com/ \n 
URL:https://carrollcountytourism.org/event/carroll-county-celtic-festival-2026/
LOCATION:Carroll County Agriculture Center\, 706 Agricultural Center Dr\, Westminster\, MD\, 21157\, United States
CATEGORIES:Tourism Events
ATTACH;FMTTYPE=image/jpeg:https://carrollcountytourism.org/wp-content/uploads/2022/02/event_CarrollCelticFestival.jpg
ORGANIZER;CN="Carroll County Celtic Festival%2C LLC":MAILTO:carrollcountycelticfestival@gmail.com
GEO:39.5579291;-77.00176
X-APPLE-STRUCTURED-LOCATION;VALUE=URI;X-ADDRESS=Carroll County Agriculture Center 706 Agricultural Center Dr Westminster MD 21157 United States;X-APPLE-RADIUS=500;X-TITLE=706 Agricultural Center Dr:geo:-77.00176,39.5579291
END:VEVENT
BEGIN:VEVENT
DTSTART;TZID=America/New_York:20260620T120000
DTEND;TZID=America/New_York:20260620T160000
DTSTAMP:20260420T220810
CREATED:20260111T163129Z
LAST-MODIFIED:20260112T204049Z
UID:10008186-1781956800-1781971200@carrollcountytourism.org
SUMMARY:Westminster Beer & BBQ Stroll
DESCRIPTION:Get ready to raise your glass and fire up your appetite! The Beer & BBQ Stroll is the ultimate celebration of bold flavors\, cold brews\, and good vibes. Sample craft beers from local Maryland breweries\, sink your teeth into smoky\, mouthwatering BBQ\, enjoy live music\, and shop with local artisans. Bring your friends\, bring your appetite\, and get ready for a finger-lickin’\, sip-tastic good time! \n\nEntertainment:\nLocust Lane Stage\n10:30 AM – 1:30 PM: Logan Chalk Band \nLibrary Stage\n1:30 – 4:00 PM: Doc Marten and the Flannels \nCovalent Spirits Stage\n11:30 AM – 1:30 PM: October Oak\n2:00 – 4:00 PM: Late Night Record Shop \n45 West Main Street\n10:30 AM – 4:00 PM: DJ Thumper \nCenter Street\n10:30 AM – 4:00 PM: DJ Swamdog \n\nVIP Ticket: Tickets on Sale April 1st!\n$TBA. This package includes early access to the Beer and BBQ Stroll from 10:30 AM–12:00 PM for a 90-minute VIP sampling session with attending breweries\, wineries\, and distilleries. From 12:00–4:00 PM\, enjoy an exclusive VIP-only savory treat and drink. You’ll also receive a commemorative gift\, reserved seating for the entire day\, live music and entertainment\, plus all general admission perks. Please note: if you do not reserve the full table\, you may be seated with other VIP guests.\n\nGeneral Admission Tickets: $TBA (available event day ONLY). Two tokens are included with each general admission ticket to redeem for two alcoholic or non-alcoholic beverages at any Domestic Beverage Tent ONLY. Tokens are not redeemable at any other distillery/brewery/winery. All other beverages and food must be purchased separately. \n\n*Children 12 and under are admitted free.
URL:https://carrollcountytourism.org/event/beer-and-bbq-stroll-2/
LOCATION:Historic Downtown Westminster\, 15 East Main St\, Westminster\, MD\, 21157\, United States
CATEGORIES:Tourism Events
ATTACH;FMTTYPE=image/jpeg:https://carrollcountytourism.org/wp-content/uploads/2025/02/event_beerbbq2026.jpg
ORGANIZER;CN="City of Westminster Recreation & Parks":MAILTO:westminsterrec@westgov.com
END:VEVENT
END:VCALENDAR