BEGIN:VCALENDAR
VERSION:2.0
PRODID:-//Carroll County Tourism | Carroll County, Maryland - ECPv6.15.17//NONSGML v1.0//EN
CALSCALE:GREGORIAN
METHOD:PUBLISH
X-ORIGINAL-URL:https://carrollcountytourism.org
X-WR-CALDESC:Events for Carroll County Tourism | Carroll County, Maryland
REFRESH-INTERVAL;VALUE=DURATION:PT1H
X-Robots-Tag:noindex
X-PUBLISHED-TTL:PT1H
BEGIN:VTIMEZONE
TZID:America/New_York
BEGIN:DAYLIGHT
TZOFFSETFROM:-0500
TZOFFSETTO:-0400
TZNAME:EDT
DTSTART:20250309T070000
END:DAYLIGHT
BEGIN:STANDARD
TZOFFSETFROM:-0400
TZOFFSETTO:-0500
TZNAME:EST
DTSTART:20251102T060000
END:STANDARD
BEGIN:DAYLIGHT
TZOFFSETFROM:-0500
TZOFFSETTO:-0400
TZNAME:EDT
DTSTART:20260308T070000
END:DAYLIGHT
BEGIN:STANDARD
TZOFFSETFROM:-0400
TZOFFSETTO:-0500
TZNAME:EST
DTSTART:20261101T060000
END:STANDARD
BEGIN:DAYLIGHT
TZOFFSETFROM:-0500
TZOFFSETTO:-0400
TZNAME:EDT
DTSTART:20270314T070000
END:DAYLIGHT
BEGIN:STANDARD
TZOFFSETFROM:-0400
TZOFFSETTO:-0500
TZNAME:EST
DTSTART:20271107T060000
END:STANDARD
END:VTIMEZONE
BEGIN:VEVENT
DTSTART;TZID=America/New_York:20260411T080000
DTEND;TZID=America/New_York:20260411T140000
DTSTAMP:20260420T233951
CREATED:20260127T163506Z
LAST-MODIFIED:20260127T163506Z
UID:10012860-1775894400-1775916000@carrollcountytourism.org
SUMMARY:Indoor Flea Market
DESCRIPTION:Please No Dogs Allowed.Indoor Flea Market in the Shipley Arena – 8am – 2pm.(Breakfast and Lunch served by the Roaring Run Lions Club. All proceeds go back to the community.)Product categories: antiques\, books\, cds/dvds/tapes\, clothing\, collectibles\, computer equip.\, crafts\, direct sales\, glassware\, food items\, sports gear & memorabilia\, toys\, tools\, woodworking\, and much more.Businesses are now required to have a trader’s license and sales tax number.Admission and parking are Free.10 x 10 spaces are $40 and if you need tables they are $5 each.For more information please contact Heather @ 301-651-4397
URL:https://carrollcountytourism.org/event/indoor-flea-market/
LOCATION:Carroll County Ag Center – Shipley Arena\, 706 Agricultural Center Dr\, Westminster\, MD\, 21157\, United States
CATEGORIES:Tourism Events
ATTACH;FMTTYPE=image/jpeg:https://carrollcountytourism.org/wp-content/uploads/2022/12/event_indoorfleamarket.jpg
GEO:39.5579291;-77.00176
X-APPLE-STRUCTURED-LOCATION;VALUE=URI;X-ADDRESS=Carroll County Ag Center – Shipley Arena 706 Agricultural Center Dr Westminster MD 21157 United States;X-APPLE-RADIUS=500;X-TITLE=706 Agricultural Center Dr:geo:-77.00176,39.5579291
END:VEVENT
END:VCALENDAR