BEGIN:VCALENDAR
VERSION:2.0
PRODID:-//Carroll County Tourism | Carroll County, Maryland - ECPv6.15.17//NONSGML v1.0//EN
CALSCALE:GREGORIAN
METHOD:PUBLISH
X-ORIGINAL-URL:https://carrollcountytourism.org
X-WR-CALDESC:Events for Carroll County Tourism | Carroll County, Maryland
REFRESH-INTERVAL;VALUE=DURATION:PT1H
X-Robots-Tag:noindex
X-PUBLISHED-TTL:PT1H
BEGIN:VTIMEZONE
TZID:America/New_York
BEGIN:DAYLIGHT
TZOFFSETFROM:-0500
TZOFFSETTO:-0400
TZNAME:EDT
DTSTART:20240310T070000
END:DAYLIGHT
BEGIN:STANDARD
TZOFFSETFROM:-0400
TZOFFSETTO:-0500
TZNAME:EST
DTSTART:20241103T060000
END:STANDARD
BEGIN:DAYLIGHT
TZOFFSETFROM:-0500
TZOFFSETTO:-0400
TZNAME:EDT
DTSTART:20250309T070000
END:DAYLIGHT
BEGIN:STANDARD
TZOFFSETFROM:-0400
TZOFFSETTO:-0500
TZNAME:EST
DTSTART:20251102T060000
END:STANDARD
BEGIN:DAYLIGHT
TZOFFSETFROM:-0500
TZOFFSETTO:-0400
TZNAME:EDT
DTSTART:20260308T070000
END:DAYLIGHT
BEGIN:STANDARD
TZOFFSETFROM:-0400
TZOFFSETTO:-0500
TZNAME:EST
DTSTART:20261101T060000
END:STANDARD
END:VTIMEZONE
BEGIN:VEVENT
DTSTART;TZID=America/New_York:20250810T170000
DTEND;TZID=America/New_York:20250810T190000
DTSTAMP:20260421T000038
CREATED:20250508T122727Z
LAST-MODIFIED:20250522T151122Z
UID:10010342-1754845200-1754852400@carrollcountytourism.org
SUMMARY:A Night at the Museum Summer 2025 Concert Series
DESCRIPTION:Join the Carroll County Farm Museum for a series of Sunday evening music this summer! \nJune 22 – Fizz (70’s Groove Celebration) \nJuly 27 – Don’t Back Down (Celebration of Tom Petty & Heartbreakers music) \nAugust 10 – Secondhand News (Stevie Nicks/Fleetwood Mac Tribute Band) \nGates open at 4pm / Concert: 5pm-7pm \nTickets – $10 per person / 13 yrs. & younger FREE \nFood & Beer for Sale \nNo Outside Food/Beverages \nLawn Seating – Blankets and Chairs (no seating/chairs will be provided by the Museum) \nTickets purchased at the gate are CASH ONLY at this time \nInterested in our Night at the Museum Summer Concerts? Want to buy tickets. Tickets are available through the Farm Museum office only. Please contact them at 800-654-4645 to purchase tickets–tickets will be purchased over the phone and then picked up in person at the Museum. Tickets may also be purchased in person at the Museum during our special events. \nNo pets\, tents\, glass containers\, outside alcohol\, outside food/beverages\, skateboards/bikes/rollerblades/etc\, fireworks/sparklers or grills. Must be 21 or over (with a valid photo ID) to purchase or consume alcohol. \nFor more information please contact 800-654-4645 or ccfarm@carrollcountymd.gov
URL:https://carrollcountytourism.org/event/a-night-at-the-museum-summer-2025-concert-series/2025-08-10/
LOCATION:Carroll County Farm Museum\, 500 South Center St\, Westminster\, MD\, 21157\, United States
CATEGORIES:Tourism Events
END:VEVENT
BEGIN:VEVENT
DTSTART;TZID=America/New_York:20250727T170000
DTEND;TZID=America/New_York:20250727T190000
DTSTAMP:20260421T000038
CREATED:20250508T122727Z
LAST-MODIFIED:20250522T151122Z
UID:10010341-1753635600-1753642800@carrollcountytourism.org
SUMMARY:A Night at the Museum Summer 2025 Concert Series
DESCRIPTION:Join the Carroll County Farm Museum for a series of Sunday evening music this summer! \nJune 22 – Fizz (70’s Groove Celebration) \nJuly 27 – Don’t Back Down (Celebration of Tom Petty & Heartbreakers music) \nAugust 10 – Secondhand News (Stevie Nicks/Fleetwood Mac Tribute Band) \nGates open at 4pm / Concert: 5pm-7pm \nTickets – $10 per person / 13 yrs. & younger FREE \nFood & Beer for Sale \nNo Outside Food/Beverages \nLawn Seating – Blankets and Chairs (no seating/chairs will be provided by the Museum) \nTickets purchased at the gate are CASH ONLY at this time \nInterested in our Night at the Museum Summer Concerts? Want to buy tickets. Tickets are available through the Farm Museum office only. Please contact them at 800-654-4645 to purchase tickets–tickets will be purchased over the phone and then picked up in person at the Museum. Tickets may also be purchased in person at the Museum during our special events. \nNo pets\, tents\, glass containers\, outside alcohol\, outside food/beverages\, skateboards/bikes/rollerblades/etc\, fireworks/sparklers or grills. Must be 21 or over (with a valid photo ID) to purchase or consume alcohol. \nFor more information please contact 800-654-4645 or ccfarm@carrollcountymd.gov
URL:https://carrollcountytourism.org/event/a-night-at-the-museum-summer-2025-concert-series/2025-07-27/
LOCATION:Carroll County Farm Museum\, 500 South Center St\, Westminster\, MD\, 21157\, United States
CATEGORIES:Tourism Events
END:VEVENT
BEGIN:VEVENT
DTSTART;TZID=America/New_York:20250704T160000
DTEND;TZID=America/New_York:20250704T220000
DTSTAMP:20260421T000038
CREATED:20250226T193125Z
LAST-MODIFIED:20250626T182048Z
UID:10008214-1751644800-1751666400@carrollcountytourism.org
SUMMARY:Carroll County 4th of July Celebration
DESCRIPTION:Presenting sponsor: Bad Monkey Electric \nJoin us on July 4th for Carroll’s largest fireworks display at our Fourth of July Celebration starting at 4pm with fireworks going off at sundown (approximately 9:30pm). Admission is $10 per car. There will be food\, live entertainment\, children’s activities and more. \nLIVE MUSIC: Park Avenue (5:30pm-8:30pm) \nRain Date: July 5th (fireworks only) \n\nAdmission: $10 per vehicle (CASH ONLY) — exact change preferred (cuts down on waiting time to park). Admission is non-refundable. Please stay tuned for more details \n\nTo receive FREE up-to-date weather/traffic information about the July 4th Celebration\, text JULY4THCCFM to 888-777. \nPlease no pets\, outside alcohol\, glass containers\, fireworks/sparklers\, grills\, skateboards/bikes/wheelies/hoverboards/scooters/etc\, or popup tents/overhead shades. Overheads sun shades/tents pose a fire safety risk & obstruct the view of other guests–they are not permitted.
URL:https://carrollcountytourism.org/event/carroll-county-4th-of-july-celebration-2/
LOCATION:Carroll County Farm Museum\, 500 South Center St\, Westminster\, MD\, 21157\, United States
CATEGORIES:Tourism Events
ATTACH;FMTTYPE=image/jpeg:https://carrollcountytourism.org/wp-content/uploads/2022/02/event_july4thcelebration.jpg
END:VEVENT
BEGIN:VEVENT
DTSTART;TZID=America/New_York:20250622T170000
DTEND;TZID=America/New_York:20250622T190000
DTSTAMP:20260421T000038
CREATED:20250508T122727Z
LAST-MODIFIED:20250522T151122Z
UID:10010340-1750611600-1750618800@carrollcountytourism.org
SUMMARY:A Night at the Museum Summer 2025 Concert Series
DESCRIPTION:Join the Carroll County Farm Museum for a series of Sunday evening music this summer! \nJune 22 – Fizz (70’s Groove Celebration) \nJuly 27 – Don’t Back Down (Celebration of Tom Petty & Heartbreakers music) \nAugust 10 – Secondhand News (Stevie Nicks/Fleetwood Mac Tribute Band) \nGates open at 4pm / Concert: 5pm-7pm \nTickets – $10 per person / 13 yrs. & younger FREE \nFood & Beer for Sale \nNo Outside Food/Beverages \nLawn Seating – Blankets and Chairs (no seating/chairs will be provided by the Museum) \nTickets purchased at the gate are CASH ONLY at this time \nInterested in our Night at the Museum Summer Concerts? Want to buy tickets. Tickets are available through the Farm Museum office only. Please contact them at 800-654-4645 to purchase tickets–tickets will be purchased over the phone and then picked up in person at the Museum. Tickets may also be purchased in person at the Museum during our special events. \nNo pets\, tents\, glass containers\, outside alcohol\, outside food/beverages\, skateboards/bikes/rollerblades/etc\, fireworks/sparklers or grills. Must be 21 or over (with a valid photo ID) to purchase or consume alcohol. \nFor more information please contact 800-654-4645 or ccfarm@carrollcountymd.gov
URL:https://carrollcountytourism.org/event/a-night-at-the-museum-summer-2025-concert-series/2025-06-22/
LOCATION:Carroll County Farm Museum\, 500 South Center St\, Westminster\, MD\, 21157\, United States
CATEGORIES:Tourism Events
END:VEVENT
BEGIN:VEVENT
DTSTART;TZID=America/New_York:20250614T080000
DTEND;TZID=America/New_York:20250614T130000
DTSTAMP:20260421T000038
CREATED:20240821T174831Z
LAST-MODIFIED:20250226T152531Z
UID:10007196-1749888000-1749906000@carrollcountytourism.org
SUMMARY:Carroll County Farm Museum Flea Market
DESCRIPTION:Flea Market hours: 8 AM – 1 PM \nCall for vendors… \nGrounds space $30 per space (15’ X 15’) Vendors provide their own tent\, table\, and chairs.\nVendor set-up: 6 AM – 8 AM. Rain or Shine. \nCall or email Dana 410-386-3899 for questions and application. No Refunds.
URL:https://carrollcountytourism.org/event/carroll-county-farm-museum-flea-market/
LOCATION:Carroll County Farm Museum\, 500 South Center St\, Westminster\, MD\, 21157\, United States
CATEGORIES:Tourism Events
END:VEVENT
BEGIN:VEVENT
DTSTART;TZID=America/New_York:20250608T120000
DTEND;TZID=America/New_York:20250608T170000
DTSTAMP:20260421T000038
CREATED:20250226T190847Z
LAST-MODIFIED:20250226T190847Z
UID:10008206-1749384000-1749402000@carrollcountytourism.org
SUMMARY:Food Truck Sunday Funday
DESCRIPTION:Join the Carroll County Farm Museum on Sunday\, June 8 from noon to 5pm for Carroll’s largest food truck event: Food Truck Sunday Funday. \nAdmission is free! Enjoy a range of food from savory to sweet and everything in between. \nFor more details visit: https://carrollcountyfarmmuseum.org/event-calendar/. Be sure to vote for your favorite food truck! \nIf you are interested in becoming a sponsor or vendor for this event please contact Dana at dwachter@carrollcountymd.gov \nVendors subject to change without notice. No pets\, glass containers\, outside alcohol\, grills\, fireworks/sparklers. No pop up tents\, no bikes/wheelies/hoverboards/skateboards/etc. Event is RAIN OR SHINE. \n*Must be 21 or older with valid photo ID to purchase or consume alcohol
URL:https://carrollcountytourism.org/event/food-truck-sunday-funday-2/
LOCATION:Carroll County Farm Museum\, 500 South Center St\, Westminster\, MD\, 21157\, United States
CATEGORIES:Tourism Events
ATTACH;FMTTYPE=image/jpeg:https://carrollcountytourism.org/wp-content/uploads/2022/02/event_foodtrucksunday.jpg
END:VEVENT
BEGIN:VEVENT
DTSTART;TZID=America/New_York:20250427T100000
DTEND;TZID=America/New_York:20250428T150000
DTSTAMP:20260421T000038
CREATED:20250224T191955Z
LAST-MODIFIED:20250224T192154Z
UID:10008202-1745748000-1745852400@carrollcountytourism.org
SUMMARY:2025 Living History Reenactment: Five Forks
DESCRIPTION:Saturday 10 AM – 4 PM and Sunday 10 AM-3 PM \nBattle reenactments will be Saturday and Sunday at 1:00P.M. \nBy the spring of 1865 the Confederacy was on the verge of collapse.  Gen. Lee barely had enough men and supplies to hold his lines at Petersburg.  Gen. Grant’s overwhelming force was inching closer and closer to outflanking Lee’s beleaguered position.  Gen. George Pickett was ordered to hold the critical crossroads at Five Forks\, VA “at all costs.”  Pickett was also ordered to protect the Southside Railroad which was the only supply line left open to Lee’s troops in Petersburg.  If the Union Army Captured Five Forks and the crucial railroad\, Lee’s position at Petersburg and the Confederacy’s capital at Richmond\, would both have to be abandoned.  Gen. Pickett had approximately 10\,600 troops under his command.  He was confronted with a force of 22\,000 Union soldiers\, more than twice his own number\, under the command of Gen. Philip Sheridan. On April 1\, 1865\, in one of the last major engagements of the war in Virginia\, these 32\,000 men would fight at an obscure little crossroads named “Five Forks.” \nThroughout the day Reenactors in full costume will demonstrate infantry drilling\, artillery firing and camp life. Please note that the Camp will close at 2 PM on Sunday. Food is available for purchase at the event. \nAdmission: $10 per family\, $5 per adult\, $4 per senior (60 & over) FREE Parking.
URL:https://carrollcountytourism.org/event/2025-living-history-reenactment-five-forks/2025-04-27/
LOCATION:Carroll County Farm Museum\, 500 South Center St\, Westminster\, MD\, 21157\, United States
CATEGORIES:Tourism Events
ATTACH;FMTTYPE=image/jpeg:https://carrollcountytourism.org/wp-content/uploads/2018/04/event_FMcivilwarspring.jpg
END:VEVENT
BEGIN:VEVENT
DTSTART;TZID=America/New_York:20250426T100000
DTEND;TZID=America/New_York:20250426T160000
DTSTAMP:20260421T000038
CREATED:20250224T191955Z
LAST-MODIFIED:20250224T192154Z
UID:10008201-1745661600-1745683200@carrollcountytourism.org
SUMMARY:2025 Living History Reenactment: Five Forks
DESCRIPTION:Saturday 10 AM – 4 PM and Sunday 10 AM-3 PM \nBattle reenactments will be Saturday and Sunday at 1:00P.M. \nBy the spring of 1865 the Confederacy was on the verge of collapse.  Gen. Lee barely had enough men and supplies to hold his lines at Petersburg.  Gen. Grant’s overwhelming force was inching closer and closer to outflanking Lee’s beleaguered position.  Gen. George Pickett was ordered to hold the critical crossroads at Five Forks\, VA “at all costs.”  Pickett was also ordered to protect the Southside Railroad which was the only supply line left open to Lee’s troops in Petersburg.  If the Union Army Captured Five Forks and the crucial railroad\, Lee’s position at Petersburg and the Confederacy’s capital at Richmond\, would both have to be abandoned.  Gen. Pickett had approximately 10\,600 troops under his command.  He was confronted with a force of 22\,000 Union soldiers\, more than twice his own number\, under the command of Gen. Philip Sheridan. On April 1\, 1865\, in one of the last major engagements of the war in Virginia\, these 32\,000 men would fight at an obscure little crossroads named “Five Forks.” \nThroughout the day Reenactors in full costume will demonstrate infantry drilling\, artillery firing and camp life. Please note that the Camp will close at 2 PM on Sunday. Food is available for purchase at the event. \nAdmission: $10 per family\, $5 per adult\, $4 per senior (60 & over) FREE Parking.
URL:https://carrollcountytourism.org/event/2025-living-history-reenactment-five-forks/2025-04-26/
LOCATION:Carroll County Farm Museum\, 500 South Center St\, Westminster\, MD\, 21157\, United States
CATEGORIES:Tourism Events
ATTACH;FMTTYPE=image/jpeg:https://carrollcountytourism.org/wp-content/uploads/2018/04/event_FMcivilwarspring.jpg
END:VEVENT
END:VCALENDAR