BEGIN:VCALENDAR
VERSION:2.0
PRODID:-//Carroll County Tourism | Carroll County, Maryland - ECPv6.15.17//NONSGML v1.0//EN
CALSCALE:GREGORIAN
METHOD:PUBLISH
X-ORIGINAL-URL:https://carrollcountytourism.org
X-WR-CALDESC:Events for Carroll County Tourism | Carroll County, Maryland
REFRESH-INTERVAL;VALUE=DURATION:PT1H
X-Robots-Tag:noindex
X-PUBLISHED-TTL:PT1H
BEGIN:VTIMEZONE
TZID:America/New_York
BEGIN:DAYLIGHT
TZOFFSETFROM:-0500
TZOFFSETTO:-0400
TZNAME:EDT
DTSTART:20240310T070000
END:DAYLIGHT
BEGIN:STANDARD
TZOFFSETFROM:-0400
TZOFFSETTO:-0500
TZNAME:EST
DTSTART:20241103T060000
END:STANDARD
BEGIN:DAYLIGHT
TZOFFSETFROM:-0500
TZOFFSETTO:-0400
TZNAME:EDT
DTSTART:20250309T070000
END:DAYLIGHT
BEGIN:STANDARD
TZOFFSETFROM:-0400
TZOFFSETTO:-0500
TZNAME:EST
DTSTART:20251102T060000
END:STANDARD
BEGIN:DAYLIGHT
TZOFFSETFROM:-0500
TZOFFSETTO:-0400
TZNAME:EDT
DTSTART:20260308T070000
END:DAYLIGHT
BEGIN:STANDARD
TZOFFSETFROM:-0400
TZOFFSETTO:-0500
TZNAME:EST
DTSTART:20261101T060000
END:STANDARD
END:VTIMEZONE
BEGIN:VEVENT
DTSTART;TZID=America/New_York:20251105T170000
DTEND;TZID=America/New_York:20251105T190000
DTSTAMP:20260420T153350
CREATED:20250929T175326Z
LAST-MODIFIED:20250929T175326Z
UID:10011761-1762362000-1762369200@carrollcountytourism.org
SUMMARY:Carroll County Government Employment Expo
DESCRIPTION:We’re excited to invite you to the Carroll County Government Employment Expo on Wednesday\, November 5\, 2025\, from 5:00 to 7:00 PM! This is a great opportunity to explore a variety of career paths in public service and discover how you can make a meaningful impact in our community. \nFind your way through the employment maze—connect with representatives from multiple departments\, learn about current job openings\, and gain insight into how a career with Carroll County Government can be both rewarding and fulfilling. \nIn addition\, we will be holding Intern Interest Sessions from 4:30–5:00 PM. This session is ideal for students or job seekers interested in internship opportunities with the County. You’ll learn more about available roles and how to apply. Registration is preferred but not required to attend the intern session. \nIf you would like to register for the Intern Interest Session\, visit www.carrollcountymd.gov/hr or call (410) 386- 2129! \nWe hope you’ll join us and take the next step toward a career that truly matters!
URL:https://carrollcountytourism.org/event/carroll-county-government-employment-expo/
LOCATION:Carroll County Government Office Building\, 225 North Center Street\, Westminster\, MD\, 21157\, United States
CATEGORIES:Tourism Events
ATTACH;FMTTYPE=image/jpeg:https://carrollcountytourism.org/wp-content/uploads/2025/09/event_carrollcountygeneral.jpg
END:VEVENT
BEGIN:VEVENT
DTSTART;TZID=America/New_York:20250910T090000
DTEND;TZID=America/New_York:20250910T140000
DTSTAMP:20260420T153350
CREATED:20250625T145833Z
LAST-MODIFIED:20250625T145833Z
UID:10011555-1757494800-1757512800@carrollcountytourism.org
SUMMARY:Aging Your Way Expo (Formerly Seniors on the Go)
DESCRIPTION:This expo is a wonderful\, fun way for older adults\, people with disabilities\, Veterans\, and their caregivers to discover what is available in their communities. Everyone will find something interesting to do as activities include various screenings and assessments for healthy living\, community programs and fitness demonstrations\, three informational seminars\, and an assortment of businesses and agencies. \nFREE Admission\nFREE Health Screenings\nVendor Prize BINGO\nSpeakers & Seminars\nCommunity Program &\nFitness Demonstration \nFREE Shuttle Service\nBoxed Lunches\nPrescription Medication Disposal\nDesignated Veterans Area\nFREE Complementary\nTherapies \nFollow on Facebook: https://www.facebook.com/agingyourwayexpo
URL:https://carrollcountytourism.org/event/aging-your-way-expo-2/
LOCATION:Carroll County Ag Center – Shipley Arena\, 706 Agricultural Center Dr\, Westminster\, MD\, 21157\, United States
CATEGORIES:Tourism Events
ATTACH;FMTTYPE=image/jpeg:https://carrollcountytourism.org/wp-content/uploads/2024/07/event_agingyourwayexpo.jpg
GEO:39.5579291;-77.00176
X-APPLE-STRUCTURED-LOCATION;VALUE=URI;X-ADDRESS=Carroll County Ag Center – Shipley Arena 706 Agricultural Center Dr Westminster MD 21157 United States;X-APPLE-RADIUS=500;X-TITLE=706 Agricultural Center Dr:geo:-77.00176,39.5579291
END:VEVENT
END:VCALENDAR