BEGIN:VCALENDAR
VERSION:2.0
PRODID:-//Carroll County Tourism | Carroll County, Maryland - ECPv6.15.17//NONSGML v1.0//EN
CALSCALE:GREGORIAN
METHOD:PUBLISH
X-WR-CALNAME:Carroll County Tourism | Carroll County, Maryland
X-ORIGINAL-URL:https://carrollcountytourism.org
X-WR-CALDESC:Events for Carroll County Tourism | Carroll County, Maryland
REFRESH-INTERVAL;VALUE=DURATION:PT1H
X-Robots-Tag:noindex
X-PUBLISHED-TTL:PT1H
BEGIN:VTIMEZONE
TZID:America/New_York
BEGIN:DAYLIGHT
TZOFFSETFROM:-0500
TZOFFSETTO:-0400
TZNAME:EDT
DTSTART:20250309T070000
END:DAYLIGHT
BEGIN:STANDARD
TZOFFSETFROM:-0400
TZOFFSETTO:-0500
TZNAME:EST
DTSTART:20251102T060000
END:STANDARD
BEGIN:DAYLIGHT
TZOFFSETFROM:-0500
TZOFFSETTO:-0400
TZNAME:EDT
DTSTART:20260308T070000
END:DAYLIGHT
BEGIN:STANDARD
TZOFFSETFROM:-0400
TZOFFSETTO:-0500
TZNAME:EST
DTSTART:20261101T060000
END:STANDARD
BEGIN:DAYLIGHT
TZOFFSETFROM:-0500
TZOFFSETTO:-0400
TZNAME:EDT
DTSTART:20270314T070000
END:DAYLIGHT
BEGIN:STANDARD
TZOFFSETFROM:-0400
TZOFFSETTO:-0500
TZNAME:EST
DTSTART:20271107T060000
END:STANDARD
END:VTIMEZONE
BEGIN:VEVENT
DTSTART;TZID=America/New_York:20260503T120000
DTEND;TZID=America/New_York:20260503T160000
DTSTAMP:20260420T151037
CREATED:20260113T143944Z
LAST-MODIFIED:20260126T155657Z
UID:10008138-1777809600-1777824000@carrollcountytourism.org
SUMMARY:5th Annual Veterans Celebration of Carroll County
DESCRIPTION:All Veterans\, Military\, their families and all citizens are invited to the 5th Annual Veterans Celebration of Carroll County on Sunday\, May 3 from noon to 4pm. Admission and parking are FREE! \nFree admission\, Entertainment\, Children’s Activities\, Great Food\, Military Equipment Display\, Carroll County Veterans Military Exhibit\, Artisans\, Craft Vendors\, beer garden…and more!!! \nVeteran Service Organizations on site too! Come and join us as Carroll County thanks our Veterans and their families for their service! Enjoy the camaraderie of other Veterans and Active Military! \nStay tuned for more information
URL:https://carrollcountytourism.org/event/veterans-celebration-of-carroll-county-2026/
LOCATION:Carroll County Farm Museum\, 500 South Center St\, Westminster\, MD\, 21157\, United States
CATEGORIES:Tourism Events
ATTACH;FMTTYPE=image/jpeg:https://carrollcountytourism.org/wp-content/uploads/2023/03/event_veteranscelebration2.jpg
END:VEVENT
END:VCALENDAR