BEGIN:VCALENDAR
VERSION:2.0
PRODID:-//Carroll County Tourism | Carroll County, Maryland - ECPv6.15.17//NONSGML v1.0//EN
CALSCALE:GREGORIAN
METHOD:PUBLISH
X-WR-CALNAME:Carroll County Tourism | Carroll County, Maryland
X-ORIGINAL-URL:https://carrollcountytourism.org
X-WR-CALDESC:Events for Carroll County Tourism | Carroll County, Maryland
REFRESH-INTERVAL;VALUE=DURATION:PT1H
X-Robots-Tag:noindex
X-PUBLISHED-TTL:PT1H
BEGIN:VTIMEZONE
TZID:America/New_York
BEGIN:DAYLIGHT
TZOFFSETFROM:-0500
TZOFFSETTO:-0400
TZNAME:EDT
DTSTART:20240310T070000
END:DAYLIGHT
BEGIN:STANDARD
TZOFFSETFROM:-0400
TZOFFSETTO:-0500
TZNAME:EST
DTSTART:20241103T060000
END:STANDARD
BEGIN:DAYLIGHT
TZOFFSETFROM:-0500
TZOFFSETTO:-0400
TZNAME:EDT
DTSTART:20250309T070000
END:DAYLIGHT
BEGIN:STANDARD
TZOFFSETFROM:-0400
TZOFFSETTO:-0500
TZNAME:EST
DTSTART:20251102T060000
END:STANDARD
BEGIN:DAYLIGHT
TZOFFSETFROM:-0500
TZOFFSETTO:-0400
TZNAME:EDT
DTSTART:20260308T070000
END:DAYLIGHT
BEGIN:STANDARD
TZOFFSETFROM:-0400
TZOFFSETTO:-0500
TZNAME:EST
DTSTART:20261101T060000
END:STANDARD
END:VTIMEZONE
BEGIN:VEVENT
DTSTART;TZID=America/New_York:20250201T130000
DTEND;TZID=America/New_York:20250201T160000
DTSTAMP:20260421T031016
CREATED:20250113T154651Z
LAST-MODIFIED:20250113T154651Z
UID:10008135-1738414800-1738425600@carrollcountytourism.org
SUMMARY:Roar Like a Lion: An Afternoon of Community Service
DESCRIPTION:For all ages. Beat the winter blues and feel the warmth of service to your community. In partnership with local Lions Clubs\, join us for an afternoon of community service. Lions Clubs will supply materials\, instructions\, and volunteers to lead a variety of projects that benefit our community. Drop in for an hour or the entire time. Student service hours will be available.
URL:https://carrollcountytourism.org/event/roar-like-a-lion-an-afternoon-of-community-service/
LOCATION:Carroll County Public Library\, Finksburg Branch\, 2265 Old Westminster Pike\, Finksburg\, MD\, 21048\, United States
ATTACH;FMTTYPE=image/jpeg:https://carrollcountytourism.org/wp-content/uploads/2023/01/event_CCPLgeneral.jpg
ORGANIZER;CN="Carroll County Public Library":MAILTO:ask@carr.org
END:VEVENT
END:VCALENDAR