BEGIN:VCALENDAR
VERSION:2.0
PRODID:-//Carroll County Tourism | Carroll County, Maryland - ECPv6.15.17//NONSGML v1.0//EN
CALSCALE:GREGORIAN
METHOD:PUBLISH
X-WR-CALNAME:Carroll County Tourism | Carroll County, Maryland
X-ORIGINAL-URL:https://carrollcountytourism.org
X-WR-CALDESC:Events for Carroll County Tourism | Carroll County, Maryland
REFRESH-INTERVAL;VALUE=DURATION:PT1H
X-Robots-Tag:noindex
X-PUBLISHED-TTL:PT1H
BEGIN:VTIMEZONE
TZID:America/New_York
BEGIN:DAYLIGHT
TZOFFSETFROM:-0500
TZOFFSETTO:-0400
TZNAME:EDT
DTSTART:20250309T070000
END:DAYLIGHT
BEGIN:STANDARD
TZOFFSETFROM:-0400
TZOFFSETTO:-0500
TZNAME:EST
DTSTART:20251102T060000
END:STANDARD
BEGIN:DAYLIGHT
TZOFFSETFROM:-0500
TZOFFSETTO:-0400
TZNAME:EDT
DTSTART:20260308T070000
END:DAYLIGHT
BEGIN:STANDARD
TZOFFSETFROM:-0400
TZOFFSETTO:-0500
TZNAME:EST
DTSTART:20261101T060000
END:STANDARD
BEGIN:DAYLIGHT
TZOFFSETFROM:-0500
TZOFFSETTO:-0400
TZNAME:EDT
DTSTART:20270314T070000
END:DAYLIGHT
BEGIN:STANDARD
TZOFFSETFROM:-0400
TZOFFSETTO:-0500
TZNAME:EST
DTSTART:20271107T060000
END:STANDARD
END:VTIMEZONE
BEGIN:VEVENT
DTSTART;TZID=America/New_York:20260911T070000
DTEND;TZID=America/New_York:20260911T200000
DTSTAMP:20260420T222110
CREATED:20260331T174222Z
LAST-MODIFIED:20260331T174222Z
UID:10013677-1789110000-1789156800@carrollcountytourism.org
SUMMARY:Mason Dixon Historical Society Annual Steam & Gas Round-up
DESCRIPTION:Auction – September 11\, 2026. Starts 8:30 AM\nShow September 12-13\, 2026. Open 7 AM to dusk \nParades Sat. & Sun.: Tractors each day at 4 PM. Antique Cars & Trucks at 1 PM\nEntertainment for the whole family:\nTractors & Engines\, Saw & Shingle mills\, Threshing & Baling\, Slow tractor race\, Grist mill\, Kids barrel train\, Kids Pedal Pull\, Flea Market\, and Blacksmith demo.\nFood available for sale.\nFree admission and parking!
URL:https://carrollcountytourism.org/event/mason-dixon-historical-society-annual-steam-gas-round-up/2026-09-11/
LOCATION:Carroll County Farm Museum\, 500 South Center St\, Westminster\, MD\, 21157\, United States
CATEGORIES:Tourism Events
ATTACH;FMTTYPE=image/jpeg:https://carrollcountytourism.org/wp-content/uploads/2018/07/event_steamshow.jpg
END:VEVENT
BEGIN:VEVENT
DTSTART;TZID=America/New_York:20260912T070000
DTEND;TZID=America/New_York:20260912T200000
DTSTAMP:20260420T222110
CREATED:20260331T174222Z
LAST-MODIFIED:20260331T174222Z
UID:10013678-1789196400-1789243200@carrollcountytourism.org
SUMMARY:Mason Dixon Historical Society Annual Steam & Gas Round-up
DESCRIPTION:Auction – September 11\, 2026. Starts 8:30 AM\nShow September 12-13\, 2026. Open 7 AM to dusk \nParades Sat. & Sun.: Tractors each day at 4 PM. Antique Cars & Trucks at 1 PM\nEntertainment for the whole family:\nTractors & Engines\, Saw & Shingle mills\, Threshing & Baling\, Slow tractor race\, Grist mill\, Kids barrel train\, Kids Pedal Pull\, Flea Market\, and Blacksmith demo.\nFood available for sale.\nFree admission and parking!
URL:https://carrollcountytourism.org/event/mason-dixon-historical-society-annual-steam-gas-round-up/2026-09-12/
LOCATION:Carroll County Farm Museum\, 500 South Center St\, Westminster\, MD\, 21157\, United States
CATEGORIES:Tourism Events
ATTACH;FMTTYPE=image/jpeg:https://carrollcountytourism.org/wp-content/uploads/2018/07/event_steamshow.jpg
END:VEVENT
BEGIN:VEVENT
DTSTART;TZID=America/New_York:20260913T070000
DTEND;TZID=America/New_York:20260913T200000
DTSTAMP:20260420T222110
CREATED:20260331T174222Z
LAST-MODIFIED:20260331T174222Z
UID:10013679-1789282800-1789329600@carrollcountytourism.org
SUMMARY:Mason Dixon Historical Society Annual Steam & Gas Round-up
DESCRIPTION:Auction – September 11\, 2026. Starts 8:30 AM\nShow September 12-13\, 2026. Open 7 AM to dusk \nParades Sat. & Sun.: Tractors each day at 4 PM. Antique Cars & Trucks at 1 PM\nEntertainment for the whole family:\nTractors & Engines\, Saw & Shingle mills\, Threshing & Baling\, Slow tractor race\, Grist mill\, Kids barrel train\, Kids Pedal Pull\, Flea Market\, and Blacksmith demo.\nFood available for sale.\nFree admission and parking!
URL:https://carrollcountytourism.org/event/mason-dixon-historical-society-annual-steam-gas-round-up/2026-09-13/
LOCATION:Carroll County Farm Museum\, 500 South Center St\, Westminster\, MD\, 21157\, United States
CATEGORIES:Tourism Events
ATTACH;FMTTYPE=image/jpeg:https://carrollcountytourism.org/wp-content/uploads/2018/07/event_steamshow.jpg
END:VEVENT
END:VCALENDAR