BEGIN:VCALENDAR
VERSION:2.0
PRODID:-//Carroll County Tourism | Carroll County, Maryland - ECPv6.15.17//NONSGML v1.0//EN
CALSCALE:GREGORIAN
METHOD:PUBLISH
X-ORIGINAL-URL:https://carrollcountytourism.org
X-WR-CALDESC:Events for Carroll County Tourism | Carroll County, Maryland
REFRESH-INTERVAL;VALUE=DURATION:PT1H
X-Robots-Tag:noindex
X-PUBLISHED-TTL:PT1H
BEGIN:VTIMEZONE
TZID:America/New_York
BEGIN:DAYLIGHT
TZOFFSETFROM:-0500
TZOFFSETTO:-0400
TZNAME:EDT
DTSTART:20240310T070000
END:DAYLIGHT
BEGIN:STANDARD
TZOFFSETFROM:-0400
TZOFFSETTO:-0500
TZNAME:EST
DTSTART:20241103T060000
END:STANDARD
BEGIN:DAYLIGHT
TZOFFSETFROM:-0500
TZOFFSETTO:-0400
TZNAME:EDT
DTSTART:20250309T070000
END:DAYLIGHT
BEGIN:STANDARD
TZOFFSETFROM:-0400
TZOFFSETTO:-0500
TZNAME:EST
DTSTART:20251102T060000
END:STANDARD
BEGIN:DAYLIGHT
TZOFFSETFROM:-0500
TZOFFSETTO:-0400
TZNAME:EDT
DTSTART:20260308T070000
END:DAYLIGHT
BEGIN:STANDARD
TZOFFSETFROM:-0400
TZOFFSETTO:-0500
TZNAME:EST
DTSTART:20261101T060000
END:STANDARD
END:VTIMEZONE
BEGIN:VEVENT
DTSTART;TZID=America/New_York:20251108T090000
DTEND;TZID=America/New_York:20251108T140000
DTSTAMP:20260421T013820
CREATED:20250127T190125Z
LAST-MODIFIED:20250127T190125Z
UID:10008157-1762592400-1762610400@carrollcountytourism.org
SUMMARY:"Christmas In The Country" Bazaar
DESCRIPTION:Oakland U.M. Church Hall\n5971 Mineral Hill Road\nSykesville\, MD 21784 \nFriday 11/7/2025. 9-7:30pm\nSaturday 11/8/2025 9-2pm \nJoin us for:\nHandmade Holiday Ornaments\, Gift Baskets\, Wreaths\, Seasonal Gifts\, Hidden Treasures (White Elephant Items)\,\nBaked Goods and Candies\, Handmade Bird Houses\, Live Plants\, Bird Seed Ornaments\, Cocoa Fun in a Jar. \nMenu Items with (Carry Outs Availability): Vegetable Beef and Turkey Noodle Soups\, Beef BBQ\, Turkey Salad Sandwiches\, Hot Dogs\, Cheese Steaks and Italian Sausage Subs\, Various Desserts\, Chicken Tenders\, Macaroni & Cheese\, French Fries\, and Applesauce.
URL:https://carrollcountytourism.org/event/christmas-in-the-country-bazaar-2/2025-11-08/
LOCATION:Oakland United Methodist Church Hall\, 5971 Mineral Hill Rd\, Eldersburg\, MD\, 21784\, United States
CATEGORIES:Tourism Events
ATTACH;FMTTYPE=image/jpeg:https://carrollcountytourism.org/wp-content/uploads/2022/04/event_christmasinthecountry.jpg
ORGANIZER;CN="Oakland Methodist Church":MAILTO:lschissler0@gmail.com
END:VEVENT
BEGIN:VEVENT
DTSTART;TZID=America/New_York:20251107T090000
DTEND;TZID=America/New_York:20251107T193000
DTSTAMP:20260421T013820
CREATED:20250127T190125Z
LAST-MODIFIED:20250127T190125Z
UID:10008156-1762506000-1762543800@carrollcountytourism.org
SUMMARY:"Christmas In The Country" Bazaar
DESCRIPTION:Oakland U.M. Church Hall\n5971 Mineral Hill Road\nSykesville\, MD 21784 \nFriday 11/7/2025. 9-7:30pm\nSaturday 11/8/2025 9-2pm \nJoin us for:\nHandmade Holiday Ornaments\, Gift Baskets\, Wreaths\, Seasonal Gifts\, Hidden Treasures (White Elephant Items)\,\nBaked Goods and Candies\, Handmade Bird Houses\, Live Plants\, Bird Seed Ornaments\, Cocoa Fun in a Jar. \nMenu Items with (Carry Outs Availability): Vegetable Beef and Turkey Noodle Soups\, Beef BBQ\, Turkey Salad Sandwiches\, Hot Dogs\, Cheese Steaks and Italian Sausage Subs\, Various Desserts\, Chicken Tenders\, Macaroni & Cheese\, French Fries\, and Applesauce.
URL:https://carrollcountytourism.org/event/christmas-in-the-country-bazaar-2/2025-11-07/
LOCATION:Oakland United Methodist Church Hall\, 5971 Mineral Hill Rd\, Eldersburg\, MD\, 21784\, United States
CATEGORIES:Tourism Events
ATTACH;FMTTYPE=image/jpeg:https://carrollcountytourism.org/wp-content/uploads/2022/04/event_christmasinthecountry.jpg
ORGANIZER;CN="Oakland Methodist Church":MAILTO:lschissler0@gmail.com
END:VEVENT
END:VCALENDAR