BEGIN:VCALENDAR
VERSION:2.0
PRODID:-//Carroll County Tourism | Carroll County, Maryland - ECPv6.15.17//NONSGML v1.0//EN
CALSCALE:GREGORIAN
METHOD:PUBLISH
X-WR-CALNAME:Carroll County Tourism | Carroll County, Maryland
X-ORIGINAL-URL:https://carrollcountytourism.org
X-WR-CALDESC:Events for Carroll County Tourism | Carroll County, Maryland
REFRESH-INTERVAL;VALUE=DURATION:PT1H
X-Robots-Tag:noindex
X-PUBLISHED-TTL:PT1H
BEGIN:VTIMEZONE
TZID:America/New_York
BEGIN:DAYLIGHT
TZOFFSETFROM:-0500
TZOFFSETTO:-0400
TZNAME:EDT
DTSTART:20240310T070000
END:DAYLIGHT
BEGIN:STANDARD
TZOFFSETFROM:-0400
TZOFFSETTO:-0500
TZNAME:EST
DTSTART:20241103T060000
END:STANDARD
BEGIN:DAYLIGHT
TZOFFSETFROM:-0500
TZOFFSETTO:-0400
TZNAME:EDT
DTSTART:20250309T070000
END:DAYLIGHT
BEGIN:STANDARD
TZOFFSETFROM:-0400
TZOFFSETTO:-0500
TZNAME:EST
DTSTART:20251102T060000
END:STANDARD
BEGIN:DAYLIGHT
TZOFFSETFROM:-0500
TZOFFSETTO:-0400
TZNAME:EDT
DTSTART:20260308T070000
END:DAYLIGHT
BEGIN:STANDARD
TZOFFSETFROM:-0400
TZOFFSETTO:-0500
TZNAME:EST
DTSTART:20261101T060000
END:STANDARD
BEGIN:DAYLIGHT
TZOFFSETFROM:-0500
TZOFFSETTO:-0400
TZNAME:EDT
DTSTART:20270314T070000
END:DAYLIGHT
BEGIN:STANDARD
TZOFFSETFROM:-0400
TZOFFSETTO:-0500
TZNAME:EST
DTSTART:20271107T060000
END:STANDARD
END:VTIMEZONE
BEGIN:VEVENT
DTSTART;TZID=America/New_York:20260215T090000
DTEND;TZID=America/New_York:20260215T140000
DTSTAMP:20260421T012339
CREATED:20250930T141333Z
LAST-MODIFIED:20251028T200212Z
UID:10011763-1771146000-1771164000@carrollcountytourism.org
SUMMARY:STOP\, SWAP AND SAVE
DESCRIPTION:Don’t miss the 29th annual STOP SWAP AND SAVE\, the East Coast’s largest indoor bicycle swap meet and consumer bike expo. Mark your calendar now for Sunday\, February 15th\, 2026\, from 9:00 am to 2:00 pm when over 4000 people will make the trip from Maryland\, Pennsylvania\, Virginia\, Washington DC\, Delaware\, New Jersey\, New York and beyond to spend the day at the Carroll County Ag Center in Westminster\, MD! Whether you’re looking for road bikes\, mountain bikes\, triathlon bikes\, BMX bikes\, clothing\, bike parts\, cycling accessories\, vintage\, new or used\, there’s something for everyone… all for sale at discounted prices! Vendor spaces are available as well! For complete information\, please visit www.stopswapandsave.com.
URL:https://carrollcountytourism.org/event/stop-swap-and-save-2/
LOCATION:Carroll County Agriculture Center\, 706 Agricultural Center Dr\, Westminster\, MD\, 21157\, United States
CATEGORIES:Tourism Events
ATTACH;FMTTYPE=image/jpeg:https://carrollcountytourism.org/wp-content/uploads/2024/09/event_StopSwapSave2.jpg
ORGANIZER;CN="STOP%2C SWAP AND SAVE":MAILTO:info@stopswapandsave.com
GEO:39.5579291;-77.00176
X-APPLE-STRUCTURED-LOCATION;VALUE=URI;X-ADDRESS=Carroll County Agriculture Center 706 Agricultural Center Dr Westminster MD 21157 United States;X-APPLE-RADIUS=500;X-TITLE=706 Agricultural Center Dr:geo:-77.00176,39.5579291
END:VEVENT
BEGIN:VEVENT
DTSTART;TZID=America/New_York:20250216T090000
DTEND;TZID=America/New_York:20250216T140000
DTSTAMP:20260421T012339
CREATED:20240906T153715Z
LAST-MODIFIED:20240906T153715Z
UID:10007217-1739696400-1739714400@carrollcountytourism.org
SUMMARY:STOP\, SWAP AND SAVE
DESCRIPTION:Don’t miss the 28th annual STOP SWAP AND SAVE\, the East Coast’s largest indoor bicycle swap meet and consumer bike expo. \nMark your calendar now for Sunday\, February 16th\, 2025\, from 9:00 am to 2:00 pm when over 4000 people will make the trip from Maryland\, Pennsylvania\, Virginia\, Washington DC\, Delaware\, New Jersey\, New York and beyond to spend the day at the Carroll County Ag Center in Westminster\, MD! \nClick here for complete event info. Whether you’re looking for road bikes\, mountain bikes\, triathlon bikes\, BMX bikes\, clothing\, bike parts\, cycling accessories\, vintage\, new or used\, there’s something for everyone… all for sale at discounted prices! Visit www.stopswapandsave.com for complete info!
URL:https://carrollcountytourism.org/event/stop-swap-and-save-3/
LOCATION:Carroll County Ag Center – Shipley Arena\, 706 Agricultural Center Dr\, Westminster\, MD\, 21157\, United States
CATEGORIES:Tourism Events
ATTACH;FMTTYPE=image/jpeg:https://carrollcountytourism.org/wp-content/uploads/2024/09/event_StopSwapSave2.jpg
ORGANIZER;CN="STOP%2C SWAP AND SAVE":MAILTO:info@stopswapandsave.com
GEO:39.5579291;-77.00176
X-APPLE-STRUCTURED-LOCATION;VALUE=URI;X-ADDRESS=Carroll County Ag Center – Shipley Arena 706 Agricultural Center Dr Westminster MD 21157 United States;X-APPLE-RADIUS=500;X-TITLE=706 Agricultural Center Dr:geo:-77.00176,39.5579291
END:VEVENT
END:VCALENDAR