BEGIN:VCALENDAR
VERSION:2.0
PRODID:-//Carroll County Tourism | Carroll County, Maryland - ECPv6.15.17//NONSGML v1.0//EN
CALSCALE:GREGORIAN
METHOD:PUBLISH
X-ORIGINAL-URL:https://carrollcountytourism.org
X-WR-CALDESC:Events for Carroll County Tourism | Carroll County, Maryland
REFRESH-INTERVAL;VALUE=DURATION:PT1H
X-Robots-Tag:noindex
X-PUBLISHED-TTL:PT1H
BEGIN:VTIMEZONE
TZID:America/New_York
BEGIN:DAYLIGHT
TZOFFSETFROM:-0500
TZOFFSETTO:-0400
TZNAME:EDT
DTSTART:20240310T070000
END:DAYLIGHT
BEGIN:STANDARD
TZOFFSETFROM:-0400
TZOFFSETTO:-0500
TZNAME:EST
DTSTART:20241103T060000
END:STANDARD
BEGIN:DAYLIGHT
TZOFFSETFROM:-0500
TZOFFSETTO:-0400
TZNAME:EDT
DTSTART:20250309T070000
END:DAYLIGHT
BEGIN:STANDARD
TZOFFSETFROM:-0400
TZOFFSETTO:-0500
TZNAME:EST
DTSTART:20251102T060000
END:STANDARD
BEGIN:DAYLIGHT
TZOFFSETFROM:-0500
TZOFFSETTO:-0400
TZNAME:EDT
DTSTART:20260308T070000
END:DAYLIGHT
BEGIN:STANDARD
TZOFFSETFROM:-0400
TZOFFSETTO:-0500
TZNAME:EST
DTSTART:20261101T060000
END:STANDARD
END:VTIMEZONE
BEGIN:VEVENT
DTSTART;TZID=America/New_York:20251129T090000
DTEND;TZID=America/New_York:20251129T150000
DTSTAMP:20260421T032101
CREATED:20250625T150359Z
LAST-MODIFIED:20250625T150423Z
UID:10011556-1764406800-1764428400@carrollcountytourism.org
SUMMARY:12th Annual Sykesville Holiday Marketplace
DESCRIPTION:Please join us this year at the Sykesville Holiday Marketplace and shop with over 150 carefully selected vendors featuring handmade crafts and items from your favorite direct sale companies.\nFrom home décor to holiday decorations\, paper crafts to jewelry\, ceramics to wood crafts\, candles to glassware\, children’s items to specialty foods & drinks\, there is something for everyone! \nGet all of your holiday shopping done in one place! \n*No entrance fee \n\n*Handicap Accessible\n*Rain or Shine indoor event\n*Win prizes from our huge raffle tables\n*Family Friendly\n*Visit with Santa\n*Visit with Reptiles\n*Free face painting\n*Food and drink available\nFor more details\, visit www.SykesvilleHolidayMarketplace.com.\n\nInterested in being a vendor? Please visit our website.\n\nService animals\, only\, please. No pets allowed.
URL:https://carrollcountytourism.org/event/annual-sykesville-holiday-marketplace-2025/
LOCATION:Carroll County Ag Center – Shipley Arena\, 706 Agricultural Center Dr\, Westminster\, MD\, 21157\, United States
CATEGORIES:Tourism Events
ATTACH;FMTTYPE=image/jpeg:https://carrollcountytourism.org/wp-content/uploads/2021/10/event_sykesvilleholidaymarketplace.jpg
ORGANIZER;CN="Sykesville Holiday Marketplace":MAILTO:sykesvilleholidaymarketplace@gmail.com
GEO:39.5579291;-77.00176
X-APPLE-STRUCTURED-LOCATION;VALUE=URI;X-ADDRESS=Carroll County Ag Center – Shipley Arena 706 Agricultural Center Dr Westminster MD 21157 United States;X-APPLE-RADIUS=500;X-TITLE=706 Agricultural Center Dr:geo:-77.00176,39.5579291
END:VEVENT
BEGIN:VEVENT
DTSTART;TZID=America/New_York:20251004T090000
DTEND;TZID=America/New_York:20251004T150000
DTSTAMP:20260421T032101
CREATED:20250625T150627Z
LAST-MODIFIED:20250625T150627Z
UID:10011557-1759568400-1759590000@carrollcountytourism.org
SUMMARY:2nd Annual Fall Marketplace
DESCRIPTION:Please join us this at the FALL MARKETPLACE at Shipley Arena!!\nShop with over 150 carefully selected vendors featuring handmade crafts and items from your favorite direct sale companies.\nFrom home décor to holiday decorations\, paper crafts to jewelry\, ceramics to wood crafts\, candles to glassware\, children’s items to specialty foods & drinks\, there is something for everyone! \n*No entrance fee\n*Handicap Accessible\n*Rain or Shine indoor event\n*Win prizes from our huge raffle tables\n*Family Friendly\n*Visit with Reptiles\n*Food and drink available \nJust a small sample of what’s you’ll find at the Marketplace…\njewelry * painted glassware * bags & totes * candles * paintings & photography * skin care products * make up * specialty desserts * paper crafts * clothing * hats * painted crab shells * scarves\, gloves\, shawls * soaps & lotions * embroidered items * woodturning * books * pillows & blankets * ceramics * home décor * ornaments * crochet & knitted items *
URL:https://carrollcountytourism.org/event/fall-marketplace-md-2/
LOCATION:Carroll County Ag Center – Shipley Arena\, 706 Agricultural Center Dr\, Westminster\, MD\, 21157\, United States
CATEGORIES:Tourism Events
ATTACH;FMTTYPE=image/jpeg:https://carrollcountytourism.org/wp-content/uploads/2024/09/event_fallmarketplacemd.jpg
ORGANIZER;CN="Sykesville Holiday Marketplace":MAILTO:sykesvilleholidaymarketplace@gmail.com
GEO:39.5579291;-77.00176
X-APPLE-STRUCTURED-LOCATION;VALUE=URI;X-ADDRESS=Carroll County Ag Center – Shipley Arena 706 Agricultural Center Dr Westminster MD 21157 United States;X-APPLE-RADIUS=500;X-TITLE=706 Agricultural Center Dr:geo:-77.00176,39.5579291
END:VEVENT
END:VCALENDAR