BEGIN:VCALENDAR
VERSION:2.0
PRODID:-//Carroll County Tourism | Carroll County, Maryland - ECPv6.15.17//NONSGML v1.0//EN
CALSCALE:GREGORIAN
METHOD:PUBLISH
X-ORIGINAL-URL:https://carrollcountytourism.org
X-WR-CALDESC:Events for Carroll County Tourism | Carroll County, Maryland
REFRESH-INTERVAL;VALUE=DURATION:PT1H
X-Robots-Tag:noindex
X-PUBLISHED-TTL:PT1H
BEGIN:VTIMEZONE
TZID:America/New_York
BEGIN:DAYLIGHT
TZOFFSETFROM:-0500
TZOFFSETTO:-0400
TZNAME:EDT
DTSTART:20250309T070000
END:DAYLIGHT
BEGIN:STANDARD
TZOFFSETFROM:-0400
TZOFFSETTO:-0500
TZNAME:EST
DTSTART:20251102T060000
END:STANDARD
BEGIN:DAYLIGHT
TZOFFSETFROM:-0500
TZOFFSETTO:-0400
TZNAME:EDT
DTSTART:20260308T070000
END:DAYLIGHT
BEGIN:STANDARD
TZOFFSETFROM:-0400
TZOFFSETTO:-0500
TZNAME:EST
DTSTART:20261101T060000
END:STANDARD
BEGIN:DAYLIGHT
TZOFFSETFROM:-0500
TZOFFSETTO:-0400
TZNAME:EDT
DTSTART:20270314T070000
END:DAYLIGHT
BEGIN:STANDARD
TZOFFSETFROM:-0400
TZOFFSETTO:-0500
TZNAME:EST
DTSTART:20271107T060000
END:STANDARD
END:VTIMEZONE
BEGIN:VEVENT
DTSTART;TZID=America/New_York:20260518T190000
DTEND;TZID=America/New_York:20260518T203000
DTSTAMP:20260420T211836
CREATED:20260218T165002Z
LAST-MODIFIED:20260218T165002Z
UID:10012907-1779130800-1779136200@carrollcountytourism.org
SUMMARY:Taneytown Heritage & Museum Association General Public Meeting with Guest Speaker
DESCRIPTION:General public meeting Monday\, May 18\, 2026\, at 7:00 p.m. at Grace United Church of Christ\, 49 W Baltimore Street\, Taneytown\, Md. in the Parish Hall. Parking is available in back of the church. There will be a brief business meeting followed by the guest speaker\, Lou Mendenhall who will give a presentation about Hudson cars. There will be a Hudson Car Show Day at the History Museum on Saturday\, June 13th. Hudson cars and the owners will be on site to talk with visitors. The History Museum was at one time the location of a Hudson car dealership owned by Martin Koons in the l950s-60s. Light refreshments will be available immediately after the speaker.
URL:https://carrollcountytourism.org/event/taneytown-heritage-museum-association-general-public-meeting-with-guest-speaker-3/
LOCATION:Grace United Church of Christ\, 49 West Baltimore Street\, Taneytwon\, MD\, 21787\, United States
CATEGORIES:Tourism Events
ATTACH;FMTTYPE=image/jpeg:https://carrollcountytourism.org/wp-content/uploads/2021/09/event_taneytownHistoryMuseum.jpg
ORGANIZER;CN="Taneytown Heritage &amp%3Bamp%3B Museum Association%2C Inc":MAILTO:ehoover44@verizon.net
END:VEVENT
END:VCALENDAR