BEGIN:VCALENDAR
VERSION:2.0
PRODID:-//Carroll County Tourism | Carroll County, Maryland - ECPv6.15.17//NONSGML v1.0//EN
CALSCALE:GREGORIAN
METHOD:PUBLISH
X-WR-CALNAME:Carroll County Tourism | Carroll County, Maryland
X-ORIGINAL-URL:https://carrollcountytourism.org
X-WR-CALDESC:Events for Carroll County Tourism | Carroll County, Maryland
REFRESH-INTERVAL;VALUE=DURATION:PT1H
X-Robots-Tag:noindex
X-PUBLISHED-TTL:PT1H
BEGIN:VTIMEZONE
TZID:America/New_York
BEGIN:DAYLIGHT
TZOFFSETFROM:-0500
TZOFFSETTO:-0400
TZNAME:EDT
DTSTART:20240310T070000
END:DAYLIGHT
BEGIN:STANDARD
TZOFFSETFROM:-0400
TZOFFSETTO:-0500
TZNAME:EST
DTSTART:20241103T060000
END:STANDARD
BEGIN:DAYLIGHT
TZOFFSETFROM:-0500
TZOFFSETTO:-0400
TZNAME:EDT
DTSTART:20250309T070000
END:DAYLIGHT
BEGIN:STANDARD
TZOFFSETFROM:-0400
TZOFFSETTO:-0500
TZNAME:EST
DTSTART:20251102T060000
END:STANDARD
BEGIN:DAYLIGHT
TZOFFSETFROM:-0500
TZOFFSETTO:-0400
TZNAME:EDT
DTSTART:20260308T070000
END:DAYLIGHT
BEGIN:STANDARD
TZOFFSETFROM:-0400
TZOFFSETTO:-0500
TZNAME:EST
DTSTART:20261101T060000
END:STANDARD
BEGIN:DAYLIGHT
TZOFFSETFROM:-0500
TZOFFSETTO:-0400
TZNAME:EDT
DTSTART:20270314T070000
END:DAYLIGHT
BEGIN:STANDARD
TZOFFSETFROM:-0400
TZOFFSETTO:-0500
TZNAME:EST
DTSTART:20271107T060000
END:STANDARD
END:VTIMEZONE
BEGIN:VEVENT
DTSTART;TZID=America/New_York:20260416T173000
DTEND;TZID=America/New_York:20260416T193000
DTSTAMP:20260420T222403
CREATED:20260225T170504Z
LAST-MODIFIED:20260225T170504Z
UID:10012920-1776360600-1776367800@carrollcountytourism.org
SUMMARY:Senior Capstone Exhibition One Reception
DESCRIPTION:Reception: Thursday\, April 16\, 5:30-7:30 p.m.\, with a gallery talk at 6 p.m. \nThe first in a series of end-of-the-year exhibitions showcasing works by graduating students working in a range of media from two- and three-dimensional approaches to digital and new media. Students exhibiting are Lily Coburn\, Art major from Germantown\, Maryland; Daryn Gluck\, Social Work major from Bethesda\, Maryland; Alena Hemphill\, Art major from Randallstown\, Maryland; August Jankowski\, Art major from Clarksburg\, Maryland; Kiersten Lang\, Art major from Sykesville\, Maryland; Tyler McDaniel\, Art major from Baltimore; Abby Proctor\, Art major from Pasadena\, Maryland; Mikey Simmons\, Art major from Upper Marlboro\, Maryland; and Zero White\, Art major from Baltimore.
URL:https://carrollcountytourism.org/event/senior-capstone-exhibition-one-reception-2/
LOCATION:Esther Prangley Rice Gallery at McDaniel College\, 2 College Hill\, Westminster\, 21157\, United States
CATEGORIES:Tourism Events
ATTACH;FMTTYPE=image/jpeg:https://carrollcountytourism.org/wp-content/uploads/2022/09/event_mcdanielartexhibits.jpg
ORGANIZER;CN="McDaniel College":MAILTO:ocm@mcdaniel.edu
END:VEVENT
BEGIN:VEVENT
DTSTART;TZID=America/New_York:20260326T173000
DTEND;TZID=America/New_York:20260326T193000
DTSTAMP:20260420T222403
CREATED:20260225T170244Z
LAST-MODIFIED:20260225T170244Z
UID:10012919-1774546200-1774553400@carrollcountytourism.org
SUMMARY:Kathryn E. Wentz Juried Undergraduate Exhibition Reception
DESCRIPTION:Reception: Thursday\, March 26\, 5:30-7:30 p.m.\, with awards presentation at 6 p.m. \nThis annual exhibition highlights the best undergraduate work\, such as painting\, sculpture\, photography\, and mixed media. All students are invited to submit up to five works completed while studying at McDaniel College. Winners with pieces selected for the exhibition are announced during the opening reception. Juror for the exhibition is Kourtney Stone\, former resident artist at Baltimore Clayworks and current assistant professor at Harrisburg Area Community College
URL:https://carrollcountytourism.org/event/kathryn-e-wentz-juried-undergraduate-exhibition-reception-2/
LOCATION:Esther Prangley Rice Gallery at McDaniel College\, 2 College Hill\, Westminster\, 21157\, United States
CATEGORIES:Tourism Events
ATTACH;FMTTYPE=image/jpeg:https://carrollcountytourism.org/wp-content/uploads/2022/09/event_mcdanielartexhibits.jpg
ORGANIZER;CN="McDaniel College":MAILTO:ocm@mcdaniel.edu
END:VEVENT
BEGIN:VEVENT
DTSTART;TZID=America/New_York:20260305T173000
DTEND;TZID=America/New_York:20260305T193000
DTSTAMP:20260420T222403
CREATED:20260225T170032Z
LAST-MODIFIED:20260225T170032Z
UID:10012918-1772731800-1772739000@carrollcountytourism.org
SUMMARY:Honors Art Exhibition Reception
DESCRIPTION:Opening reception: Thursday\, March 5\, 5:30-7:30 p.m.\, with a gallery talk at 6 p.m. \nMcDaniel College’s Art department showcases works by Honors Art students at McDaniel\, including Camellia Codd\, Art major from Mount Airy\, Maryland; Alexandra Combass\, Art major from Westminster\, Maryland; Kathleen Heard\, Art major from Westminster\, Maryland; Cara Olson\, Art major from Mount Airy\, Maryland; Marissa Riddle\, Art and Environmental Studies major from New Market\, Maryland; Danielle Silva\, Art major from Gaithersburg\, Maryland; Maya Stone\, Art major from Mount Airy\, Maryland; and Laura Vonella\, Art major from New Oxford\, Pennsylvania
URL:https://carrollcountytourism.org/event/honors-art-exhibition-reception-2/
LOCATION:Esther Prangley Rice Gallery at McDaniel College\, 2 College Hill\, Westminster\, 21157\, United States
CATEGORIES:Tourism Events
ATTACH;FMTTYPE=image/jpeg:https://carrollcountytourism.org/wp-content/uploads/2022/09/event_mcdanielartexhibits.jpg
ORGANIZER;CN="McDaniel College":MAILTO:ocm@mcdaniel.edu
END:VEVENT
BEGIN:VEVENT
DTSTART;TZID=America/New_York:20250501T173000
DTEND;TZID=America/New_York:20250501T193000
DTSTAMP:20260420T222403
CREATED:20250304T143915Z
LAST-MODIFIED:20250304T143915Z
UID:10008222-1746120600-1746127800@carrollcountytourism.org
SUMMARY:Senior Capstone Exhibition Two
DESCRIPTION:Reception for the second exhibition of senior capstone exhibitions at McDaniel College
URL:https://carrollcountytourism.org/event/senior-capstone-exhibition-two/
LOCATION:Esther Prangley Rice Gallery at McDaniel College\, 2 College Hill\, Westminster\, 21157\, United States
CATEGORIES:Tourism Events
ATTACH;FMTTYPE=image/jpeg:https://carrollcountytourism.org/wp-content/uploads/2022/09/event_mcdanielartexhibits.jpg
ORGANIZER;CN="McDaniel College":MAILTO:ocm@mcdaniel.edu
END:VEVENT
BEGIN:VEVENT
DTSTART;TZID=America/New_York:20250417T173000
DTEND;TZID=America/New_York:20250417T193000
DTSTAMP:20260420T222403
CREATED:20250304T143830Z
LAST-MODIFIED:20250304T143830Z
UID:10008220-1744911000-1744918200@carrollcountytourism.org
SUMMARY:Senior Capstone Exhibition One Reception
DESCRIPTION:Reception for senior capstone Exhibition 1 of 2 at McDaniel College
URL:https://carrollcountytourism.org/event/senior-capstone-exhibition-one-reception/
LOCATION:Esther Prangley Rice Gallery at McDaniel College\, 2 College Hill\, Westminster\, 21157\, United States
CATEGORIES:Tourism Events
ATTACH;FMTTYPE=image/jpeg:https://carrollcountytourism.org/wp-content/uploads/2022/09/event_mcdanielartexhibits.jpg
ORGANIZER;CN="McDaniel College":MAILTO:ocm@mcdaniel.edu
END:VEVENT
BEGIN:VEVENT
DTSTART;TZID=America/New_York:20250403T173000
DTEND;TZID=America/New_York:20250403T193000
DTSTAMP:20260420T222403
CREATED:20250304T143756Z
LAST-MODIFIED:20250304T143756Z
UID:10008219-1743701400-1743708600@carrollcountytourism.org
SUMMARY:Kathryn E. Wentz Juried Undergraduate Exhibition Reception
DESCRIPTION:Reception for Kathryn E. Wentz Juried Undergraduate Exhibition at McDaniel College
URL:https://carrollcountytourism.org/event/kathryn-e-wentz-juried-undergraduate-exhibition-reception/
LOCATION:Esther Prangley Rice Gallery at McDaniel College\, 2 College Hill\, Westminster\, 21157\, United States
CATEGORIES:Tourism Events
ATTACH;FMTTYPE=image/jpeg:https://carrollcountytourism.org/wp-content/uploads/2022/09/event_mcdanielartexhibits.jpg
ORGANIZER;CN="McDaniel College":MAILTO:ocm@mcdaniel.edu
END:VEVENT
BEGIN:VEVENT
DTSTART;TZID=America/New_York:20250313T173000
DTEND;TZID=America/New_York:20250313T193000
DTSTAMP:20260420T222403
CREATED:20250304T143722Z
LAST-MODIFIED:20250304T143722Z
UID:10008218-1741887000-1741894200@carrollcountytourism.org
SUMMARY:Honors Art Exhibition Reception
DESCRIPTION:Evening reception for debut of McDaniel College Honors art exhibition
URL:https://carrollcountytourism.org/event/honors-art-exhibition-reception/
LOCATION:Esther Prangley Rice Gallery at McDaniel College\, 2 College Hill\, Westminster\, 21157\, United States
CATEGORIES:Tourism Events
ATTACH;FMTTYPE=image/jpeg:https://carrollcountytourism.org/wp-content/uploads/2022/09/event_mcdanielartexhibits.jpg
ORGANIZER;CN="McDaniel College":MAILTO:ocm@mcdaniel.edu
END:VEVENT
END:VCALENDAR