BEGIN:VCALENDAR
VERSION:2.0
PRODID:-//Carroll County Tourism | Carroll County, Maryland - ECPv6.15.17//NONSGML v1.0//EN
CALSCALE:GREGORIAN
METHOD:PUBLISH
X-ORIGINAL-URL:https://carrollcountytourism.org
X-WR-CALDESC:Events for Carroll County Tourism | Carroll County, Maryland
REFRESH-INTERVAL;VALUE=DURATION:PT1H
X-Robots-Tag:noindex
X-PUBLISHED-TTL:PT1H
BEGIN:VTIMEZONE
TZID:America/New_York
BEGIN:DAYLIGHT
TZOFFSETFROM:-0500
TZOFFSETTO:-0400
TZNAME:EDT
DTSTART:20240310T070000
END:DAYLIGHT
BEGIN:STANDARD
TZOFFSETFROM:-0400
TZOFFSETTO:-0500
TZNAME:EST
DTSTART:20241103T060000
END:STANDARD
BEGIN:DAYLIGHT
TZOFFSETFROM:-0500
TZOFFSETTO:-0400
TZNAME:EDT
DTSTART:20250309T070000
END:DAYLIGHT
BEGIN:STANDARD
TZOFFSETFROM:-0400
TZOFFSETTO:-0500
TZNAME:EST
DTSTART:20251102T060000
END:STANDARD
BEGIN:DAYLIGHT
TZOFFSETFROM:-0500
TZOFFSETTO:-0400
TZNAME:EDT
DTSTART:20260308T070000
END:DAYLIGHT
BEGIN:STANDARD
TZOFFSETFROM:-0400
TZOFFSETTO:-0500
TZNAME:EST
DTSTART:20261101T060000
END:STANDARD
BEGIN:DAYLIGHT
TZOFFSETFROM:-0500
TZOFFSETTO:-0400
TZNAME:EDT
DTSTART:20270314T070000
END:DAYLIGHT
BEGIN:STANDARD
TZOFFSETFROM:-0400
TZOFFSETTO:-0500
TZNAME:EST
DTSTART:20271107T060000
END:STANDARD
END:VTIMEZONE
BEGIN:VEVENT
DTSTART;TZID=America/New_York:20260307T140000
DTEND;TZID=America/New_York:20260307T150000
DTSTAMP:20260421T012754
CREATED:20260115T165333Z
LAST-MODIFIED:20260115T165333Z
UID:10012829-1772892000-1772895600@carrollcountytourism.org
SUMMARY:To Be Read: Wade Rouse
DESCRIPTION:For Adults. \nWade Rouse is an internationally bestselling author of thirteen books\, which have been translated into twenty languages and selected as Today Show Must-Reads\, Indie Next Picks\, and Michigan Notable Books. Rouse writes fiction under his grandma’s name\, Viola Shipman\, to honor the working-poor Ozarks woman whose memory inspires his writing. He lives in Michigan and California and hosts Wine and Words with Wade\, a literary happy hour\, every Thursday. That’s What Friends are For is a poignant and hilarious story inspired by the beloved TV sitcom The Golden Girls. In it\, Wade celebrates love\, aging\, finding your people\, and the art of impeccably timed one-liners. \nPresented by Carroll County Public Library and Park Books on Main. This author talk will be accompanied by book sales and signing. Registration is required. Visit site for details.
URL:https://carrollcountytourism.org/event/to-be-read-wade-rouse/
LOCATION:Exploration Commons At 50 East\, 50 East Main Street\, Westminster\, MD\, 21157\, United States
CATEGORIES:Tourism Events
ATTACH;FMTTYPE=image/jpeg:https://carrollcountytourism.org/wp-content/uploads/2023/01/event_CCPLgeneral.jpg
ORGANIZER;CN="Carroll County Public Library":MAILTO:ask@carr.org
END:VEVENT
BEGIN:VEVENT
DTSTART;TZID=America/New_York:20260211T183000
DTEND;TZID=America/New_York:20260211T193000
DTSTAMP:20260421T012754
CREATED:20260120T164408Z
LAST-MODIFIED:20260120T164408Z
UID:10012834-1770834600-1770838200@carrollcountytourism.org
SUMMARY:Carroll 250 Speaker Series: Patriots Buried in Carroll County Cemeteries
DESCRIPTION:There are an estimated 60 Revolutionary War Patriots buried in Carroll County across several cemeteries. Many of these are known but many more are likely lost to history. It is important to remember our Patriot ancestors. This talk will provide an overview of family cemeteries\, church cemeteries\, and town cemeteries located in the county and discuss Patriots buried there. \nMore importantly as we approach America’s 250th there are cemeteries that are known to be lost or in danger of being lost. Preservation of these Patriot ancestors’ graves is an important part of our American heritage and a sacred duty to keep their memory alive. \nJames Engler – Mr. Engler is a member of the Westminster Chapter\, Sons of the American Revolution. He has served in a variety of roles in the SAR\, including as president of both the Westminster Chapter and Maryland SAR\, as well as Vice President General of SAR for the Mid-Atlantic District (Virginia\, District of Columbia\, Maryland\, Pennsylvania\, and Delaware). \nJohn Laycock – Mr. Laycock is a member of the Westminster Chapter of Sons of the American Revolution and a board member of the Historical Society of Carroll County. \nRegistration for this event is available on the Carroll County Public Library website. Visit https://ccpl.librarymarket.com/event/carroll-cemeteries to register today!
URL:https://carrollcountytourism.org/event/carroll-250-speaker-series-patriots-buried-in-carroll-county-cemeteries/
LOCATION:Exploration Commons At 50 East\, 50 East Main Street\, Westminster\, MD\, 21157\, United States
CATEGORIES:Tourism Events
ATTACH;FMTTYPE=image/jpeg:https://carrollcountytourism.org/wp-content/uploads/2024/11/event_MD250Carroll-Westminster.jpg
END:VEVENT
BEGIN:VEVENT
DTSTART;TZID=America/New_York:20251203T183000
DTEND;TZID=America/New_York:20251203T193000
DTSTAMP:20260421T012754
CREATED:20251125T155414Z
LAST-MODIFIED:20251125T155414Z
UID:10012464-1764786600-1764790200@carrollcountytourism.org
SUMMARY:To Be Read: Cozy Up for Winter Edition
DESCRIPTION:For Adults. December is the perfect time to stock up on books for your TBR (to be read) pile for the cold winter ahead! Join our conversation with bestselling authors Jenni L. Walsh\, Lee Kelly\, Victoria Schade\, Jennifer Thorne\, and Stephanie Burns. A book signing will follow the talk with titles available for purchase. \nP resented by Park Books on Main and Carroll County Public Library. Registration required. Visit site for details.
URL:https://carrollcountytourism.org/event/to-be-read-cozy-up-for-winter-edition/
LOCATION:Exploration Commons At 50 East\, 50 East Main Street\, Westminster\, MD\, 21157\, United States
CATEGORIES:Tourism Events
ATTACH;FMTTYPE=image/jpeg:https://carrollcountytourism.org/wp-content/uploads/2023/01/event_CCPLgeneral.jpg
ORGANIZER;CN="Carroll County Public Library":MAILTO:ask@carr.org
END:VEVENT
BEGIN:VEVENT
DTSTART;TZID=America/New_York:20251104T183000
DTEND;TZID=America/New_York:20251104T193000
DTSTAMP:20260421T012754
CREATED:20250811T174317Z
LAST-MODIFIED:20250811T174338Z
UID:10011610-1762281000-1762284600@carrollcountytourism.org
SUMMARY:Carroll 250 Speaker Series: Francis Scott Key presented by Lou Giles
DESCRIPTION:This fascinating talk will focus on Francis Scott Key and will include his family and early years\, the War of 1812 and the Dr. Beanes rescue mission\, the Star-Spangled Banner\, religion\, politics (and major cases)\, and his views on slavery. \nPlease check back for registration information regarding this FREE talk. Registration will go through Carroll County Public Library\, once their November Calendar is available. \nMr. Giles retired in 2012 as a senior executive in the Defense Department. He presently serves as the President of the Society of the War of 1812 in the State of Maryland\, a patriotic organization limited to descendants of soldiers who fought in the War of 1812\, and is a member of the Boards of Directors and counsel to the Star-Spangled Banner Flag House in Baltimore. Mr. Giles also volunteers at the Maryland State Archives in Annapolis and as a docent at Fort McHenry National Monument and Historic Shrine in Baltimore. \nAs a passionate amateur historian and genealogist interested in the War of 1812 in Maryland\, Mr. Giles enjoys delving into primary sources\, local archives\, and historical newspapers to uncover new findings and perspectives and sharing these findings through writing\, presentations\, and community engagement. \nMr. Giles first became interested in Francis Scott Key in 2014 when he was tasked with providing presentations on Key to visitors to Fort McHenry. His genealogy experience and knowledge of resources available at the Maryland State Archives and National Archives allowed him to uncover records on Francis Scott Key that provide a different perspective from most biographers of Key. He has published several articles on Key\, including identifying Key’s truce ship on which he authored the Star-Spangled Banner and Key’s views on slavery. \nHe was recently featured in local and national press reporting after winning an appeal against the Veterans Administration resulting in a ruling allowing enslaved black Americans who fought in early Wars of the United States as servants or waiters to be considered veterans. \nMr. Giles is a lifelong Maryland resident who holds degrees in physics\, electrical engineering\, and law. \nRegistration is not yet open for this event. Please visit the CCPL website to see when registration will open.
URL:https://carrollcountytourism.org/event/carroll-250-speaker-series-francis-scott-key-presented-by-lou-giles/
LOCATION:Exploration Commons At 50 East\, 50 East Main Street\, Westminster\, MD\, 21157\, United States
CATEGORIES:Tourism Events
ATTACH;FMTTYPE=image/jpeg:https://carrollcountytourism.org/wp-content/uploads/2024/11/event_MD250Carroll-Westminster.jpg
END:VEVENT
BEGIN:VEVENT
DTSTART;TZID=America/New_York:20251004T090000
DTEND;TZID=America/New_York:20251004T120000
DTSTAMP:20260421T012754
CREATED:20250626T131303Z
LAST-MODIFIED:20250626T131303Z
UID:10011577-1759568400-1759579200@carrollcountytourism.org
SUMMARY:Carroll 250 Event: Fall History Expo 2025
DESCRIPTION:The Fall History Expo provides an opportunity for attendees to get to know the people in our community who are preserving and telling the stories of Carroll County’s past. The morning event will incorporate Carroll 250 programming and provides a great opportunity for students who are beginning work on their 2026 National History Day projects! \nQuestions? Please contact Laura Bankard\, Outreach & Events Director at lbankard@hsccmd.org or 410.848.6494 ext. 200.
URL:https://carrollcountytourism.org/event/carroll-250-event-fall-history-expo-2025/
LOCATION:Exploration Commons At 50 East\, 50 East Main Street\, Westminster\, MD\, 21157\, United States
CATEGORIES:Tourism Events
ATTACH;FMTTYPE=image/jpeg:https://carrollcountytourism.org/wp-content/uploads/2024/11/event_MD250Carroll-Westminster.jpg
END:VEVENT
BEGIN:VEVENT
DTSTART;TZID=America/New_York:20250909T100000
DTEND;TZID=America/New_York:20250909T120000
DTSTAMP:20260421T012754
CREATED:20250902T152312Z
LAST-MODIFIED:20250902T152312Z
UID:10011649-1757412000-1757419200@carrollcountytourism.org
SUMMARY:Making for Seniors: Engrave a Simple Paper Project
DESCRIPTION:For Adults. Learning new technology should be fun\, not intimidating! Join us for a basic hands-on session where we’ll use Adobe Illustrator to create a simple design to be engraved on a mini paper notebook cover and watch your project being made on our Fusion Pro laser cutter. Previous basic computer experience is required. No previous experience with laser cutting or design software is needed. Registration is required. Visit site for details.
URL:https://carrollcountytourism.org/event/making-for-seniors-engrave-a-simple-paper-project/
LOCATION:Exploration Commons At 50 East\, 50 East Main Street\, Westminster\, MD\, 21157\, United States
CATEGORIES:Tourism Events
ATTACH;FMTTYPE=image/jpeg:https://carrollcountytourism.org/wp-content/uploads/2023/01/event_CCPLgeneral.jpg
ORGANIZER;CN="Carroll County Public Library":MAILTO:ask@carr.org
END:VEVENT
BEGIN:VEVENT
DTSTART;TZID=America/New_York:20250724T170000
DTEND;TZID=America/New_York:20250724T190000
DTSTAMP:20260421T012754
CREATED:20250626T130340Z
LAST-MODIFIED:20250626T130340Z
UID:10011571-1753376400-1753383600@carrollcountytourism.org
SUMMARY:Carroll 250 Event: Maryland 250 Cookbook Author – Cooking Maryland’s Way: Voices of a Diverse Cuisine
DESCRIPTION:Join food historian\, author\, and historical faux food artist Joyce White in the Teaching Kitchen for an informative evening reflecting on the chief cultural influences of Maryland’s early foundational cuisine. Joyce will share her research on both foods and their methods of preparation as she demos traditional recipes for Hominy Patties and Beaten Biscuits. \nNOTE: Seating is limited to 36 participants. \nTicket $40\, includes author talk\, signed copy of Cooking Maryland’s Way: Voices of a Diverse Cuisine\, and recipe demonstration. \nVisit the Carroll County Public Library website at: https://ccpl.librarymarket.com/event/cooking_maryland250 \nQuestions: Please contact Laura Bankard\, Outreach & Events Director at lbankard@hsccmd.org or 410.848.6494 ext. 200.
URL:https://carrollcountytourism.org/event/carroll-250-event-maryland-250-cookbook-author-cooking-marylands-way-voices-of-a-diverse-cuisine/
LOCATION:Exploration Commons At 50 East\, 50 East Main Street\, Westminster\, MD\, 21157\, United States
CATEGORIES:Tourism Events
ATTACH;FMTTYPE=image/jpeg:https://carrollcountytourism.org/wp-content/uploads/2024/11/event_MD250Carroll-Westminster.jpg
ORGANIZER;CN="Carroll County Public Library":MAILTO:ask@carr.org
END:VEVENT
BEGIN:VEVENT
DTSTART;TZID=America/New_York:20250723T183000
DTEND;TZID=America/New_York:20250723T193000
DTSTAMP:20260421T012754
CREATED:20250716T174654Z
LAST-MODIFIED:20250716T174654Z
UID:10011597-1753295400-1753299000@carrollcountytourism.org
SUMMARY:Summer Reads: Dan Fesperman
DESCRIPTION:For Adults. \nDan Fesperman served as a foreign correspondent for The Baltimore Sun\, based in Berlin. His coverage of the siege of Sarajevo led to his debut novel\, Lie in the Dark\, which won Britain’s John Creasey Memorial Dagger Award for best first crime novel. Subsequent books have won the Ian Fleming Steel Dagger Award for best thriller\, the Hammett Prize from the International Association of Crime Writers\, the Barry Award for best thriller\, and selection by USA Today as the year’s best mystery/thriller novel. \nWith his latest work\, Pariah\, Dan Fesperman has crafted an adrenaline-fueled thriller about a disgraced comedian-turned-politician who takes on the role of a lifetime: infiltrating a corrupt Eastern European country to spy on their brutal dictator. Books will be available for purchase and signing. \nPresented by Carroll County Public Library and Park Books on Main. Registration is required. Visit site for details.
URL:https://carrollcountytourism.org/event/summer-reads-dan-fesperman/
LOCATION:Exploration Commons At 50 East\, 50 East Main Street\, Westminster\, MD\, 21157\, United States
CATEGORIES:Tourism Events
ATTACH;FMTTYPE=image/jpeg:https://carrollcountytourism.org/wp-content/uploads/2023/01/event_CCPLgeneral.jpg
ORGANIZER;CN="Carroll County Public Library":MAILTO:ask@carr.org
END:VEVENT
BEGIN:VEVENT
DTSTART;TZID=America/New_York:20250604T183000
DTEND;TZID=America/New_York:20250604T193000
DTSTAMP:20260421T012754
CREATED:20250528T125258Z
LAST-MODIFIED:20250528T125258Z
UID:10010365-1749061800-1749065400@carrollcountytourism.org
SUMMARY:Summer Reads: She Talks to Fish with Brian Hester
DESCRIPTION:For Teens and Adults. \nMeet Brian Hester\, author of She Talks to Fish\, artist\, and fly-fisherman at this special program. Brian will be in conversation with Ted Zaleski of the Two Sides to the Story podcast. Embark on an unforgettable journey with a novel that offers a rich tapestry of experiences for every reader. Set in the mid ’80s\, Maya Jones\, a young\, Black woman from the mountains of North Carolina\, is introduced to fly-fishing through her mentor\, Ed Myers. This introduction and subsequent passion for fly-fishing offers an intriguing and imaginative story of respect\, loyalty\, and courage. As Ed mentors Maya on her coming of age journey\, her struggles are met with brazen resilience as she defies stereotypes\, bigotry\, nature\, and even death with immeasurable perseverance. Fish are her counsel and through the extension of a fly rod\, Maya finds her space of belonging. Brian Hester\, a native of Boone\, North Carolina\, grew up waist deep in whatever river water he could find so he could develop his craft and love for fly-fishing. He found the Blue Ridge Mountains to be a limitless sanctuary that cultivated his interest in art and acted as a channel for him to embrace his observations and surroundings while fishing. “The mountains of North Caroling are home to me\, and it is where I can breathe.” Brian has been a visual arts teacher for 30 years. In addition to teaching in the classroom\, he’s also taught hundreds of people to love fly-fishing almost as much as he does. \nHe is a professional painter\, sculptor\, and author. Books will be available for purchase and signing. Visit site to register for this event.
URL:https://carrollcountytourism.org/event/summer-reads-she-talks-to-fish-with-brian-hester/
LOCATION:Exploration Commons At 50 East\, 50 East Main Street\, Westminster\, MD\, 21157\, United States
CATEGORIES:Tourism Events
ATTACH;FMTTYPE=image/jpeg:https://carrollcountytourism.org/wp-content/uploads/2023/01/event_CCPLgeneral.jpg
ORGANIZER;CN="Carroll County Public Library":MAILTO:ask@carr.org
END:VEVENT
BEGIN:VEVENT
DTSTART;TZID=America/New_York:20250508T183000
DTEND;TZID=America/New_York:20250508T193000
DTSTAMP:20260421T012754
CREATED:20250501T160904Z
LAST-MODIFIED:20250501T160904Z
UID:10010332-1746729000-1746732600@carrollcountytourism.org
SUMMARY:To Be Read: Marie Bostwick with Kate Quinn
DESCRIPTION:For Adults.  is the New York Times and USA TODAY bestselling author of more than twenty works of uplifting contemporary and historical fiction. Marie’s novels are beloved by readers across the globe. \nHer latest\, The Book Club for Troublesome Women\, is a humorous\, thought provoking\, and nostalgic romp through one pivotal and tumultuous American year\, as well as an ode to self-discovery\, persistence\, and the power of sisterhood. Marie will be in conversation with Kate Quinn\, the New York Times and USA TODAY bestselling author of historical fiction. \nTickets are $22 and include author talk and signed copy of The Book Club for Troublesome Women. Visit site for tickets and details.
URL:https://carrollcountytourism.org/event/to-be-read-marie-bostwick-with-kate-quinn/
LOCATION:Exploration Commons At 50 East\, 50 East Main Street\, Westminster\, MD\, 21157\, United States
CATEGORIES:Tourism Events
ATTACH;FMTTYPE=image/jpeg:https://carrollcountytourism.org/wp-content/uploads/2023/01/event_CCPLgeneral.jpg
ORGANIZER;CN="Carroll County Public Library":MAILTO:ask@carr.org
END:VEVENT
BEGIN:VEVENT
DTSTART;TZID=America/New_York:20250409T183000
DTEND;TZID=America/New_York:20250409T193000
DTSTAMP:20260421T012754
CREATED:20241209T192803Z
LAST-MODIFIED:20241209T192803Z
UID:10008048-1744223400-1744227000@carrollcountytourism.org
SUMMARY:Carroll 250 Speaker Series: Dolen Perkins Valdez
DESCRIPTION:Dolen Perkins-Valdez is the New York Times bestselling and award-winning author of Balm\, Wench\, and Take My Hand\, which was a Target Book Club pick and earned her an NAACP Image Award for Outstanding Fiction. She is known for reaching into the archives of American history and excavating the stories of long-forgotten Black men and women. And in Happy Land\, she widens her scope to uncover the true story of an entire kingdom that existed in history and very few know about. Hidden in the hills of Appalachia\, there was once The Kingdom of the Happy Land\, a territory ruled and owned by formerly enslaved people. Inspired by stories of African royals\, they reclaimed their freedom on American soil. For a while they thrived… until the kingdom suddenly disappeared. Happy Land\, shares a fictionalized account of the real Kingdom of the Happy Land\, a historical moment which has barely been explored until now. Books will be available for purchase and signing. \nPlease register for this free event at the link below. \nhttps://ccpl.librarymarket.com/event/happy-land \nPresented by A Likely Story Bookstore and Carroll County Public Library. \nCarroll Voices 250 speaker series celebrates the United States Semiquincentennial. The United States Semiquincentennial\, also called the Bisesquincentennial\, the Sestercentennial or the Quarter Millennial\, will be the 250th anniversary of the 1776 United States Declaration of Independence.
URL:https://carrollcountytourism.org/event/carroll-250-speaker-series-dolen-perkins-valdez/
LOCATION:Exploration Commons At 50 East\, 50 East Main Street\, Westminster\, MD\, 21157\, United States
CATEGORIES:Tourism Events
ATTACH;FMTTYPE=image/jpeg:https://carrollcountytourism.org/wp-content/uploads/2024/11/event_MD250Carroll-Westminster.jpg
ORGANIZER;CN="Carroll Voices 250":MAILTO:lbankard@hsccmd.org
END:VEVENT
BEGIN:VEVENT
DTSTART;TZID=America/New_York:20250220T183000
DTEND;TZID=America/New_York:20250220T193000
DTSTAMP:20260421T012754
CREATED:20241209T192059Z
LAST-MODIFIED:20241209T192059Z
UID:10008045-1740076200-1740079800@carrollcountytourism.org
SUMMARY:Carroll 250 Speaker Series: Victoria Christopher Murray
DESCRIPTION:Victoria Christopher Murray is a New York Times bestselling author of more than thirty novels\, including The Personal Librarian\, a Good Morning America book club pick\, and The First Ladies\, Target’s 2023 Book of the Year\, both of which she coauthored with Marie Benedict. She is a NAACP Image Award Winner for Outstanding Literary Work for her novel Stand Your Ground\, which was also a Library Journal Best Book of the Year. She holds an MBA from the NYU Stern School of Business. \nHer latest\, Harlem Rhapsody\, is the extraordinary story of the woman who ignited the Harlem Renaissance. Jessie Redmon Fauset is named the literary editor of The Crisis. The first Black woman to hold this position at a preeminent Negro magazine\, Jessie is poised to achieve literary greatness. But she holds a secret that jeopardizes it all. She has shaped a generation of literary legends\, but as she strives to preserve her legacy\, she’ll discover the high cost of her unparalleled success. \nBooks will be available for signing and purchase. \nThis is event is in Westminster and not necessarily about Westminster. Please follow the link below to register for this free event. \nhttps://ccpl.librarymarket.com/event/harlem-rhapsody \nPresented by A Likely Story Bookstore and Carroll County Public Library. \nCarroll Voices 250 speaker series celebrates the United States Semiquincentennial. The United States Semiquincentennial\, also called the Bisesquincentennial\, the Sestercentennial or the Quarter Millennial\, will be the 250th anniversary of the 1776 United States Declaration of Independence.
URL:https://carrollcountytourism.org/event/carroll-250-speaker-series-victoria-christopher-murray/
LOCATION:Exploration Commons At 50 East\, 50 East Main Street\, Westminster\, MD\, 21157\, United States
CATEGORIES:Tourism Events
ATTACH;FMTTYPE=image/jpeg:https://carrollcountytourism.org/wp-content/uploads/2024/11/event_MD250Carroll-Westminster.jpg
ORGANIZER;CN="The Historical Society of Carroll County Maryland":MAILTO:officemanager@hsccmd.org
END:VEVENT
BEGIN:VEVENT
DTSTART;TZID=America/New_York:20250128T183000
DTEND;TZID=America/New_York:20250128T193000
DTSTAMP:20260421T012754
CREATED:20241209T191949Z
LAST-MODIFIED:20241220T161124Z
UID:10008044-1738089000-1738092600@carrollcountytourism.org
SUMMARY:Carroll 250 Speaker Series: The Dark Winter of 1776-1777
DESCRIPTION:Presented by John Laycock:  It is Christmas 1776\, and all is not well for George Washington and his Continental Army. They have suffered a string of defeats and have retreated into New Jersey and Pennsylvania. Fighting through a blizzard and smallpox\, Maryland Militia reinforcements start filling the New Jersey countryside. The story of Private Jacob Zoll and his company led by Captain John Ross Key is an under looked part of the Revolutionary War. This talk will share Private Zoll’s struggle as he begins his journey to fight for his liberty. \nMr. Laycock has a love of genealogy and local history. He is a member of the Westminster Sons of the American Revolution and the Historical Society of Carroll County. He lives in Sykesville with his wife and 3 kids. He can often be found watching his beloved Chicago Cubs and still can’t believe that they finally won it all.
URL:https://carrollcountytourism.org/event/carroll-250-speaker-series-the-dark-winter-of-1776-1777-2/
LOCATION:Exploration Commons At 50 East\, 50 East Main Street\, Westminster\, MD\, 21157\, United States
CATEGORIES:Tourism Events
ATTACH;FMTTYPE=image/jpeg:https://carrollcountytourism.org/wp-content/uploads/2024/11/event_MD250Carroll-Westminster.jpg
ORGANIZER;CN="The Historical Society of Carroll County Maryland":MAILTO:officemanager@hsccmd.org
END:VEVENT
END:VCALENDAR