BEGIN:VCALENDAR
VERSION:2.0
PRODID:-//Carroll County Tourism | Carroll County, Maryland - ECPv6.15.17//NONSGML v1.0//EN
CALSCALE:GREGORIAN
METHOD:PUBLISH
X-WR-CALNAME:Carroll County Tourism | Carroll County, Maryland
X-ORIGINAL-URL:https://carrollcountytourism.org
X-WR-CALDESC:Events for Carroll County Tourism | Carroll County, Maryland
REFRESH-INTERVAL;VALUE=DURATION:PT1H
X-Robots-Tag:noindex
X-PUBLISHED-TTL:PT1H
BEGIN:VTIMEZONE
TZID:America/New_York
BEGIN:DAYLIGHT
TZOFFSETFROM:-0500
TZOFFSETTO:-0400
TZNAME:EDT
DTSTART:20240310T070000
END:DAYLIGHT
BEGIN:STANDARD
TZOFFSETFROM:-0400
TZOFFSETTO:-0500
TZNAME:EST
DTSTART:20241103T060000
END:STANDARD
BEGIN:DAYLIGHT
TZOFFSETFROM:-0500
TZOFFSETTO:-0400
TZNAME:EDT
DTSTART:20250309T070000
END:DAYLIGHT
BEGIN:STANDARD
TZOFFSETFROM:-0400
TZOFFSETTO:-0500
TZNAME:EST
DTSTART:20251102T060000
END:STANDARD
BEGIN:DAYLIGHT
TZOFFSETFROM:-0500
TZOFFSETTO:-0400
TZNAME:EDT
DTSTART:20260308T070000
END:DAYLIGHT
BEGIN:STANDARD
TZOFFSETFROM:-0400
TZOFFSETTO:-0500
TZNAME:EST
DTSTART:20261101T060000
END:STANDARD
BEGIN:DAYLIGHT
TZOFFSETFROM:-0500
TZOFFSETTO:-0400
TZNAME:EDT
DTSTART:20270314T070000
END:DAYLIGHT
BEGIN:STANDARD
TZOFFSETFROM:-0400
TZOFFSETTO:-0500
TZNAME:EST
DTSTART:20271107T060000
END:STANDARD
END:VTIMEZONE
BEGIN:VEVENT
DTSTART;TZID=America/New_York:20260417T190000
DTEND;TZID=America/New_York:20260417T220000
DTSTAMP:20260421T012553
CREATED:20260217T135718Z
LAST-MODIFIED:20260218T183903Z
UID:10005644-1776452400-1776463200@carrollcountytourism.org
SUMMARY:Designer Bag BINGO
DESCRIPTION:Benefits the Westminster High School Instrumental Music Programs \nIt’s bag bingo time! In addition to our regular bingo games\, we’ll have special games\, raffles\, the post-it game\, 50/50 raffle\, concessions\, and pull tabs! We hope you’ll join us for a night of fun as we raise funds to support our Westminster Instrumental Music Program. Payments can be made via Venmo or Paypal on www.owlband.org.  If you would like reserved seating for a group please contact us at owlbandbingo@gmail.com \nDoors open at 5:30 PM. Games start at 7 PM. \n\nTickets: $25 (before 4/07/26) if purchased at www.owlband.org.\nPrizes like Coach\, Dooney & Bourke\, Kate Spade and Michael Kors.\nRaffles\, special games\, 50/50 and door prizes!\nDelicious food and baked goods for sale.\n\nQuestions? Email owlbandbingo@gmail.com
URL:https://carrollcountytourism.org/event/designer-bag-bingo-2/
LOCATION:Gamber &amp; Community Fire Co.\, 3838 Niner Rd.\, Finksburg\, MD\, 21048\, United States
CATEGORIES:Tourism Events
ATTACH;FMTTYPE=image/jpeg:https://carrollcountytourism.org/wp-content/uploads/2024/02/event_whsbagbingo2026.jpg
END:VEVENT
BEGIN:VEVENT
DTSTART;TZID=America/New_York:20250607T090000
DTEND;TZID=America/New_York:20250607T160000
DTSTAMP:20260421T012553
CREATED:20250305T151416Z
LAST-MODIFIED:20250305T151416Z
UID:10008607-1749286800-1749312000@carrollcountytourism.org
SUMMARY:33rd Annual Old-Fashioned Strawberry Festival
DESCRIPTION:33rd ANNUAL STRAWBERRY FESTIVAL\, Saturday\, June 7\, 2025 from 9 am to 4 pm to be held at the Gamber Fire Dept Carnival Grounds\, 3838 Niner Rd\, Finksburg\, MD 21048. Fresh Strawberries\, games\, pony rides\, entertainment\, silent auction\, a variety of foods\, crafts & antique vendors\, and strawberry shortcake. Annual event sponsored by Messiah Lutheran Church. Admission is free and there is plenty of parking. For general information call 410-795-9174\, for vendor information call 443-201-8077.
URL:https://carrollcountytourism.org/event/33rd-annual-old-fashioned-strawberry-festival/
LOCATION:Gamber &amp; Community Fire Co.\, 3838 Niner Rd.\, Finksburg\, MD\, 21048\, United States
CATEGORIES:Tourism Events
ATTACH;FMTTYPE=image/jpeg:https://carrollcountytourism.org/wp-content/uploads/2025/03/event_strawberryfestival_messiah.jpg
ORGANIZER;CN="Messiah Lutheran Church":MAILTO:sadiedog02@hotmail.com
END:VEVENT
END:VCALENDAR