BEGIN:VCALENDAR
VERSION:2.0
PRODID:-//Carroll County Tourism | Carroll County, Maryland - ECPv6.15.17//NONSGML v1.0//EN
CALSCALE:GREGORIAN
METHOD:PUBLISH
X-ORIGINAL-URL:https://carrollcountytourism.org
X-WR-CALDESC:Events for Carroll County Tourism | Carroll County, Maryland
REFRESH-INTERVAL;VALUE=DURATION:PT1H
X-Robots-Tag:noindex
X-PUBLISHED-TTL:PT1H
BEGIN:VTIMEZONE
TZID:America/New_York
BEGIN:DAYLIGHT
TZOFFSETFROM:-0500
TZOFFSETTO:-0400
TZNAME:EDT
DTSTART:20250309T070000
END:DAYLIGHT
BEGIN:STANDARD
TZOFFSETFROM:-0400
TZOFFSETTO:-0500
TZNAME:EST
DTSTART:20251102T060000
END:STANDARD
BEGIN:DAYLIGHT
TZOFFSETFROM:-0500
TZOFFSETTO:-0400
TZNAME:EDT
DTSTART:20260308T070000
END:DAYLIGHT
BEGIN:STANDARD
TZOFFSETFROM:-0400
TZOFFSETTO:-0500
TZNAME:EST
DTSTART:20261101T060000
END:STANDARD
BEGIN:DAYLIGHT
TZOFFSETFROM:-0500
TZOFFSETTO:-0400
TZNAME:EDT
DTSTART:20270314T070000
END:DAYLIGHT
BEGIN:STANDARD
TZOFFSETFROM:-0400
TZOFFSETTO:-0500
TZNAME:EST
DTSTART:20271107T060000
END:STANDARD
END:VTIMEZONE
BEGIN:VEVENT
DTSTART;TZID=America/New_York:20260606T090000
DTEND;TZID=America/New_York:20260606T160000
DTSTAMP:20260420T234638
CREATED:20260204T185423Z
LAST-MODIFIED:20260204T185423Z
UID:10012885-1780736400-1780761600@carrollcountytourism.org
SUMMARY:35th Annual Old-Fashioned Strawberry Festival
DESCRIPTION:35th ANNUAL STRAWBERRY FESTIVAL\, Saturday\, June 6\, 2026 from 9 am to 4 pm to be held at the Gamber Fire Dept Carnival Grounds\, 3838 Niner Rd\, Finksburg\, MD 21048. Fresh Strawberries\, games\, pony rides\, entertainment\, silent auction\, a variety of foods\, crafts & antique vendors\, and strawberry shortcake. Annual event sponsored by Messiah Lutheran Church. Admission is free and there is plenty of parking. For general information call 410-795-9174\, for vendor information call 443-201-8077.
URL:https://carrollcountytourism.org/event/35th-annual-old-fashioned-strawberry-festival/
LOCATION:Gamber &amp; Community Fire Co.\, 3838 Niner Rd.\, Finksburg\, MD\, 21048\, United States
CATEGORIES:Tourism Events
ATTACH;FMTTYPE=image/jpeg:https://carrollcountytourism.org/wp-content/uploads/2025/03/event_strawberryfestival_messiah.jpg
ORGANIZER;CN="Messiah Lutheran Church":MAILTO:sadiedog02@hotmail.com
END:VEVENT
END:VCALENDAR