BEGIN:VCALENDAR
VERSION:2.0
PRODID:-//Carroll County Tourism | Carroll County, Maryland - ECPv6.15.17//NONSGML v1.0//EN
CALSCALE:GREGORIAN
METHOD:PUBLISH
X-WR-CALNAME:Carroll County Tourism | Carroll County, Maryland
X-ORIGINAL-URL:https://carrollcountytourism.org
X-WR-CALDESC:Events for Carroll County Tourism | Carroll County, Maryland
REFRESH-INTERVAL;VALUE=DURATION:PT1H
X-Robots-Tag:noindex
X-PUBLISHED-TTL:PT1H
BEGIN:VTIMEZONE
TZID:America/New_York
BEGIN:DAYLIGHT
TZOFFSETFROM:-0500
TZOFFSETTO:-0400
TZNAME:EDT
DTSTART:20240310T070000
END:DAYLIGHT
BEGIN:STANDARD
TZOFFSETFROM:-0400
TZOFFSETTO:-0500
TZNAME:EST
DTSTART:20241103T060000
END:STANDARD
BEGIN:DAYLIGHT
TZOFFSETFROM:-0500
TZOFFSETTO:-0400
TZNAME:EDT
DTSTART:20250309T070000
END:DAYLIGHT
BEGIN:STANDARD
TZOFFSETFROM:-0400
TZOFFSETTO:-0500
TZNAME:EST
DTSTART:20251102T060000
END:STANDARD
BEGIN:DAYLIGHT
TZOFFSETFROM:-0500
TZOFFSETTO:-0400
TZNAME:EDT
DTSTART:20260308T070000
END:DAYLIGHT
BEGIN:STANDARD
TZOFFSETFROM:-0400
TZOFFSETTO:-0500
TZNAME:EST
DTSTART:20261101T060000
END:STANDARD
END:VTIMEZONE
BEGIN:VEVENT
DTSTART;TZID=America/New_York:20250518T080000
DTEND;TZID=America/New_York:20250518T120000
DTSTAMP:20260423T025128
CREATED:20250307T132005Z
LAST-MODIFIED:20250307T132005Z
UID:10008609-1747555200-1747569600@carrollcountytourism.org
SUMMARY:Krimgold Park Annual Kid's Fishing Rodeo
DESCRIPTION:Free event\, held rain or shine\, from 8am-noon\, at Krimgold Park. This event is for kids age 15 and under. The ponds will be closed to anyone age 16 and older. Awards for each age group will be given. Please register for the correct age group; 6 & under\, 7-9 years\, 10-12 years and 13-15 years.\n\n\nRegister here: https://bit.ly/4bt2TCE
URL:https://carrollcountytourism.org/event/krimgold-park-annual-kids-fishing-rodeo/
LOCATION:Krimgold Park\, Woodbine Road
CATEGORIES:Tourism Events
ATTACH;FMTTYPE=image/jpeg:https://carrollcountytourism.org/wp-content/uploads/2025/03/event_fishingrodeo.jpg
END:VEVENT
END:VCALENDAR