BEGIN:VCALENDAR
VERSION:2.0
PRODID:-//Carroll County Tourism | Carroll County, Maryland - ECPv6.15.17//NONSGML v1.0//EN
CALSCALE:GREGORIAN
METHOD:PUBLISH
X-WR-CALNAME:Carroll County Tourism | Carroll County, Maryland
X-ORIGINAL-URL:https://carrollcountytourism.org
X-WR-CALDESC:Events for Carroll County Tourism | Carroll County, Maryland
REFRESH-INTERVAL;VALUE=DURATION:PT1H
X-Robots-Tag:noindex
X-PUBLISHED-TTL:PT1H
BEGIN:VTIMEZONE
TZID:America/New_York
BEGIN:DAYLIGHT
TZOFFSETFROM:-0500
TZOFFSETTO:-0400
TZNAME:EDT
DTSTART:20250309T070000
END:DAYLIGHT
BEGIN:STANDARD
TZOFFSETFROM:-0400
TZOFFSETTO:-0500
TZNAME:EST
DTSTART:20251102T060000
END:STANDARD
BEGIN:DAYLIGHT
TZOFFSETFROM:-0500
TZOFFSETTO:-0400
TZNAME:EDT
DTSTART:20260308T070000
END:DAYLIGHT
BEGIN:STANDARD
TZOFFSETFROM:-0400
TZOFFSETTO:-0500
TZNAME:EST
DTSTART:20261101T060000
END:STANDARD
BEGIN:DAYLIGHT
TZOFFSETFROM:-0500
TZOFFSETTO:-0400
TZNAME:EDT
DTSTART:20270314T070000
END:DAYLIGHT
BEGIN:STANDARD
TZOFFSETFROM:-0400
TZOFFSETTO:-0500
TZNAME:EST
DTSTART:20271107T060000
END:STANDARD
END:VTIMEZONE
BEGIN:VEVENT
DTSTART;TZID=America/New_York:20260422T170000
DTEND;TZID=America/New_York:20260422T220000
DTSTAMP:20260420T155954
CREATED:20260309T141610Z
LAST-MODIFIED:20260309T141610Z
UID:10012957-1776877200-1776895200@carrollcountytourism.org
SUMMARY:Weekly Bingo @ Pleasant Valley Community Fire Company
DESCRIPTION:Weekly Wednesday Bingo @ Pleasant Valley Community Fire Company. Doors open at 5:00P.M. Kitchen opens at 5:30 P.M. Games start at 6:30 P.M. 15-minute intermission. Jackpots\, Specials\, variety of pull tab games sold\, cash prizes.
URL:https://carrollcountytourism.org/event/weekly-bingo-pleasant-valley-community-fire-company/2026-04-22/
LOCATION:Pleasant Valley Fire Co\, 2030 Pleasant Valley Rd\, Westminster\, MD\, 21158\, United States
CATEGORIES:Tourism Events
ATTACH;FMTTYPE=image/jpeg:https://carrollcountytourism.org/wp-content/uploads/2026/03/event_pleasantvalleybingo.jpg
END:VEVENT
BEGIN:VEVENT
DTSTART;TZID=America/New_York:20260429T170000
DTEND;TZID=America/New_York:20260429T220000
DTSTAMP:20260420T155954
CREATED:20260309T141610Z
LAST-MODIFIED:20260309T141610Z
UID:10012958-1777482000-1777500000@carrollcountytourism.org
SUMMARY:Weekly Bingo @ Pleasant Valley Community Fire Company
DESCRIPTION:Weekly Wednesday Bingo @ Pleasant Valley Community Fire Company. Doors open at 5:00P.M. Kitchen opens at 5:30 P.M. Games start at 6:30 P.M. 15-minute intermission. Jackpots\, Specials\, variety of pull tab games sold\, cash prizes.
URL:https://carrollcountytourism.org/event/weekly-bingo-pleasant-valley-community-fire-company/2026-04-29/
LOCATION:Pleasant Valley Fire Co\, 2030 Pleasant Valley Rd\, Westminster\, MD\, 21158\, United States
CATEGORIES:Tourism Events
ATTACH;FMTTYPE=image/jpeg:https://carrollcountytourism.org/wp-content/uploads/2026/03/event_pleasantvalleybingo.jpg
END:VEVENT
BEGIN:VEVENT
DTSTART;TZID=America/New_York:20260506T170000
DTEND;TZID=America/New_York:20260506T220000
DTSTAMP:20260420T155954
CREATED:20260309T141610Z
LAST-MODIFIED:20260309T141610Z
UID:10012959-1778086800-1778104800@carrollcountytourism.org
SUMMARY:Weekly Bingo @ Pleasant Valley Community Fire Company
DESCRIPTION:Weekly Wednesday Bingo @ Pleasant Valley Community Fire Company. Doors open at 5:00P.M. Kitchen opens at 5:30 P.M. Games start at 6:30 P.M. 15-minute intermission. Jackpots\, Specials\, variety of pull tab games sold\, cash prizes.
URL:https://carrollcountytourism.org/event/weekly-bingo-pleasant-valley-community-fire-company/2026-05-06/
LOCATION:Pleasant Valley Fire Co\, 2030 Pleasant Valley Rd\, Westminster\, MD\, 21158\, United States
CATEGORIES:Tourism Events
ATTACH;FMTTYPE=image/jpeg:https://carrollcountytourism.org/wp-content/uploads/2026/03/event_pleasantvalleybingo.jpg
END:VEVENT
BEGIN:VEVENT
DTSTART;TZID=America/New_York:20260513T170000
DTEND;TZID=America/New_York:20260513T220000
DTSTAMP:20260420T155954
CREATED:20260309T141610Z
LAST-MODIFIED:20260309T141610Z
UID:10012960-1778691600-1778709600@carrollcountytourism.org
SUMMARY:Weekly Bingo @ Pleasant Valley Community Fire Company
DESCRIPTION:Weekly Wednesday Bingo @ Pleasant Valley Community Fire Company. Doors open at 5:00P.M. Kitchen opens at 5:30 P.M. Games start at 6:30 P.M. 15-minute intermission. Jackpots\, Specials\, variety of pull tab games sold\, cash prizes.
URL:https://carrollcountytourism.org/event/weekly-bingo-pleasant-valley-community-fire-company/2026-05-13/
LOCATION:Pleasant Valley Fire Co\, 2030 Pleasant Valley Rd\, Westminster\, MD\, 21158\, United States
CATEGORIES:Tourism Events
ATTACH;FMTTYPE=image/jpeg:https://carrollcountytourism.org/wp-content/uploads/2026/03/event_pleasantvalleybingo.jpg
END:VEVENT
BEGIN:VEVENT
DTSTART;TZID=America/New_York:20260516T160000
DTEND;TZID=America/New_York:20260516T190000
DTSTAMP:20260420T155954
CREATED:20260401T125112Z
LAST-MODIFIED:20260401T125112Z
UID:10013683-1778947200-1778958000@carrollcountytourism.org
SUMMARY:Strawberry Social
DESCRIPTION:Our annual strawberry social will be held on May 16th\, from 4 pm to 7 pm\, at the fire house social hall. Come out and enjoy a fried chicken platter along with strawberries and ice cream. Music is provided by the Westminster Municipal Band.
URL:https://carrollcountytourism.org/event/strawberry-social/
LOCATION:Pleasant Valley Fire Co\, 2030 Pleasant Valley Rd\, Westminster\, MD\, 21158\, United States
CATEGORIES:Tourism Events
ATTACH;FMTTYPE=image/jpeg:https://carrollcountytourism.org/wp-content/uploads/2026/04/event_pleasantvalley_strawberrysocial.jpg
END:VEVENT
BEGIN:VEVENT
DTSTART;TZID=America/New_York:20260520T170000
DTEND;TZID=America/New_York:20260520T220000
DTSTAMP:20260420T155954
CREATED:20260309T141610Z
LAST-MODIFIED:20260309T141610Z
UID:10012961-1779296400-1779314400@carrollcountytourism.org
SUMMARY:Weekly Bingo @ Pleasant Valley Community Fire Company
DESCRIPTION:Weekly Wednesday Bingo @ Pleasant Valley Community Fire Company. Doors open at 5:00P.M. Kitchen opens at 5:30 P.M. Games start at 6:30 P.M. 15-minute intermission. Jackpots\, Specials\, variety of pull tab games sold\, cash prizes.
URL:https://carrollcountytourism.org/event/weekly-bingo-pleasant-valley-community-fire-company/2026-05-20/
LOCATION:Pleasant Valley Fire Co\, 2030 Pleasant Valley Rd\, Westminster\, MD\, 21158\, United States
CATEGORIES:Tourism Events
ATTACH;FMTTYPE=image/jpeg:https://carrollcountytourism.org/wp-content/uploads/2026/03/event_pleasantvalleybingo.jpg
END:VEVENT
BEGIN:VEVENT
DTSTART;TZID=America/New_York:20260527T170000
DTEND;TZID=America/New_York:20260527T220000
DTSTAMP:20260420T155954
CREATED:20260309T141610Z
LAST-MODIFIED:20260309T141610Z
UID:10012962-1779901200-1779919200@carrollcountytourism.org
SUMMARY:Weekly Bingo @ Pleasant Valley Community Fire Company
DESCRIPTION:Weekly Wednesday Bingo @ Pleasant Valley Community Fire Company. Doors open at 5:00P.M. Kitchen opens at 5:30 P.M. Games start at 6:30 P.M. 15-minute intermission. Jackpots\, Specials\, variety of pull tab games sold\, cash prizes.
URL:https://carrollcountytourism.org/event/weekly-bingo-pleasant-valley-community-fire-company/2026-05-27/
LOCATION:Pleasant Valley Fire Co\, 2030 Pleasant Valley Rd\, Westminster\, MD\, 21158\, United States
CATEGORIES:Tourism Events
ATTACH;FMTTYPE=image/jpeg:https://carrollcountytourism.org/wp-content/uploads/2026/03/event_pleasantvalleybingo.jpg
END:VEVENT
BEGIN:VEVENT
DTSTART;TZID=America/New_York:20260603T170000
DTEND;TZID=America/New_York:20260603T220000
DTSTAMP:20260420T155954
CREATED:20260309T141610Z
LAST-MODIFIED:20260309T141610Z
UID:10012963-1780506000-1780524000@carrollcountytourism.org
SUMMARY:Weekly Bingo @ Pleasant Valley Community Fire Company
DESCRIPTION:Weekly Wednesday Bingo @ Pleasant Valley Community Fire Company. Doors open at 5:00P.M. Kitchen opens at 5:30 P.M. Games start at 6:30 P.M. 15-minute intermission. Jackpots\, Specials\, variety of pull tab games sold\, cash prizes.
URL:https://carrollcountytourism.org/event/weekly-bingo-pleasant-valley-community-fire-company/2026-06-03/
LOCATION:Pleasant Valley Fire Co\, 2030 Pleasant Valley Rd\, Westminster\, MD\, 21158\, United States
CATEGORIES:Tourism Events
ATTACH;FMTTYPE=image/jpeg:https://carrollcountytourism.org/wp-content/uploads/2026/03/event_pleasantvalleybingo.jpg
END:VEVENT
BEGIN:VEVENT
DTSTART;TZID=America/New_York:20260610T170000
DTEND;TZID=America/New_York:20260610T220000
DTSTAMP:20260420T155954
CREATED:20260309T141610Z
LAST-MODIFIED:20260309T141610Z
UID:10012964-1781110800-1781128800@carrollcountytourism.org
SUMMARY:Weekly Bingo @ Pleasant Valley Community Fire Company
DESCRIPTION:Weekly Wednesday Bingo @ Pleasant Valley Community Fire Company. Doors open at 5:00P.M. Kitchen opens at 5:30 P.M. Games start at 6:30 P.M. 15-minute intermission. Jackpots\, Specials\, variety of pull tab games sold\, cash prizes.
URL:https://carrollcountytourism.org/event/weekly-bingo-pleasant-valley-community-fire-company/2026-06-10/
LOCATION:Pleasant Valley Fire Co\, 2030 Pleasant Valley Rd\, Westminster\, MD\, 21158\, United States
CATEGORIES:Tourism Events
ATTACH;FMTTYPE=image/jpeg:https://carrollcountytourism.org/wp-content/uploads/2026/03/event_pleasantvalleybingo.jpg
END:VEVENT
BEGIN:VEVENT
DTSTART;TZID=America/New_York:20260617T170000
DTEND;TZID=America/New_York:20260617T220000
DTSTAMP:20260420T155954
CREATED:20260309T141610Z
LAST-MODIFIED:20260309T141610Z
UID:10012965-1781715600-1781733600@carrollcountytourism.org
SUMMARY:Weekly Bingo @ Pleasant Valley Community Fire Company
DESCRIPTION:Weekly Wednesday Bingo @ Pleasant Valley Community Fire Company. Doors open at 5:00P.M. Kitchen opens at 5:30 P.M. Games start at 6:30 P.M. 15-minute intermission. Jackpots\, Specials\, variety of pull tab games sold\, cash prizes.
URL:https://carrollcountytourism.org/event/weekly-bingo-pleasant-valley-community-fire-company/2026-06-17/
LOCATION:Pleasant Valley Fire Co\, 2030 Pleasant Valley Rd\, Westminster\, MD\, 21158\, United States
CATEGORIES:Tourism Events
ATTACH;FMTTYPE=image/jpeg:https://carrollcountytourism.org/wp-content/uploads/2026/03/event_pleasantvalleybingo.jpg
END:VEVENT
BEGIN:VEVENT
DTSTART;TZID=America/New_York:20260624T170000
DTEND;TZID=America/New_York:20260624T220000
DTSTAMP:20260420T155954
CREATED:20260309T141610Z
LAST-MODIFIED:20260309T141610Z
UID:10012966-1782320400-1782338400@carrollcountytourism.org
SUMMARY:Weekly Bingo @ Pleasant Valley Community Fire Company
DESCRIPTION:Weekly Wednesday Bingo @ Pleasant Valley Community Fire Company. Doors open at 5:00P.M. Kitchen opens at 5:30 P.M. Games start at 6:30 P.M. 15-minute intermission. Jackpots\, Specials\, variety of pull tab games sold\, cash prizes.
URL:https://carrollcountytourism.org/event/weekly-bingo-pleasant-valley-community-fire-company/2026-06-24/
LOCATION:Pleasant Valley Fire Co\, 2030 Pleasant Valley Rd\, Westminster\, MD\, 21158\, United States
CATEGORIES:Tourism Events
ATTACH;FMTTYPE=image/jpeg:https://carrollcountytourism.org/wp-content/uploads/2026/03/event_pleasantvalleybingo.jpg
END:VEVENT
BEGIN:VEVENT
DTSTART;TZID=America/New_York:20260701T170000
DTEND;TZID=America/New_York:20260701T220000
DTSTAMP:20260420T155954
CREATED:20260309T141610Z
LAST-MODIFIED:20260309T141610Z
UID:10012967-1782925200-1782943200@carrollcountytourism.org
SUMMARY:Weekly Bingo @ Pleasant Valley Community Fire Company
DESCRIPTION:Weekly Wednesday Bingo @ Pleasant Valley Community Fire Company. Doors open at 5:00P.M. Kitchen opens at 5:30 P.M. Games start at 6:30 P.M. 15-minute intermission. Jackpots\, Specials\, variety of pull tab games sold\, cash prizes.
URL:https://carrollcountytourism.org/event/weekly-bingo-pleasant-valley-community-fire-company/2026-07-01/
LOCATION:Pleasant Valley Fire Co\, 2030 Pleasant Valley Rd\, Westminster\, MD\, 21158\, United States
CATEGORIES:Tourism Events
ATTACH;FMTTYPE=image/jpeg:https://carrollcountytourism.org/wp-content/uploads/2026/03/event_pleasantvalleybingo.jpg
END:VEVENT
BEGIN:VEVENT
DTSTART;TZID=America/New_York:20260708T170000
DTEND;TZID=America/New_York:20260708T220000
DTSTAMP:20260420T155954
CREATED:20260309T141610Z
LAST-MODIFIED:20260309T141610Z
UID:10012968-1783530000-1783548000@carrollcountytourism.org
SUMMARY:Weekly Bingo @ Pleasant Valley Community Fire Company
DESCRIPTION:Weekly Wednesday Bingo @ Pleasant Valley Community Fire Company. Doors open at 5:00P.M. Kitchen opens at 5:30 P.M. Games start at 6:30 P.M. 15-minute intermission. Jackpots\, Specials\, variety of pull tab games sold\, cash prizes.
URL:https://carrollcountytourism.org/event/weekly-bingo-pleasant-valley-community-fire-company/2026-07-08/
LOCATION:Pleasant Valley Fire Co\, 2030 Pleasant Valley Rd\, Westminster\, MD\, 21158\, United States
CATEGORIES:Tourism Events
ATTACH;FMTTYPE=image/jpeg:https://carrollcountytourism.org/wp-content/uploads/2026/03/event_pleasantvalleybingo.jpg
END:VEVENT
BEGIN:VEVENT
DTSTART;TZID=America/New_York:20260715T170000
DTEND;TZID=America/New_York:20260715T220000
DTSTAMP:20260420T155954
CREATED:20260309T141610Z
LAST-MODIFIED:20260309T141610Z
UID:10012969-1784134800-1784152800@carrollcountytourism.org
SUMMARY:Weekly Bingo @ Pleasant Valley Community Fire Company
DESCRIPTION:Weekly Wednesday Bingo @ Pleasant Valley Community Fire Company. Doors open at 5:00P.M. Kitchen opens at 5:30 P.M. Games start at 6:30 P.M. 15-minute intermission. Jackpots\, Specials\, variety of pull tab games sold\, cash prizes.
URL:https://carrollcountytourism.org/event/weekly-bingo-pleasant-valley-community-fire-company/2026-07-15/
LOCATION:Pleasant Valley Fire Co\, 2030 Pleasant Valley Rd\, Westminster\, MD\, 21158\, United States
CATEGORIES:Tourism Events
ATTACH;FMTTYPE=image/jpeg:https://carrollcountytourism.org/wp-content/uploads/2026/03/event_pleasantvalleybingo.jpg
END:VEVENT
BEGIN:VEVENT
DTSTART;TZID=America/New_York:20260722T170000
DTEND;TZID=America/New_York:20260722T220000
DTSTAMP:20260420T155954
CREATED:20260309T141610Z
LAST-MODIFIED:20260309T141610Z
UID:10012970-1784739600-1784757600@carrollcountytourism.org
SUMMARY:Weekly Bingo @ Pleasant Valley Community Fire Company
DESCRIPTION:Weekly Wednesday Bingo @ Pleasant Valley Community Fire Company. Doors open at 5:00P.M. Kitchen opens at 5:30 P.M. Games start at 6:30 P.M. 15-minute intermission. Jackpots\, Specials\, variety of pull tab games sold\, cash prizes.
URL:https://carrollcountytourism.org/event/weekly-bingo-pleasant-valley-community-fire-company/2026-07-22/
LOCATION:Pleasant Valley Fire Co\, 2030 Pleasant Valley Rd\, Westminster\, MD\, 21158\, United States
CATEGORIES:Tourism Events
ATTACH;FMTTYPE=image/jpeg:https://carrollcountytourism.org/wp-content/uploads/2026/03/event_pleasantvalleybingo.jpg
END:VEVENT
BEGIN:VEVENT
DTSTART;TZID=America/New_York:20260729T170000
DTEND;TZID=America/New_York:20260729T220000
DTSTAMP:20260420T155954
CREATED:20260309T141610Z
LAST-MODIFIED:20260309T141610Z
UID:10012971-1785344400-1785362400@carrollcountytourism.org
SUMMARY:Weekly Bingo @ Pleasant Valley Community Fire Company
DESCRIPTION:Weekly Wednesday Bingo @ Pleasant Valley Community Fire Company. Doors open at 5:00P.M. Kitchen opens at 5:30 P.M. Games start at 6:30 P.M. 15-minute intermission. Jackpots\, Specials\, variety of pull tab games sold\, cash prizes.
URL:https://carrollcountytourism.org/event/weekly-bingo-pleasant-valley-community-fire-company/2026-07-29/
LOCATION:Pleasant Valley Fire Co\, 2030 Pleasant Valley Rd\, Westminster\, MD\, 21158\, United States
CATEGORIES:Tourism Events
ATTACH;FMTTYPE=image/jpeg:https://carrollcountytourism.org/wp-content/uploads/2026/03/event_pleasantvalleybingo.jpg
END:VEVENT
BEGIN:VEVENT
DTSTART;TZID=America/New_York:20260805T170000
DTEND;TZID=America/New_York:20260805T220000
DTSTAMP:20260420T155954
CREATED:20260309T141610Z
LAST-MODIFIED:20260309T141610Z
UID:10012972-1785949200-1785967200@carrollcountytourism.org
SUMMARY:Weekly Bingo @ Pleasant Valley Community Fire Company
DESCRIPTION:Weekly Wednesday Bingo @ Pleasant Valley Community Fire Company. Doors open at 5:00P.M. Kitchen opens at 5:30 P.M. Games start at 6:30 P.M. 15-minute intermission. Jackpots\, Specials\, variety of pull tab games sold\, cash prizes.
URL:https://carrollcountytourism.org/event/weekly-bingo-pleasant-valley-community-fire-company/2026-08-05/
LOCATION:Pleasant Valley Fire Co\, 2030 Pleasant Valley Rd\, Westminster\, MD\, 21158\, United States
CATEGORIES:Tourism Events
ATTACH;FMTTYPE=image/jpeg:https://carrollcountytourism.org/wp-content/uploads/2026/03/event_pleasantvalleybingo.jpg
END:VEVENT
BEGIN:VEVENT
DTSTART;TZID=America/New_York:20260812T170000
DTEND;TZID=America/New_York:20260812T220000
DTSTAMP:20260420T155954
CREATED:20260309T141610Z
LAST-MODIFIED:20260309T141610Z
UID:10012973-1786554000-1786572000@carrollcountytourism.org
SUMMARY:Weekly Bingo @ Pleasant Valley Community Fire Company
DESCRIPTION:Weekly Wednesday Bingo @ Pleasant Valley Community Fire Company. Doors open at 5:00P.M. Kitchen opens at 5:30 P.M. Games start at 6:30 P.M. 15-minute intermission. Jackpots\, Specials\, variety of pull tab games sold\, cash prizes.
URL:https://carrollcountytourism.org/event/weekly-bingo-pleasant-valley-community-fire-company/2026-08-12/
LOCATION:Pleasant Valley Fire Co\, 2030 Pleasant Valley Rd\, Westminster\, MD\, 21158\, United States
CATEGORIES:Tourism Events
ATTACH;FMTTYPE=image/jpeg:https://carrollcountytourism.org/wp-content/uploads/2026/03/event_pleasantvalleybingo.jpg
END:VEVENT
BEGIN:VEVENT
DTSTART;TZID=America/New_York:20260819T170000
DTEND;TZID=America/New_York:20260819T220000
DTSTAMP:20260420T155954
CREATED:20260309T141610Z
LAST-MODIFIED:20260309T141610Z
UID:10012974-1787158800-1787176800@carrollcountytourism.org
SUMMARY:Weekly Bingo @ Pleasant Valley Community Fire Company
DESCRIPTION:Weekly Wednesday Bingo @ Pleasant Valley Community Fire Company. Doors open at 5:00P.M. Kitchen opens at 5:30 P.M. Games start at 6:30 P.M. 15-minute intermission. Jackpots\, Specials\, variety of pull tab games sold\, cash prizes.
URL:https://carrollcountytourism.org/event/weekly-bingo-pleasant-valley-community-fire-company/2026-08-19/
LOCATION:Pleasant Valley Fire Co\, 2030 Pleasant Valley Rd\, Westminster\, MD\, 21158\, United States
CATEGORIES:Tourism Events
ATTACH;FMTTYPE=image/jpeg:https://carrollcountytourism.org/wp-content/uploads/2026/03/event_pleasantvalleybingo.jpg
END:VEVENT
BEGIN:VEVENT
DTSTART;TZID=America/New_York:20260826T170000
DTEND;TZID=America/New_York:20260826T220000
DTSTAMP:20260420T155954
CREATED:20260309T141610Z
LAST-MODIFIED:20260309T141610Z
UID:10012975-1787763600-1787781600@carrollcountytourism.org
SUMMARY:Weekly Bingo @ Pleasant Valley Community Fire Company
DESCRIPTION:Weekly Wednesday Bingo @ Pleasant Valley Community Fire Company. Doors open at 5:00P.M. Kitchen opens at 5:30 P.M. Games start at 6:30 P.M. 15-minute intermission. Jackpots\, Specials\, variety of pull tab games sold\, cash prizes.
URL:https://carrollcountytourism.org/event/weekly-bingo-pleasant-valley-community-fire-company/2026-08-26/
LOCATION:Pleasant Valley Fire Co\, 2030 Pleasant Valley Rd\, Westminster\, MD\, 21158\, United States
CATEGORIES:Tourism Events
ATTACH;FMTTYPE=image/jpeg:https://carrollcountytourism.org/wp-content/uploads/2026/03/event_pleasantvalleybingo.jpg
END:VEVENT
BEGIN:VEVENT
DTSTART;TZID=America/New_York:20260902T170000
DTEND;TZID=America/New_York:20260902T220000
DTSTAMP:20260420T155954
CREATED:20260309T141610Z
LAST-MODIFIED:20260309T141610Z
UID:10012976-1788368400-1788386400@carrollcountytourism.org
SUMMARY:Weekly Bingo @ Pleasant Valley Community Fire Company
DESCRIPTION:Weekly Wednesday Bingo @ Pleasant Valley Community Fire Company. Doors open at 5:00P.M. Kitchen opens at 5:30 P.M. Games start at 6:30 P.M. 15-minute intermission. Jackpots\, Specials\, variety of pull tab games sold\, cash prizes.
URL:https://carrollcountytourism.org/event/weekly-bingo-pleasant-valley-community-fire-company/2026-09-02/
LOCATION:Pleasant Valley Fire Co\, 2030 Pleasant Valley Rd\, Westminster\, MD\, 21158\, United States
CATEGORIES:Tourism Events
ATTACH;FMTTYPE=image/jpeg:https://carrollcountytourism.org/wp-content/uploads/2026/03/event_pleasantvalleybingo.jpg
END:VEVENT
BEGIN:VEVENT
DTSTART;TZID=America/New_York:20260909T170000
DTEND;TZID=America/New_York:20260909T220000
DTSTAMP:20260420T155954
CREATED:20260309T141610Z
LAST-MODIFIED:20260309T141610Z
UID:10012977-1788973200-1788991200@carrollcountytourism.org
SUMMARY:Weekly Bingo @ Pleasant Valley Community Fire Company
DESCRIPTION:Weekly Wednesday Bingo @ Pleasant Valley Community Fire Company. Doors open at 5:00P.M. Kitchen opens at 5:30 P.M. Games start at 6:30 P.M. 15-minute intermission. Jackpots\, Specials\, variety of pull tab games sold\, cash prizes.
URL:https://carrollcountytourism.org/event/weekly-bingo-pleasant-valley-community-fire-company/2026-09-09/
LOCATION:Pleasant Valley Fire Co\, 2030 Pleasant Valley Rd\, Westminster\, MD\, 21158\, United States
CATEGORIES:Tourism Events
ATTACH;FMTTYPE=image/jpeg:https://carrollcountytourism.org/wp-content/uploads/2026/03/event_pleasantvalleybingo.jpg
END:VEVENT
BEGIN:VEVENT
DTSTART;TZID=America/New_York:20260916T170000
DTEND;TZID=America/New_York:20260916T220000
DTSTAMP:20260420T155954
CREATED:20260309T141610Z
LAST-MODIFIED:20260309T141610Z
UID:10012978-1789578000-1789596000@carrollcountytourism.org
SUMMARY:Weekly Bingo @ Pleasant Valley Community Fire Company
DESCRIPTION:Weekly Wednesday Bingo @ Pleasant Valley Community Fire Company. Doors open at 5:00P.M. Kitchen opens at 5:30 P.M. Games start at 6:30 P.M. 15-minute intermission. Jackpots\, Specials\, variety of pull tab games sold\, cash prizes.
URL:https://carrollcountytourism.org/event/weekly-bingo-pleasant-valley-community-fire-company/2026-09-16/
LOCATION:Pleasant Valley Fire Co\, 2030 Pleasant Valley Rd\, Westminster\, MD\, 21158\, United States
CATEGORIES:Tourism Events
ATTACH;FMTTYPE=image/jpeg:https://carrollcountytourism.org/wp-content/uploads/2026/03/event_pleasantvalleybingo.jpg
END:VEVENT
BEGIN:VEVENT
DTSTART;TZID=America/New_York:20260923T170000
DTEND;TZID=America/New_York:20260923T220000
DTSTAMP:20260420T155954
CREATED:20260309T141610Z
LAST-MODIFIED:20260309T141610Z
UID:10012979-1790182800-1790200800@carrollcountytourism.org
SUMMARY:Weekly Bingo @ Pleasant Valley Community Fire Company
DESCRIPTION:Weekly Wednesday Bingo @ Pleasant Valley Community Fire Company. Doors open at 5:00P.M. Kitchen opens at 5:30 P.M. Games start at 6:30 P.M. 15-minute intermission. Jackpots\, Specials\, variety of pull tab games sold\, cash prizes.
URL:https://carrollcountytourism.org/event/weekly-bingo-pleasant-valley-community-fire-company/2026-09-23/
LOCATION:Pleasant Valley Fire Co\, 2030 Pleasant Valley Rd\, Westminster\, MD\, 21158\, United States
CATEGORIES:Tourism Events
ATTACH;FMTTYPE=image/jpeg:https://carrollcountytourism.org/wp-content/uploads/2026/03/event_pleasantvalleybingo.jpg
END:VEVENT
BEGIN:VEVENT
DTSTART;TZID=America/New_York:20260926T090000
DTEND;TZID=America/New_York:20260926T150000
DTSTAMP:20260420T155954
CREATED:20260305T185626Z
LAST-MODIFIED:20260413T145603Z
UID:10012946-1790413200-1790434800@carrollcountytourism.org
SUMMARY:2nd Annual Pleasant Valley Car Show
DESCRIPTION:Indoor Flea Market\, Raffle Table\, Great Food Served All Day!\nShow Open to All Cars\, Trucks\, SUVs & Custom/Hot Rod Cars\nEvent in Memory of Fire Department Life Member and Veteran Donald “Sox” Bowersox with proceeds to benefit Pleasant Valley Community Fire Company.\nRaffle Ticket & Plaque to first 100 registered. $15/Advance\, $20/Day of Show\nSpectators Free Admission\nJudges Trophies: Cars – Top 15\, Custom/Hot Rods – Top 5\, Trucks – Top 5\, SUVs – Top 5\,\nParticipants Choice – Top 3 (1 ballot given to each registered show vehicle)\nAngela’s Choice Trophy (Donald’s widow selects her favorite entry.) Donald’s car will be displayed but not entered in the show.\nFor more information\, check our website.
URL:https://carrollcountytourism.org/event/pleasant-valley-car-show-2/
LOCATION:Pleasant Valley Fire Co\, 2030 Pleasant Valley Rd\, Westminster\, MD\, 21158\, United States
CATEGORIES:Tourism Events
ATTACH;FMTTYPE=image/jpeg:https://carrollcountytourism.org/wp-content/uploads/2025/03/event_pleasantvalleycarshow.jpg
END:VEVENT
BEGIN:VEVENT
DTSTART;TZID=America/New_York:20260930T170000
DTEND;TZID=America/New_York:20260930T220000
DTSTAMP:20260420T155954
CREATED:20260309T141610Z
LAST-MODIFIED:20260309T141610Z
UID:10012980-1790787600-1790805600@carrollcountytourism.org
SUMMARY:Weekly Bingo @ Pleasant Valley Community Fire Company
DESCRIPTION:Weekly Wednesday Bingo @ Pleasant Valley Community Fire Company. Doors open at 5:00P.M. Kitchen opens at 5:30 P.M. Games start at 6:30 P.M. 15-minute intermission. Jackpots\, Specials\, variety of pull tab games sold\, cash prizes.
URL:https://carrollcountytourism.org/event/weekly-bingo-pleasant-valley-community-fire-company/2026-09-30/
LOCATION:Pleasant Valley Fire Co\, 2030 Pleasant Valley Rd\, Westminster\, MD\, 21158\, United States
CATEGORIES:Tourism Events
ATTACH;FMTTYPE=image/jpeg:https://carrollcountytourism.org/wp-content/uploads/2026/03/event_pleasantvalleybingo.jpg
END:VEVENT
BEGIN:VEVENT
DTSTART;TZID=America/New_York:20261007T170000
DTEND;TZID=America/New_York:20261007T220000
DTSTAMP:20260420T155954
CREATED:20260309T141610Z
LAST-MODIFIED:20260309T141610Z
UID:10012981-1791392400-1791410400@carrollcountytourism.org
SUMMARY:Weekly Bingo @ Pleasant Valley Community Fire Company
DESCRIPTION:Weekly Wednesday Bingo @ Pleasant Valley Community Fire Company. Doors open at 5:00P.M. Kitchen opens at 5:30 P.M. Games start at 6:30 P.M. 15-minute intermission. Jackpots\, Specials\, variety of pull tab games sold\, cash prizes.
URL:https://carrollcountytourism.org/event/weekly-bingo-pleasant-valley-community-fire-company/2026-10-07/
LOCATION:Pleasant Valley Fire Co\, 2030 Pleasant Valley Rd\, Westminster\, MD\, 21158\, United States
CATEGORIES:Tourism Events
ATTACH;FMTTYPE=image/jpeg:https://carrollcountytourism.org/wp-content/uploads/2026/03/event_pleasantvalleybingo.jpg
END:VEVENT
BEGIN:VEVENT
DTSTART;TZID=America/New_York:20261014T170000
DTEND;TZID=America/New_York:20261014T220000
DTSTAMP:20260420T155954
CREATED:20260309T141610Z
LAST-MODIFIED:20260309T141610Z
UID:10012982-1791997200-1792015200@carrollcountytourism.org
SUMMARY:Weekly Bingo @ Pleasant Valley Community Fire Company
DESCRIPTION:Weekly Wednesday Bingo @ Pleasant Valley Community Fire Company. Doors open at 5:00P.M. Kitchen opens at 5:30 P.M. Games start at 6:30 P.M. 15-minute intermission. Jackpots\, Specials\, variety of pull tab games sold\, cash prizes.
URL:https://carrollcountytourism.org/event/weekly-bingo-pleasant-valley-community-fire-company/2026-10-14/
LOCATION:Pleasant Valley Fire Co\, 2030 Pleasant Valley Rd\, Westminster\, MD\, 21158\, United States
CATEGORIES:Tourism Events
ATTACH;FMTTYPE=image/jpeg:https://carrollcountytourism.org/wp-content/uploads/2026/03/event_pleasantvalleybingo.jpg
END:VEVENT
BEGIN:VEVENT
DTSTART;TZID=America/New_York:20261021T170000
DTEND;TZID=America/New_York:20261021T220000
DTSTAMP:20260420T155954
CREATED:20260309T141610Z
LAST-MODIFIED:20260309T141610Z
UID:10012983-1792602000-1792620000@carrollcountytourism.org
SUMMARY:Weekly Bingo @ Pleasant Valley Community Fire Company
DESCRIPTION:Weekly Wednesday Bingo @ Pleasant Valley Community Fire Company. Doors open at 5:00P.M. Kitchen opens at 5:30 P.M. Games start at 6:30 P.M. 15-minute intermission. Jackpots\, Specials\, variety of pull tab games sold\, cash prizes.
URL:https://carrollcountytourism.org/event/weekly-bingo-pleasant-valley-community-fire-company/2026-10-21/
LOCATION:Pleasant Valley Fire Co\, 2030 Pleasant Valley Rd\, Westminster\, MD\, 21158\, United States
CATEGORIES:Tourism Events
ATTACH;FMTTYPE=image/jpeg:https://carrollcountytourism.org/wp-content/uploads/2026/03/event_pleasantvalleybingo.jpg
END:VEVENT
BEGIN:VEVENT
DTSTART;TZID=America/New_York:20261028T170000
DTEND;TZID=America/New_York:20261028T220000
DTSTAMP:20260420T155954
CREATED:20260309T141610Z
LAST-MODIFIED:20260309T141610Z
UID:10012984-1793206800-1793224800@carrollcountytourism.org
SUMMARY:Weekly Bingo @ Pleasant Valley Community Fire Company
DESCRIPTION:Weekly Wednesday Bingo @ Pleasant Valley Community Fire Company. Doors open at 5:00P.M. Kitchen opens at 5:30 P.M. Games start at 6:30 P.M. 15-minute intermission. Jackpots\, Specials\, variety of pull tab games sold\, cash prizes.
URL:https://carrollcountytourism.org/event/weekly-bingo-pleasant-valley-community-fire-company/2026-10-28/
LOCATION:Pleasant Valley Fire Co\, 2030 Pleasant Valley Rd\, Westminster\, MD\, 21158\, United States
CATEGORIES:Tourism Events
ATTACH;FMTTYPE=image/jpeg:https://carrollcountytourism.org/wp-content/uploads/2026/03/event_pleasantvalleybingo.jpg
END:VEVENT
END:VCALENDAR