BEGIN:VCALENDAR
VERSION:2.0
PRODID:-//Carroll County Tourism | Carroll County, Maryland - ECPv6.15.17//NONSGML v1.0//EN
CALSCALE:GREGORIAN
METHOD:PUBLISH
X-ORIGINAL-URL:https://carrollcountytourism.org
X-WR-CALDESC:Events for Carroll County Tourism | Carroll County, Maryland
REFRESH-INTERVAL;VALUE=DURATION:PT1H
X-Robots-Tag:noindex
X-PUBLISHED-TTL:PT1H
BEGIN:VTIMEZONE
TZID:America/New_York
BEGIN:DAYLIGHT
TZOFFSETFROM:-0500
TZOFFSETTO:-0400
TZNAME:EDT
DTSTART:20240310T070000
END:DAYLIGHT
BEGIN:STANDARD
TZOFFSETFROM:-0400
TZOFFSETTO:-0500
TZNAME:EST
DTSTART:20241103T060000
END:STANDARD
BEGIN:DAYLIGHT
TZOFFSETFROM:-0500
TZOFFSETTO:-0400
TZNAME:EDT
DTSTART:20250309T070000
END:DAYLIGHT
BEGIN:STANDARD
TZOFFSETFROM:-0400
TZOFFSETTO:-0500
TZNAME:EST
DTSTART:20251102T060000
END:STANDARD
BEGIN:DAYLIGHT
TZOFFSETFROM:-0500
TZOFFSETTO:-0400
TZNAME:EDT
DTSTART:20260308T070000
END:DAYLIGHT
BEGIN:STANDARD
TZOFFSETFROM:-0400
TZOFFSETTO:-0500
TZNAME:EST
DTSTART:20261101T060000
END:STANDARD
END:VTIMEZONE
BEGIN:VEVENT
DTSTART;TZID=America/New_York:20251108T120000
DTEND;TZID=America/New_York:20251108T160000
DTSTAMP:20260420T155851
CREATED:20250109T194532Z
LAST-MODIFIED:20250109T194532Z
UID:10008117-1762603200-1762617600@carrollcountytourism.org
SUMMARY:Sykesville Craft Beer Festival
DESCRIPTION:Enjoy unlimited sampling of over 50 beers from an AMAZING brewery line up\, live music\, food trucks\, and artisan vendors in beautiful historic Sykesville. \nThe event is rain or shine. \nWhen: November 8\, 2025 @ 12:00 pm – 4:00 pm\nWhere: Sykesville\, MD 21784\, USA \nTICKETS COMING SOON!!!
URL:https://carrollcountytourism.org/event/sykesville-craft-beer-festival/
LOCATION:Sykesville Main Street\, 7547 Main St\, Sykesville\, MD\, 21784\, United States
CATEGORIES:Tourism Events
END:VEVENT
BEGIN:VEVENT
DTSTART;TZID=America/New_York:20251026T160000
DTEND;TZID=America/New_York:20251026T180000
DTSTAMP:20260420T155851
CREATED:20250109T194303Z
LAST-MODIFIED:20250109T194303Z
UID:10008116-1761494400-1761501600@carrollcountytourism.org
SUMMARY:Sykesville Trick or Treat on Main Street
DESCRIPTION:Join us for a spooktacular evening of trick-or-treating on Main Street! Bring your little goblins\, superheroes\, and witches for a magical Halloween adventure. The Main Street merchants partnered up with the Sykesville Police\, the Town of Sykesville\, to make sure everyone is safe and sound and has a sweet time in Sykesville! Join us for an evening of family fun!
URL:https://carrollcountytourism.org/event/sykesville-trick-or-treat-on-main-street/
LOCATION:Sykesville Main Street\, 7547 Main St\, Sykesville\, MD\, 21784\, United States
CATEGORIES:Tourism Events
ATTACH;FMTTYPE=image/jpeg:https://carrollcountytourism.org/wp-content/uploads/2025/01/event_sykesville_trickortreat.jpg
END:VEVENT
BEGIN:VEVENT
DTSTART;TZID=America/New_York:20251018T120000
DTEND;TZID=America/New_York:20251018T160000
DTSTAMP:20260420T155851
CREATED:20250109T193841Z
LAST-MODIFIED:20250912T182557Z
UID:10008115-1760788800-1760803200@carrollcountytourism.org
SUMMARY:Sykesville Fall Festival
DESCRIPTION:The Main Street Fall Fun Festival is a community event that draws families to downtown Sykesville. The Festival features crafts\, games\, demonstrations\, food vendors\, and live entertainment. The festival represents an opportunity for local businesses to highlight their presence within the community and support our nonprofit Main Street program. \nWhen: October 18\, 2025 @ 12:00 pm – 4:00 pm \nWhere: Sykesville Main Street\, 7547 Main Street \nCost: FREE \n2025 Activities and Performances \n*All day activities \n*Facepainting \n*Stilt Walker \n*Juggler \n*Mime \n*Various Crafts \n*Moonbounce \n*Free cotton candy \n12:00 – 2:00pm – Glitter Fairy Godmother \n12:00pm – David French Magic Show \n1:30pm – Carroll County Dance Center Dancers \n2:00pm – Freedom Fire Stars \n2:30pm – David French Magic Show \nMORE TO COME!
URL:https://carrollcountytourism.org/event/sykesville-fall-festival/
LOCATION:Sykesville Main Street\, 7547 Main St\, Sykesville\, MD\, 21784\, United States
CATEGORIES:Tourism Events
ATTACH;FMTTYPE=image/jpeg:https://carrollcountytourism.org/wp-content/uploads/2025/01/event_sykesville_fallfunfest2.jpg
END:VEVENT
BEGIN:VEVENT
DTSTART;TZID=America/New_York:20250816T120000
DTEND;TZID=America/New_York:20250816T160000
DTSTAMP:20260420T155851
CREATED:20250109T192731Z
LAST-MODIFIED:20250624T182311Z
UID:10008114-1755345600-1755360000@carrollcountytourism.org
SUMMARY:Sykesville Sippin' on Summer Festival
DESCRIPTION:Join us for unlimited sampling (limited number of tickets available) of an array of unique hard seltzers\, ciders\, and awesome beers\, all right here on Sykesville Main Street! \nThe event is rain or shine. \nWhen: August 16\, 2025 @ 12:00 pm – 4:00 pm\nWhere: Sykesville Main Street \nCost: Tasting Tickets and Guest Tickets Coming Soon!! \nPlease bring your ID and tickets. Guests can also be checked in under the name on the ticket.
URL:https://carrollcountytourism.org/event/sykesville-sippin-on-summer-festival/
LOCATION:Sykesville Main Street\, 7547 Main St\, Sykesville\, MD\, 21784\, United States
CATEGORIES:Tourism Events
ATTACH;FMTTYPE=image/jpeg:https://carrollcountytourism.org/wp-content/uploads/2025/01/event_sippinonsummer2.jpg
END:VEVENT
BEGIN:VEVENT
DTSTART;TZID=America/New_York:20250628T100000
DTEND;TZID=America/New_York:20250628T120000
DTSTAMP:20260420T155851
CREATED:20250109T192314Z
LAST-MODIFIED:20250109T192314Z
UID:10008113-1751104800-1751112000@carrollcountytourism.org
SUMMARY:Sykesville Let Freedom Ring Parade
DESCRIPTION:Bring the whole family and celebrate America’s birthday\, Sykesville-style! Parade floats will be judged\, and awards for floats will be announced after the parade. The parade should be over just in time for lunch and ice cream downtown Sykesville. \nThe Let Freedom Ring parade will start at 10 AM that day\, beginning at Sykesville Middle School and proceeding down Springfield Avenue and the length of Historic Main Street\, with floats and vehicles accompanying the approximately 35 participants marching in units and organized groups. \nWhen: June 28\, 2025 @ 10:00 am – 12:00 pm\nWhere: Sykesville Main Street \nCost: FREE
URL:https://carrollcountytourism.org/event/sykesville-let-freedom-ring-parade/
LOCATION:Sykesville Main Street\, 7547 Main St\, Sykesville\, MD\, 21784\, United States
CATEGORIES:Tourism Events
ATTACH;FMTTYPE=image/jpeg:https://carrollcountytourism.org/wp-content/uploads/2025/01/event_sykesville_letfreedomring.jpg
END:VEVENT
BEGIN:VEVENT
DTSTART;TZID=America/New_York:20250614T120000
DTEND;TZID=America/New_York:20250614T160000
DTSTAMP:20260420T155851
CREATED:20250109T193027Z
LAST-MODIFIED:20250109T193044Z
UID:10008111-1749902400-1749916800@carrollcountytourism.org
SUMMARY:Sykesville Pride Day
DESCRIPTION:Join us for Sykesville Pride Day and be a part of a community that embraces love and acceptance! We will have vendors\, performances\, conversations and so much more! \nList of activities and performances coming soon!! Check out of 2024 list below! \nAll day – Face painting\, band\, mermaid\, food truck\, photo backdrop\, fairy floss hair tinsel\, free cotton candy\, vendors\, crafts and lots of color! \n1-2pm – Author Reading \n2-3pm – Drag Queen
URL:https://carrollcountytourism.org/event/sykesville-pride-day/
LOCATION:Sykesville Main Street\, 7547 Main St\, Sykesville\, MD\, 21784\, United States
CATEGORIES:Tourism Events
ATTACH;FMTTYPE=image/jpeg:https://carrollcountytourism.org/wp-content/uploads/2025/01/event_sykesville_pride.jpg
END:VEVENT
BEGIN:VEVENT
DTSTART;TZID=America/New_York:20250503T120000
DTEND;TZID=America/New_York:20250503T160000
DTSTAMP:20260420T155851
CREATED:20250109T195236Z
LAST-MODIFIED:20250206T202428Z
UID:10008110-1746273600-1746288000@carrollcountytourism.org
SUMMARY:Sykesville Art and Wine Festival
DESCRIPTION:Tickets Now Available! \nEnjoy an exciting and diverse wine sampling alongside live entertainment\, local artists\, and food in our vibrant local business community\, embodying an atmosphere of old-fashioned\, historic\, small-town charm! \nEnjoy the best Maryland wineries and vineyards from the Sonoma Valley\, Argentina\, France\, and Italy. Whites\, reds\, rosés\, cavas\, and other specialty wines will be available for unlimited sampling with your collectible Sykesville glass (provided). \nAmenities: Shuttles – ticket holders only – go from Sykesville Middle School parking lot and Freedom Park parking lot down to Main Street with an ADA-accessible shuttle going between all locations\, a sign language interpreter for the bands\, and ADA-accessible bathrooms.
URL:https://carrollcountytourism.org/event/art-and-wine-festival/
LOCATION:Sykesville Main Street\, 7547 Main St\, Sykesville\, MD\, 21784\, United States
CATEGORIES:Tourism Events
ATTACH;FMTTYPE=image/jpeg:https://carrollcountytourism.org/wp-content/uploads/2025/01/event_sykesvilleartwine3.jpg
END:VEVENT
END:VCALENDAR