BEGIN:VCALENDAR
VERSION:2.0
PRODID:-//Carroll County Tourism | Carroll County, Maryland - ECPv6.15.17//NONSGML v1.0//EN
CALSCALE:GREGORIAN
METHOD:PUBLISH
X-WR-CALNAME:Carroll County Tourism | Carroll County, Maryland
X-ORIGINAL-URL:https://carrollcountytourism.org
X-WR-CALDESC:Events for Carroll County Tourism | Carroll County, Maryland
REFRESH-INTERVAL;VALUE=DURATION:PT1H
X-Robots-Tag:noindex
X-PUBLISHED-TTL:PT1H
BEGIN:VTIMEZONE
TZID:America/New_York
BEGIN:DAYLIGHT
TZOFFSETFROM:-0500
TZOFFSETTO:-0400
TZNAME:EDT
DTSTART:20250309T070000
END:DAYLIGHT
BEGIN:STANDARD
TZOFFSETFROM:-0400
TZOFFSETTO:-0500
TZNAME:EST
DTSTART:20251102T060000
END:STANDARD
BEGIN:DAYLIGHT
TZOFFSETFROM:-0500
TZOFFSETTO:-0400
TZNAME:EDT
DTSTART:20260308T070000
END:DAYLIGHT
BEGIN:STANDARD
TZOFFSETFROM:-0400
TZOFFSETTO:-0500
TZNAME:EST
DTSTART:20261101T060000
END:STANDARD
BEGIN:DAYLIGHT
TZOFFSETFROM:-0500
TZOFFSETTO:-0400
TZNAME:EDT
DTSTART:20270314T070000
END:DAYLIGHT
BEGIN:STANDARD
TZOFFSETFROM:-0400
TZOFFSETTO:-0500
TZNAME:EST
DTSTART:20271107T060000
END:STANDARD
END:VTIMEZONE
BEGIN:VEVENT
DTSTART;TZID=America/New_York:20260501T110000
DTEND;TZID=America/New_York:20260501T160000
DTSTAMP:20260420T142341
CREATED:20251211T194856Z
LAST-MODIFIED:20251211T194856Z
UID:10012652-1777633200-1777651200@carrollcountytourism.org
SUMMARY:56th Annual Flower & Plant Market
DESCRIPTION:Join us when we open the 2026 Union Mills Homestead season with our 56th Annual Flower & Plant Market! \nCome see our beautiful selections of your favorite regionally grown: \nNative Plants\nHanging Baskets\nAnnuals/Perennials\nVegetable Plants and Herbs\nShrubs and Trees\nHeirloom Vegetables \nBrowse the Tannery and wagons for the perfect additions to your garden. Visit the Gardener’s Corner for gently used books\, pots\, containers\, and other garden-related bargains. Browse the booths of craft and garden-related vendors.\nSchedule: \nFriday \nEarly-Bird Selections — have the first pick of our unique selection of quality plants!\nKountry Kafe Catering will feature a light luncheon menu.\nCraft vendors will join us for the afternoon. \nSaturday and Sunday \nTannery and wagons full of locally grown flowers\, shrubs\, vegetables and herbs.\nGarden-related vendors.\nKountry Kafe Catering will feature your lunch menu favorites.\nHistoric House and Mill tours from noon – 4 pm (last combination tour starts at 3).\nSaturday only – children’s activity table provided by the Littlestown Garden Club.
URL:https://carrollcountytourism.org/event/56th-annual-flower-plant-market/2026-05-01/
LOCATION:Union Mills Homestead\, 3311 Littlestown Pike\, Westminster\, MD\, 21158\, United States
CATEGORIES:Tourism Events
ATTACH;FMTTYPE=image/jpeg:https://carrollcountytourism.org/wp-content/uploads/2024/11/event_UMflowermarket.jpg
ORGANIZER;CN="Union Mills Homestead":MAILTO:umhomestead@gmail.com
END:VEVENT
BEGIN:VEVENT
DTSTART;TZID=America/New_York:20260502T090000
DTEND;TZID=America/New_York:20260502T160000
DTSTAMP:20260420T142341
CREATED:20251211T194856Z
LAST-MODIFIED:20251211T194856Z
UID:10012658-1777712400-1777737600@carrollcountytourism.org
SUMMARY:56th Annual Flower & Plant Market
DESCRIPTION:Join us when we open the 2026 Union Mills Homestead season with our 56th Annual Flower & Plant Market! \nCome see our beautiful selections of your favorite regionally grown: \nNative Plants\nHanging Baskets\nAnnuals/Perennials\nVegetable Plants and Herbs\nShrubs and Trees\nHeirloom Vegetables \nBrowse the Tannery and wagons for the perfect additions to your garden. Visit the Gardener’s Corner for gently used books\, pots\, containers\, and other garden-related bargains. Browse the booths of craft and garden-related vendors.\nSchedule: \nFriday \nEarly-Bird Selections — have the first pick of our unique selection of quality plants!\nKountry Kafe Catering will feature a light luncheon menu.\nCraft vendors will join us for the afternoon. \nSaturday and Sunday \nTannery and wagons full of locally grown flowers\, shrubs\, vegetables and herbs.\nGarden-related vendors.\nKountry Kafe Catering will feature your lunch menu favorites.\nHistoric House and Mill tours from noon – 4 pm (last combination tour starts at 3).\nSaturday only – children’s activity table provided by the Littlestown Garden Club.
URL:https://carrollcountytourism.org/event/56th-annual-flower-plant-market/2026-05-02/
LOCATION:Union Mills Homestead\, 3311 Littlestown Pike\, Westminster\, MD\, 21158\, United States
CATEGORIES:Tourism Events
ATTACH;FMTTYPE=image/jpeg:https://carrollcountytourism.org/wp-content/uploads/2024/11/event_UMflowermarket.jpg
ORGANIZER;CN="Union Mills Homestead":MAILTO:umhomestead@gmail.com
END:VEVENT
BEGIN:VEVENT
DTSTART;TZID=America/New_York:20260503T100000
DTEND;TZID=America/New_York:20260503T160000
DTSTAMP:20260420T142341
CREATED:20251211T194856Z
LAST-MODIFIED:20251211T194856Z
UID:10012659-1777802400-1777824000@carrollcountytourism.org
SUMMARY:56th Annual Flower & Plant Market
DESCRIPTION:Join us when we open the 2026 Union Mills Homestead season with our 56th Annual Flower & Plant Market! \nCome see our beautiful selections of your favorite regionally grown: \nNative Plants\nHanging Baskets\nAnnuals/Perennials\nVegetable Plants and Herbs\nShrubs and Trees\nHeirloom Vegetables \nBrowse the Tannery and wagons for the perfect additions to your garden. Visit the Gardener’s Corner for gently used books\, pots\, containers\, and other garden-related bargains. Browse the booths of craft and garden-related vendors.\nSchedule: \nFriday \nEarly-Bird Selections — have the first pick of our unique selection of quality plants!\nKountry Kafe Catering will feature a light luncheon menu.\nCraft vendors will join us for the afternoon. \nSaturday and Sunday \nTannery and wagons full of locally grown flowers\, shrubs\, vegetables and herbs.\nGarden-related vendors.\nKountry Kafe Catering will feature your lunch menu favorites.\nHistoric House and Mill tours from noon – 4 pm (last combination tour starts at 3).\nSaturday only – children’s activity table provided by the Littlestown Garden Club.
URL:https://carrollcountytourism.org/event/56th-annual-flower-plant-market/2026-05-03/
LOCATION:Union Mills Homestead\, 3311 Littlestown Pike\, Westminster\, MD\, 21158\, United States
CATEGORIES:Tourism Events
ATTACH;FMTTYPE=image/jpeg:https://carrollcountytourism.org/wp-content/uploads/2024/11/event_UMflowermarket.jpg
ORGANIZER;CN="Union Mills Homestead":MAILTO:umhomestead@gmail.com
END:VEVENT
BEGIN:VEVENT
DTSTART;TZID=America/New_York:20260620T100000
DTEND;TZID=America/New_York:20260620T160000
DTSTAMP:20260420T142341
CREATED:20251211T195115Z
LAST-MODIFIED:20251211T195115Z
UID:10012653-1781949600-1781971200@carrollcountytourism.org
SUMMARY:Citizen Meets Soldier
DESCRIPTION:“Citizen Meets Soldier” is a living history of 1863 in Carroll County\, Maryland. Join us at the Union Mills Homestead to commemorate the events of the hot summer of 1863. Walk in the footsteps of the citizens of Carroll County\, Maryland\, who were divided in their loyalties\, and the Union and Confederate soldiers who camped along Big Pipe Creek at Union Mills in the days surrounding the Battle of Gettysburg. \nUnion Mills’ Civil War encampment will celebrate and commemorate the chaos and excitement of the Civil War in Carroll County\, Maryland. \nIn the days surrounding Lee’s Second Invasion of the North\, small towns in Carroll County — including Union Mills — saw the movement of both U.S. and Confederate Armies\, supply wagons\, injured soldiers\, and an important skirmish occurred in nearby Westminster. There\, U.S. Cavalry charged headfirst into Confederate Cavalry under the command of Maj. Gen. J.E.B. Stuart. But for a few hours\, a battle may well have occurred at Union Mills\, as it lay dead center in the Union Army’s defensive line along Big Pipe Creek and Union Mills served as the site of overnight encampments by both Stuart’s Confederate Cavalry and Sykes’ Fifth Corps of the U.S. Army. Stuart’s Cavalry pulled out of Union Mills just hours before the Union Army arrived! Living history portrayals\, encampments\, and historic displays interpreting this period will take place on the scenic and spacious grounds of the Union Mills Homestead.
URL:https://carrollcountytourism.org/event/citizen-meets-soldier/2026-06-20/
LOCATION:Union Mills Homestead\, 3311 Littlestown Pike\, Westminster\, MD\, 21158\, United States
CATEGORIES:Tourism Events
ATTACH;FMTTYPE=image/jpeg:https://carrollcountytourism.org/wp-content/uploads/2024/01/event_UMCivilWarCav.jpg
ORGANIZER;CN="Union Mills Homestead":MAILTO:umhomestead@gmail.com
END:VEVENT
BEGIN:VEVENT
DTSTART;TZID=America/New_York:20260621T100000
DTEND;TZID=America/New_York:20260621T150000
DTSTAMP:20260420T142341
CREATED:20251211T195115Z
LAST-MODIFIED:20251211T195115Z
UID:10012660-1782036000-1782054000@carrollcountytourism.org
SUMMARY:Citizen Meets Soldier
DESCRIPTION:“Citizen Meets Soldier” is a living history of 1863 in Carroll County\, Maryland. Join us at the Union Mills Homestead to commemorate the events of the hot summer of 1863. Walk in the footsteps of the citizens of Carroll County\, Maryland\, who were divided in their loyalties\, and the Union and Confederate soldiers who camped along Big Pipe Creek at Union Mills in the days surrounding the Battle of Gettysburg. \nUnion Mills’ Civil War encampment will celebrate and commemorate the chaos and excitement of the Civil War in Carroll County\, Maryland. \nIn the days surrounding Lee’s Second Invasion of the North\, small towns in Carroll County — including Union Mills — saw the movement of both U.S. and Confederate Armies\, supply wagons\, injured soldiers\, and an important skirmish occurred in nearby Westminster. There\, U.S. Cavalry charged headfirst into Confederate Cavalry under the command of Maj. Gen. J.E.B. Stuart. But for a few hours\, a battle may well have occurred at Union Mills\, as it lay dead center in the Union Army’s defensive line along Big Pipe Creek and Union Mills served as the site of overnight encampments by both Stuart’s Confederate Cavalry and Sykes’ Fifth Corps of the U.S. Army. Stuart’s Cavalry pulled out of Union Mills just hours before the Union Army arrived! Living history portrayals\, encampments\, and historic displays interpreting this period will take place on the scenic and spacious grounds of the Union Mills Homestead.
URL:https://carrollcountytourism.org/event/citizen-meets-soldier/2026-06-21/
LOCATION:Union Mills Homestead\, 3311 Littlestown Pike\, Westminster\, MD\, 21158\, United States
CATEGORIES:Tourism Events
ATTACH;FMTTYPE=image/jpeg:https://carrollcountytourism.org/wp-content/uploads/2024/01/event_UMCivilWarCav.jpg
ORGANIZER;CN="Union Mills Homestead":MAILTO:umhomestead@gmail.com
END:VEVENT
BEGIN:VEVENT
DTSTART;TZID=America/New_York:20260801T110000
DTEND;TZID=America/New_York:20260801T160000
DTSTAMP:20260420T142341
CREATED:20251211T195256Z
LAST-MODIFIED:20251211T195256Z
UID:10012654-1785582000-1785600000@carrollcountytourism.org
SUMMARY:55th Annual Corn Roast
DESCRIPTION:Each meal ticket includes a serving of fried chicken\, applesauce\, sliced tomatoes\, roll and butter\, iced tea or lemonade and all the roasted corn that you can eat! \nCorn is roasted in the husk served at your table.\nOther Attractions: \nMusical Entertainment by the Martin Brothers\nGift Shop and Blacksmith Shop open\nTours of the historic House and Mill for a fee (11 am – 4 pm)
URL:https://carrollcountytourism.org/event/55th-annual-corn-roast/
LOCATION:Union Mills Homestead\, 3311 Littlestown Pike\, Westminster\, MD\, 21158\, United States
CATEGORIES:Tourism Events
ATTACH;FMTTYPE=image/jpeg:https://carrollcountytourism.org/wp-content/uploads/2024/01/event_CornRoast2.jpg
ORGANIZER;CN="Union Mills Homestead":MAILTO:umhomestead@gmail.com
END:VEVENT
BEGIN:VEVENT
DTSTART;TZID=America/New_York:20260823T150000
DTEND;TZID=America/New_York:20260823T180000
DTSTAMP:20260420T142341
CREATED:20260311T140810Z
LAST-MODIFIED:20260311T140810Z
UID:10012998-1787497200-1787508000@carrollcountytourism.org
SUMMARY:Music on the Millrace: Hayden Shaw & This Side of Pleasant
DESCRIPTION:Music on the Millrace offers a relaxed\, inviting opportunity for our members and friends to come out to enjoy the authentic beauty of the site\, separate from our other major events. \nThis is a great time to enjoy an afternoon on the beautiful grounds of the Union Mills Homestead. Admission to the event is only $10. Under 12 are free! Food\, beer and wine will be available to purchase. Please bring a chair or blanket to sit on. No outside alcohol may be brought into the event. Because we have to inspect any containers to ensure there is no alcohol\, please refrain from bringing backpacks or coolers\, although you are welcome to bring your own snacks. \nHayden Shaw and This Side of Pleasant \nHailing from right down the road\, Hayden Shaw and his band This Side of Pleasant (as in Pleasant Valley) is thrilled to be back for another great day of Bluegrass! Hayden Shaw & This Side of Pleasant is a high-energy Bluegrass group comprised of some of Hayden’s best friends in Bluegrass. Last March they broke the attendance record for a Wehrly’s Auction House “Pickin’ and Biddin’” show. Hayden pulls from a wide array of influences and music genres to bring a fun and exciting bluegrass show that you won’t want to miss!
URL:https://carrollcountytourism.org/event/music-on-the-millrace-hayden-shaw-this-side-of-pleasant/
LOCATION:Union Mills Homestead\, 3311 Littlestown Pike\, Westminster\, MD\, 21158\, United States
CATEGORIES:Tourism Events
ATTACH;FMTTYPE=image/jpeg:https://carrollcountytourism.org/wp-content/uploads/2024/06/event_UMHmusicseries.jpg
ORGANIZER;CN="Union Mills Homestead":MAILTO:umhomestead@gmail.com
END:VEVENT
BEGIN:VEVENT
DTSTART;TZID=America/New_York:20260926T110000
DTEND;TZID=America/New_York:20260926T180000
DTSTAMP:20260420T142341
CREATED:20251211T195639Z
LAST-MODIFIED:20251211T195639Z
UID:10012655-1790420400-1790445600@carrollcountytourism.org
SUMMARY:Maryland Microbrewery Festival
DESCRIPTION:We are pleased once again to host this unique event to promote Maryland’s microbreweries. The Maryland Microbrewery Festival is the highlight and culminating event of Carroll County Beer Week. This fun-packed festival celebrates and promotes the best of Maryland’s handcrafted and distinctive microbrews. Come join the fun of Maryland’s premier beer festival! \nA wide selection of Maryland breweries\, each with a variety of different beers to sample.\nFood vendors.\nContinuous live music and entertainment.\nCrafts and unique merchandise vendors.\nSeminars to enhance the public’s knowledge of brewing\nHistoric Site – 16 acres of open\, beautifully maintained parkland with easy access.\nAmple parking\, both onsite and at the satellite parking lot–Park there and carpool! \nTickets are available at the event\, or get prepaid tickets in advance on the event website\, marylandmicrobreweryfestival.com. Limited admission: tickets sold on first-come\, first-served basis.
URL:https://carrollcountytourism.org/event/maryland-microbrewery-festival/
LOCATION:Union Mills Homestead\, 3311 Littlestown Pike\, Westminster\, MD\, 21158\, United States
CATEGORIES:Tourism Events
ATTACH;FMTTYPE=image/jpeg:https://carrollcountytourism.org/wp-content/uploads/2024/01/event_beerfestival2.jpg
ORGANIZER;CN="Union Mills Homestead":MAILTO:umhomestead@gmail.com
END:VEVENT
BEGIN:VEVENT
DTSTART;TZID=America/New_York:20261018T100000
DTEND;TZID=America/New_York:20261018T160000
DTSTAMP:20260420T142341
CREATED:20251211T195804Z
LAST-MODIFIED:20260108T212302Z
UID:10012656-1792317600-1792339200@carrollcountytourism.org
SUMMARY:Mason-Dixon Jeep Gathering
DESCRIPTION:Come out and see a large collection of Willys and Jeeps at the historic Union Mills Homestead. This is one of the largest vintage Jeep shows on the East Coast. This year is the 20th Anniversary of this annual event. See World War II and Korean War era military Jeeps and the civilian Jeeps and utility vehicles that are the grandfathers of today’s Jeeps & SUVs. \nJeeps can be entered into one of three categories at the show: Best Military Jeep\, Best CJ (Civilian Jeep) and Best Non-Jeep. The non-jeep category features Willys trucks and station wagons. Everyone in attendance will vote on each of the three categories to name the winners. \nTours of the Historic house and Mill available for a small fee from 10:00 am – 4:00 pm\, with the last tour starting at 3:00 pm. \nFood and drink will be available to purchase on site.
URL:https://carrollcountytourism.org/event/mason-dixon-jeep-gathering/
LOCATION:Union Mills Homestead\, 3311 Littlestown Pike\, Westminster\, MD\, 21158\, United States
CATEGORIES:Tourism Events
ATTACH;FMTTYPE=image/jpeg:https://carrollcountytourism.org/wp-content/uploads/2017/10/event_jeep.jpg
ORGANIZER;CN="Union Mills Homestead":MAILTO:umhomestead@gmail.com
END:VEVENT
BEGIN:VEVENT
DTSTART;TZID=America/New_York:20261121T100000
DTEND;TZID=America/New_York:20261121T160000
DTSTAMP:20260420T142341
CREATED:20251211T195915Z
LAST-MODIFIED:20260108T212250Z
UID:10012657-1795255200-1795276800@carrollcountytourism.org
SUMMARY:Union Mills Homestead Christkindlmarkt
DESCRIPTION:Come and join us for a German-style Christmas market. Food and drinks will be available to purchase\, along with a variety of hand-crafted and unique gifts from vendors in the Grist Mill and Tannery. Our gift shop will be open for your holiday shopping as will the blacksmith and woodworking shops. \nA portion of the historic Homestead will be decorated and open for you to visit. \nParking is onsite\, $5 per vehicle. Buses are extra\, please call for details! \nEnjoy the sights and sounds of the holiday season at Union Mills\, celebrating our German heritage!
URL:https://carrollcountytourism.org/event/christkindlmarkt/
LOCATION:Union Mills Homestead\, 3311 Littlestown Pike\, Westminster\, MD\, 21158\, United States
CATEGORIES:Tourism Events
ATTACH;FMTTYPE=image/jpeg:https://carrollcountytourism.org/wp-content/uploads/2019/08/event_UMChristKindlmarkt.jpg
ORGANIZER;CN="Union Mills Homestead":MAILTO:umhomestead@gmail.com
END:VEVENT
END:VCALENDAR