BEGIN:VCALENDAR
VERSION:2.0
PRODID:-//Carroll County Tourism | Carroll County, Maryland - ECPv6.15.17//NONSGML v1.0//EN
CALSCALE:GREGORIAN
METHOD:PUBLISH
X-WR-CALNAME:Carroll County Tourism | Carroll County, Maryland
X-ORIGINAL-URL:https://carrollcountytourism.org
X-WR-CALDESC:Events for Carroll County Tourism | Carroll County, Maryland
REFRESH-INTERVAL;VALUE=DURATION:PT1H
X-Robots-Tag:noindex
X-PUBLISHED-TTL:PT1H
BEGIN:VTIMEZONE
TZID:America/New_York
BEGIN:DAYLIGHT
TZOFFSETFROM:-0500
TZOFFSETTO:-0400
TZNAME:EDT
DTSTART:20250309T070000
END:DAYLIGHT
BEGIN:STANDARD
TZOFFSETFROM:-0400
TZOFFSETTO:-0500
TZNAME:EST
DTSTART:20251102T060000
END:STANDARD
BEGIN:DAYLIGHT
TZOFFSETFROM:-0500
TZOFFSETTO:-0400
TZNAME:EDT
DTSTART:20260308T070000
END:DAYLIGHT
BEGIN:STANDARD
TZOFFSETFROM:-0400
TZOFFSETTO:-0500
TZNAME:EST
DTSTART:20261101T060000
END:STANDARD
BEGIN:DAYLIGHT
TZOFFSETFROM:-0500
TZOFFSETTO:-0400
TZNAME:EDT
DTSTART:20270314T070000
END:DAYLIGHT
BEGIN:STANDARD
TZOFFSETFROM:-0400
TZOFFSETTO:-0500
TZNAME:EST
DTSTART:20271107T060000
END:STANDARD
END:VTIMEZONE
BEGIN:VEVENT
DTSTART;TZID=America/New_York:20260402T100000
DTEND;TZID=America/New_York:20260402T110000
DTSTAMP:20260420T233950
CREATED:20260219T133954Z
LAST-MODIFIED:20260219T133954Z
UID:10012908-1775124000-1775127600@carrollcountytourism.org
SUMMARY:The Great Egg Drop
DESCRIPTION:The Great Egg Drop\nwith Carroll County Recreation & Parks \n\n\n\nSchool’s out\, so get ready for an unforgettable adventure! We’re taking the classic egg hunt to new heights — literally!\n\n\nJoin us for The Great Egg Drop and watch as colorful eggs are dropped from a bucket truck high above\, creating an egg-citing experience for everyone. Once the eggs have fallen\, it’s a race to gather them up!\n\n\nOne parent per child may assist during the hunt. \n\n\n\nThursday\, April 2\, at Westminster Veterans Memorial Park\n\n\nTwo Drop Times:\nAges 1–4: 10:30 – 10:45 a.m. • Register here: https://bit.ly/3MHhRNs\nAges 5–9: 10:45 – 11:00 a.m. • Register here: https://bit.ly/3OmEoQi \n\n\n\nBring your basket\, your running shoes\, and get ready for high-flying fun!
URL:https://carrollcountytourism.org/event/the-great-egg-drop/
LOCATION:Westminster Veterans Memorial Park\, Crest Lane\, Westminster\, MD\, 21157\, United States
CATEGORIES:Tourism Events
ATTACH;FMTTYPE=image/jpeg:https://carrollcountytourism.org/wp-content/uploads/2026/02/event_eggdrop.jpg
END:VEVENT
END:VCALENDAR